| Back to Multiple platform build/check report for BioC 3.21: simplified long |
|
This page was generated on 2025-10-16 11:41 -0400 (Thu, 16 Oct 2025).
| Hostname | OS | Arch (*) | R version | Installed pkgs |
|---|---|---|---|---|
| nebbiolo1 | Linux (Ubuntu 24.04.3 LTS) | x86_64 | 4.5.1 (2025-06-13) -- "Great Square Root" | 4833 |
| merida1 | macOS 12.7.6 Monterey | x86_64 | 4.5.1 RC (2025-06-05 r88288) -- "Great Square Root" | 4614 |
| kjohnson1 | macOS 13.7.5 Ventura | arm64 | 4.5.1 Patched (2025-06-14 r88325) -- "Great Square Root" | 4555 |
| kunpeng2 | Linux (openEuler 24.03 LTS) | aarch64 | R Under development (unstable) (2025-02-19 r87757) -- "Unsuffered Consequences" | 4586 |
| Click on any hostname to see more info about the system (e.g. compilers) (*) as reported by 'uname -p', except on Windows and Mac OS X | ||||
| Package 412/2341 | Hostname | OS / Arch | INSTALL | BUILD | CHECK | BUILD BIN | ||||||||
| CoGAPS 3.28.0 (landing page) Elana J. Fertig
| nebbiolo1 | Linux (Ubuntu 24.04.3 LTS) / x86_64 | OK | OK | OK | |||||||||
| merida1 | macOS 12.7.6 Monterey / x86_64 | OK | OK | OK | OK | |||||||||
| kjohnson1 | macOS 13.7.5 Ventura / arm64 | OK | OK | OK | OK | |||||||||
| kunpeng2 | Linux (openEuler 24.03 LTS) / aarch64 | OK | OK | OK | ||||||||||
|
To the developers/maintainers of the CoGAPS package: - Allow up to 24 hours (and sometimes 48 hours) for your latest push to git@git.bioconductor.org:packages/CoGAPS.git to reflect on this report. See Troubleshooting Build Report for more information. - Use the following Renviron settings to reproduce errors and warnings. - If 'R CMD check' started to fail recently on the Linux builder(s) over a missing dependency, add the missing dependency to 'Suggests:' in your DESCRIPTION file. See Renviron.bioc for more information. - See Martin Grigorov's blog post for how to debug Linux ARM64 related issues on a x86_64 host. |
| Package: CoGAPS |
| Version: 3.28.0 |
| Command: /home/biocbuild/R/R/bin/R CMD INSTALL CoGAPS |
| StartedAt: 2025-10-13 20:32:07 -0000 (Mon, 13 Oct 2025) |
| EndedAt: 2025-10-13 20:35:30 -0000 (Mon, 13 Oct 2025) |
| EllapsedTime: 203.5 seconds |
| RetCode: 0 |
| Status: OK |
##############################################################################
##############################################################################
###
### Running command:
###
### /home/biocbuild/R/R/bin/R CMD INSTALL CoGAPS
###
##############################################################################
##############################################################################
* installing to library ‘/home/biocbuild/R/R-devel_2025-02-19/site-library’
* installing *source* package ‘CoGAPS’ ...
** this is package ‘CoGAPS’ version ‘3.28.0’
** using staged installation
checking whether the C++ compiler works... yes
checking for C++ compiler default output file name... a.out
checking for suffix of executables...
checking whether we are cross compiling... no
checking for suffix of object files... o
checking whether the compiler supports GNU C++... yes
checking whether /opt/ohpc/pub/compiler/gcc/14.2.0/bin/aarch64-unknown-linux-gnu-g++ -std=gnu++17 accepts -g... yes
checking for /opt/ohpc/pub/compiler/gcc/14.2.0/bin/aarch64-unknown-linux-gnu-g++ -std=gnu++17 option to enable C++11 features... none needed
checking how to run the C++ preprocessor... /opt/ohpc/pub/compiler/gcc/14.2.0/bin/aarch64-unknown-linux-gnu-g++ -std=gnu++17 -E
checking whether the compiler supports GNU C++... (cached) yes
checking whether /opt/ohpc/pub/compiler/gcc/14.2.0/bin/aarch64-unknown-linux-gnu-g++ -std=gnu++17 accepts -g... (cached) yes
checking for /opt/ohpc/pub/compiler/gcc/14.2.0/bin/aarch64-unknown-linux-gnu-g++ -std=gnu++17 option to enable C++11 features... (cached) none needed
./configure: line 3289: AX_COMPILER_VENDOR: command not found
./configure: line 3290: AX_COMPILER_VERSION: command not found
./configure: line 3303: AX_OPENMP: command not found
building on compiler version
Enabling C++ Unit Tests
configure: creating ./config.status
config.status: creating src/Makevars
** libs
using C++ compiler: ‘aarch64-unknown-linux-gnu-g++ (GCC) 14.2.0’
/opt/ohpc/pub/compiler/gcc/14.2.0/bin/aarch64-unknown-linux-gnu-g++ -std=gnu++17 -I"/home/biocbuild/R/R/include" -DNDEBUG -DBOOST_MATH_PROMOTE_DOUBLE_POLICY=0 -DGAPS_DISABLE_CHECKPOINTS -D__GAPS_R_BUILD__ -DGAPS_CPP_UNIT_TESTS -I'/home/biocbuild/R/R-devel_2025-02-19/site-library/Rcpp/include' -I'/home/biocbuild/R/R-devel_2025-02-19/site-library/BH/include' -I'/home/biocbuild/R/R-devel_2025-02-19/site-library/testthat/include' -I/usr/local/include -fPIC -g -O2 -Wall -Werror=format-security -c Cogaps.cpp -o Cogaps.o
/opt/ohpc/pub/compiler/gcc/14.2.0/bin/aarch64-unknown-linux-gnu-g++ -std=gnu++17 -I"/home/biocbuild/R/R/include" -DNDEBUG -DBOOST_MATH_PROMOTE_DOUBLE_POLICY=0 -DGAPS_DISABLE_CHECKPOINTS -D__GAPS_R_BUILD__ -DGAPS_CPP_UNIT_TESTS -I'/home/biocbuild/R/R-devel_2025-02-19/site-library/Rcpp/include' -I'/home/biocbuild/R/R-devel_2025-02-19/site-library/BH/include' -I'/home/biocbuild/R/R-devel_2025-02-19/site-library/testthat/include' -I/usr/local/include -fPIC -g -O2 -Wall -Werror=format-security -c GapsParameters.cpp -o GapsParameters.o
/opt/ohpc/pub/compiler/gcc/14.2.0/bin/aarch64-unknown-linux-gnu-g++ -std=gnu++17 -I"/home/biocbuild/R/R/include" -DNDEBUG -DBOOST_MATH_PROMOTE_DOUBLE_POLICY=0 -DGAPS_DISABLE_CHECKPOINTS -D__GAPS_R_BUILD__ -DGAPS_CPP_UNIT_TESTS -I'/home/biocbuild/R/R-devel_2025-02-19/site-library/Rcpp/include' -I'/home/biocbuild/R/R-devel_2025-02-19/site-library/BH/include' -I'/home/biocbuild/R/R-devel_2025-02-19/site-library/testthat/include' -I/usr/local/include -fPIC -g -O2 -Wall -Werror=format-security -c GapsResult.cpp -o GapsResult.o
/opt/ohpc/pub/compiler/gcc/14.2.0/bin/aarch64-unknown-linux-gnu-g++ -std=gnu++17 -I"/home/biocbuild/R/R/include" -DNDEBUG -DBOOST_MATH_PROMOTE_DOUBLE_POLICY=0 -DGAPS_DISABLE_CHECKPOINTS -D__GAPS_R_BUILD__ -DGAPS_CPP_UNIT_TESTS -I'/home/biocbuild/R/R-devel_2025-02-19/site-library/Rcpp/include' -I'/home/biocbuild/R/R-devel_2025-02-19/site-library/BH/include' -I'/home/biocbuild/R/R-devel_2025-02-19/site-library/testthat/include' -I/usr/local/include -fPIC -g -O2 -Wall -Werror=format-security -c GapsRunner.cpp -o GapsRunner.o
In file included from GapsRunner.cpp:8:
gibbs_sampler/AsynchronousGibbsSampler.h:105: warning: ignoring ‘#pragma omp parallel’ [-Wunknown-pragmas]
105 | #pragma omp parallel for num_threads(nThreads)
In file included from /home/biocbuild/R/R-devel_2025-02-19/site-library/BH/include/boost/mpl/aux_/na_assert.hpp:23,
from /home/biocbuild/R/R-devel_2025-02-19/site-library/BH/include/boost/mpl/arg.hpp:25,
from /home/biocbuild/R/R-devel_2025-02-19/site-library/BH/include/boost/mpl/placeholders.hpp:24,
from /home/biocbuild/R/R-devel_2025-02-19/site-library/BH/include/boost/iterator/iterator_categories.hpp:16,
from /home/biocbuild/R/R-devel_2025-02-19/site-library/BH/include/boost/iterator/iterator_facade.hpp:13,
from /home/biocbuild/R/R-devel_2025-02-19/site-library/BH/include/boost/range/iterator_range_core.hpp:27,
from /home/biocbuild/R/R-devel_2025-02-19/site-library/BH/include/boost/algorithm/string/replace.hpp:16,
from /home/biocbuild/R/R-devel_2025-02-19/site-library/BH/include/boost/date_time/date_facet.hpp:17,
from /home/biocbuild/R/R-devel_2025-02-19/site-library/BH/include/boost/date_time/gregorian/gregorian_io.hpp:16,
from /home/biocbuild/R/R-devel_2025-02-19/site-library/BH/include/boost/date_time/gregorian/gregorian.hpp:31,
from /home/biocbuild/R/R-devel_2025-02-19/site-library/BH/include/boost/date_time/posix_time/time_formatters.hpp:12,
from /home/biocbuild/R/R-devel_2025-02-19/site-library/BH/include/boost/date_time/posix_time/posix_time.hpp:24,
from GapsRunner.cpp:28:
/home/biocbuild/R/R-devel_2025-02-19/site-library/BH/include/boost/mpl/assert.hpp:194:21: warning: unnecessary parentheses in declaration of ‘assert_arg’ [-Wparentheses]
194 | failed ************ (Pred::************
| ^~~~~~~~~~~~~~~~~~~
195 | assert_arg( void (*)(Pred), typename assert_arg_pred<Pred>::type )
| ~~~~~~~~~~~~~~~~~~~~~~~~~~~~~~~~~~~~~~~~~~~~~~~~~~~~~~~~~~~~~~~~~~
196 | );
| ~
/home/biocbuild/R/R-devel_2025-02-19/site-library/BH/include/boost/mpl/assert.hpp:194:21: note: remove parentheses
194 | failed ************ (Pred::************
| ^~~~~~~~~~~~~~~~~~~
| -
195 | assert_arg( void (*)(Pred), typename assert_arg_pred<Pred>::type )
| ~~~~~~~~~~~~~~~~~~~~~~~~~~~~~~~~~~~~~~~~~~~~~~~~~~~~~~~~~~~~~~~~~~
196 | );
| ~
| -
/home/biocbuild/R/R-devel_2025-02-19/site-library/BH/include/boost/mpl/assert.hpp:199:21: warning: unnecessary parentheses in declaration of ‘assert_not_arg’ [-Wparentheses]
199 | failed ************ (boost::mpl::not_<Pred>::************
| ^~~~~~~~~~~~~~~~~~~~~~~~~~~~~~~~~~~~~
200 | assert_not_arg( void (*)(Pred), typename assert_arg_pred_not<Pred>::type )
| ~~~~~~~~~~~~~~~~~~~~~~~~~~~~~~~~~~~~~~~~~~~~~~~~~~~~~~~~~~~~~~~~~~~~~~~~~~
201 | );
| ~
/home/biocbuild/R/R-devel_2025-02-19/site-library/BH/include/boost/mpl/assert.hpp:199:21: note: remove parentheses
199 | failed ************ (boost::mpl::not_<Pred>::************
| ^~~~~~~~~~~~~~~~~~~~~~~~~~~~~~~~~~~~~
| -
200 | assert_not_arg( void (*)(Pred), typename assert_arg_pred_not<Pred>::type )
| ~~~~~~~~~~~~~~~~~~~~~~~~~~~~~~~~~~~~~~~~~~~~~~~~~~~~~~~~~~~~~~~~~~~~~~~~~~
201 | );
| ~
| -
/opt/ohpc/pub/compiler/gcc/14.2.0/bin/aarch64-unknown-linux-gnu-g++ -std=gnu++17 -I"/home/biocbuild/R/R/include" -DNDEBUG -DBOOST_MATH_PROMOTE_DOUBLE_POLICY=0 -DGAPS_DISABLE_CHECKPOINTS -D__GAPS_R_BUILD__ -DGAPS_CPP_UNIT_TESTS -I'/home/biocbuild/R/R-devel_2025-02-19/site-library/Rcpp/include' -I'/home/biocbuild/R/R-devel_2025-02-19/site-library/BH/include' -I'/home/biocbuild/R/R-devel_2025-02-19/site-library/testthat/include' -I/usr/local/include -fPIC -g -O2 -Wall -Werror=format-security -c GapsStatistics.cpp -o GapsStatistics.o
/opt/ohpc/pub/compiler/gcc/14.2.0/bin/aarch64-unknown-linux-gnu-g++ -std=gnu++17 -I"/home/biocbuild/R/R/include" -DNDEBUG -DBOOST_MATH_PROMOTE_DOUBLE_POLICY=0 -DGAPS_DISABLE_CHECKPOINTS -D__GAPS_R_BUILD__ -DGAPS_CPP_UNIT_TESTS -I'/home/biocbuild/R/R-devel_2025-02-19/site-library/Rcpp/include' -I'/home/biocbuild/R/R-devel_2025-02-19/site-library/BH/include' -I'/home/biocbuild/R/R-devel_2025-02-19/site-library/testthat/include' -I/usr/local/include -fPIC -g -O2 -Wall -Werror=format-security -c RcppExports.cpp -o RcppExports.o
/opt/ohpc/pub/compiler/gcc/14.2.0/bin/aarch64-unknown-linux-gnu-g++ -std=gnu++17 -I"/home/biocbuild/R/R/include" -DNDEBUG -DBOOST_MATH_PROMOTE_DOUBLE_POLICY=0 -DGAPS_DISABLE_CHECKPOINTS -D__GAPS_R_BUILD__ -DGAPS_CPP_UNIT_TESTS -I'/home/biocbuild/R/R-devel_2025-02-19/site-library/Rcpp/include' -I'/home/biocbuild/R/R-devel_2025-02-19/site-library/BH/include' -I'/home/biocbuild/R/R-devel_2025-02-19/site-library/testthat/include' -I/usr/local/include -fPIC -g -O2 -Wall -Werror=format-security -c test-runner.cpp -o test-runner.o
/opt/ohpc/pub/compiler/gcc/14.2.0/bin/aarch64-unknown-linux-gnu-g++ -std=gnu++17 -I"/home/biocbuild/R/R/include" -DNDEBUG -DBOOST_MATH_PROMOTE_DOUBLE_POLICY=0 -DGAPS_DISABLE_CHECKPOINTS -D__GAPS_R_BUILD__ -DGAPS_CPP_UNIT_TESTS -I'/home/biocbuild/R/R-devel_2025-02-19/site-library/Rcpp/include' -I'/home/biocbuild/R/R-devel_2025-02-19/site-library/BH/include' -I'/home/biocbuild/R/R-devel_2025-02-19/site-library/testthat/include' -I/usr/local/include -fPIC -g -O2 -Wall -Werror=format-security -c atomic/Atom.cpp -o atomic/Atom.o
/opt/ohpc/pub/compiler/gcc/14.2.0/bin/aarch64-unknown-linux-gnu-g++ -std=gnu++17 -I"/home/biocbuild/R/R/include" -DNDEBUG -DBOOST_MATH_PROMOTE_DOUBLE_POLICY=0 -DGAPS_DISABLE_CHECKPOINTS -D__GAPS_R_BUILD__ -DGAPS_CPP_UNIT_TESTS -I'/home/biocbuild/R/R-devel_2025-02-19/site-library/Rcpp/include' -I'/home/biocbuild/R/R-devel_2025-02-19/site-library/BH/include' -I'/home/biocbuild/R/R-devel_2025-02-19/site-library/testthat/include' -I/usr/local/include -fPIC -g -O2 -Wall -Werror=format-security -c atomic/ConcurrentAtom.cpp -o atomic/ConcurrentAtom.o
/opt/ohpc/pub/compiler/gcc/14.2.0/bin/aarch64-unknown-linux-gnu-g++ -std=gnu++17 -I"/home/biocbuild/R/R/include" -DNDEBUG -DBOOST_MATH_PROMOTE_DOUBLE_POLICY=0 -DGAPS_DISABLE_CHECKPOINTS -D__GAPS_R_BUILD__ -DGAPS_CPP_UNIT_TESTS -I'/home/biocbuild/R/R-devel_2025-02-19/site-library/Rcpp/include' -I'/home/biocbuild/R/R-devel_2025-02-19/site-library/BH/include' -I'/home/biocbuild/R/R-devel_2025-02-19/site-library/testthat/include' -I/usr/local/include -fPIC -g -O2 -Wall -Werror=format-security -c atomic/AtomicDomain.cpp -o atomic/AtomicDomain.o
/opt/ohpc/pub/compiler/gcc/14.2.0/bin/aarch64-unknown-linux-gnu-g++ -std=gnu++17 -I"/home/biocbuild/R/R/include" -DNDEBUG -DBOOST_MATH_PROMOTE_DOUBLE_POLICY=0 -DGAPS_DISABLE_CHECKPOINTS -D__GAPS_R_BUILD__ -DGAPS_CPP_UNIT_TESTS -I'/home/biocbuild/R/R-devel_2025-02-19/site-library/Rcpp/include' -I'/home/biocbuild/R/R-devel_2025-02-19/site-library/BH/include' -I'/home/biocbuild/R/R-devel_2025-02-19/site-library/testthat/include' -I/usr/local/include -fPIC -g -O2 -Wall -Werror=format-security -c atomic/ConcurrentAtomicDomain.cpp -o atomic/ConcurrentAtomicDomain.o
atomic/ConcurrentAtomicDomain.cpp:64: warning: ignoring ‘#pragma omp critical’ [-Wunknown-pragmas]
64 | #pragma omp critical(AtomicInsertOrErase)
/opt/ohpc/pub/compiler/gcc/14.2.0/bin/aarch64-unknown-linux-gnu-g++ -std=gnu++17 -I"/home/biocbuild/R/R/include" -DNDEBUG -DBOOST_MATH_PROMOTE_DOUBLE_POLICY=0 -DGAPS_DISABLE_CHECKPOINTS -D__GAPS_R_BUILD__ -DGAPS_CPP_UNIT_TESTS -I'/home/biocbuild/R/R-devel_2025-02-19/site-library/Rcpp/include' -I'/home/biocbuild/R/R-devel_2025-02-19/site-library/BH/include' -I'/home/biocbuild/R/R-devel_2025-02-19/site-library/testthat/include' -I/usr/local/include -fPIC -g -O2 -Wall -Werror=format-security -c atomic/ProposalQueue.cpp -o atomic/ProposalQueue.o
atomic/ProposalQueue.cpp:101: warning: ignoring ‘#pragma omp atomic’ [-Wunknown-pragmas]
101 | #pragma omp atomic
atomic/ProposalQueue.cpp:107: warning: ignoring ‘#pragma omp atomic’ [-Wunknown-pragmas]
107 | #pragma omp atomic
atomic/ProposalQueue.cpp:113: warning: ignoring ‘#pragma omp atomic’ [-Wunknown-pragmas]
113 | #pragma omp atomic
atomic/ProposalQueue.cpp:119: warning: ignoring ‘#pragma omp atomic’ [-Wunknown-pragmas]
119 | #pragma omp atomic
/opt/ohpc/pub/compiler/gcc/14.2.0/bin/aarch64-unknown-linux-gnu-g++ -std=gnu++17 -I"/home/biocbuild/R/R/include" -DNDEBUG -DBOOST_MATH_PROMOTE_DOUBLE_POLICY=0 -DGAPS_DISABLE_CHECKPOINTS -D__GAPS_R_BUILD__ -DGAPS_CPP_UNIT_TESTS -I'/home/biocbuild/R/R-devel_2025-02-19/site-library/Rcpp/include' -I'/home/biocbuild/R/R-devel_2025-02-19/site-library/BH/include' -I'/home/biocbuild/R/R-devel_2025-02-19/site-library/testthat/include' -I/usr/local/include -fPIC -g -O2 -Wall -Werror=format-security -c data_structures/HashSets.cpp -o data_structures/HashSets.o
/opt/ohpc/pub/compiler/gcc/14.2.0/bin/aarch64-unknown-linux-gnu-g++ -std=gnu++17 -I"/home/biocbuild/R/R/include" -DNDEBUG -DBOOST_MATH_PROMOTE_DOUBLE_POLICY=0 -DGAPS_DISABLE_CHECKPOINTS -D__GAPS_R_BUILD__ -DGAPS_CPP_UNIT_TESTS -I'/home/biocbuild/R/R-devel_2025-02-19/site-library/Rcpp/include' -I'/home/biocbuild/R/R-devel_2025-02-19/site-library/BH/include' -I'/home/biocbuild/R/R-devel_2025-02-19/site-library/testthat/include' -I/usr/local/include -fPIC -g -O2 -Wall -Werror=format-security -c data_structures/HybridMatrix.cpp -o data_structures/HybridMatrix.o
/opt/ohpc/pub/compiler/gcc/14.2.0/bin/aarch64-unknown-linux-gnu-g++ -std=gnu++17 -I"/home/biocbuild/R/R/include" -DNDEBUG -DBOOST_MATH_PROMOTE_DOUBLE_POLICY=0 -DGAPS_DISABLE_CHECKPOINTS -D__GAPS_R_BUILD__ -DGAPS_CPP_UNIT_TESTS -I'/home/biocbuild/R/R-devel_2025-02-19/site-library/Rcpp/include' -I'/home/biocbuild/R/R-devel_2025-02-19/site-library/BH/include' -I'/home/biocbuild/R/R-devel_2025-02-19/site-library/testthat/include' -I/usr/local/include -fPIC -g -O2 -Wall -Werror=format-security -c data_structures/HybridVector.cpp -o data_structures/HybridVector.o
data_structures/HybridVector.cpp:60: warning: ignoring ‘#pragma omp atomic’ [-Wunknown-pragmas]
60 | #pragma omp atomic
data_structures/HybridVector.cpp:65: warning: ignoring ‘#pragma omp atomic’ [-Wunknown-pragmas]
65 | #pragma omp atomic
data_structures/HybridVector.cpp:77: warning: ignoring ‘#pragma omp atomic’ [-Wunknown-pragmas]
77 | #pragma omp atomic
data_structures/HybridVector.cpp:82: warning: ignoring ‘#pragma omp atomic’ [-Wunknown-pragmas]
82 | #pragma omp atomic
/opt/ohpc/pub/compiler/gcc/14.2.0/bin/aarch64-unknown-linux-gnu-g++ -std=gnu++17 -I"/home/biocbuild/R/R/include" -DNDEBUG -DBOOST_MATH_PROMOTE_DOUBLE_POLICY=0 -DGAPS_DISABLE_CHECKPOINTS -D__GAPS_R_BUILD__ -DGAPS_CPP_UNIT_TESTS -I'/home/biocbuild/R/R-devel_2025-02-19/site-library/Rcpp/include' -I'/home/biocbuild/R/R-devel_2025-02-19/site-library/BH/include' -I'/home/biocbuild/R/R-devel_2025-02-19/site-library/testthat/include' -I/usr/local/include -fPIC -g -O2 -Wall -Werror=format-security -c data_structures/Matrix.cpp -o data_structures/Matrix.o
/opt/ohpc/pub/compiler/gcc/14.2.0/bin/aarch64-unknown-linux-gnu-g++ -std=gnu++17 -I"/home/biocbuild/R/R/include" -DNDEBUG -DBOOST_MATH_PROMOTE_DOUBLE_POLICY=0 -DGAPS_DISABLE_CHECKPOINTS -D__GAPS_R_BUILD__ -DGAPS_CPP_UNIT_TESTS -I'/home/biocbuild/R/R-devel_2025-02-19/site-library/Rcpp/include' -I'/home/biocbuild/R/R-devel_2025-02-19/site-library/BH/include' -I'/home/biocbuild/R/R-devel_2025-02-19/site-library/testthat/include' -I/usr/local/include -fPIC -g -O2 -Wall -Werror=format-security -c data_structures/SparseIterator.cpp -o data_structures/SparseIterator.o
/opt/ohpc/pub/compiler/gcc/14.2.0/bin/aarch64-unknown-linux-gnu-g++ -std=gnu++17 -I"/home/biocbuild/R/R/include" -DNDEBUG -DBOOST_MATH_PROMOTE_DOUBLE_POLICY=0 -DGAPS_DISABLE_CHECKPOINTS -D__GAPS_R_BUILD__ -DGAPS_CPP_UNIT_TESTS -I'/home/biocbuild/R/R-devel_2025-02-19/site-library/Rcpp/include' -I'/home/biocbuild/R/R-devel_2025-02-19/site-library/BH/include' -I'/home/biocbuild/R/R-devel_2025-02-19/site-library/testthat/include' -I/usr/local/include -fPIC -g -O2 -Wall -Werror=format-security -c data_structures/SparseMatrix.cpp -o data_structures/SparseMatrix.o
/opt/ohpc/pub/compiler/gcc/14.2.0/bin/aarch64-unknown-linux-gnu-g++ -std=gnu++17 -I"/home/biocbuild/R/R/include" -DNDEBUG -DBOOST_MATH_PROMOTE_DOUBLE_POLICY=0 -DGAPS_DISABLE_CHECKPOINTS -D__GAPS_R_BUILD__ -DGAPS_CPP_UNIT_TESTS -I'/home/biocbuild/R/R-devel_2025-02-19/site-library/Rcpp/include' -I'/home/biocbuild/R/R-devel_2025-02-19/site-library/BH/include' -I'/home/biocbuild/R/R-devel_2025-02-19/site-library/testthat/include' -I/usr/local/include -fPIC -g -O2 -Wall -Werror=format-security -c data_structures/SparseVector.cpp -o data_structures/SparseVector.o
/opt/ohpc/pub/compiler/gcc/14.2.0/bin/aarch64-unknown-linux-gnu-g++ -std=gnu++17 -I"/home/biocbuild/R/R/include" -DNDEBUG -DBOOST_MATH_PROMOTE_DOUBLE_POLICY=0 -DGAPS_DISABLE_CHECKPOINTS -D__GAPS_R_BUILD__ -DGAPS_CPP_UNIT_TESTS -I'/home/biocbuild/R/R-devel_2025-02-19/site-library/Rcpp/include' -I'/home/biocbuild/R/R-devel_2025-02-19/site-library/BH/include' -I'/home/biocbuild/R/R-devel_2025-02-19/site-library/testthat/include' -I/usr/local/include -fPIC -g -O2 -Wall -Werror=format-security -c data_structures/Vector.cpp -o data_structures/Vector.o
/opt/ohpc/pub/compiler/gcc/14.2.0/bin/aarch64-unknown-linux-gnu-g++ -std=gnu++17 -I"/home/biocbuild/R/R/include" -DNDEBUG -DBOOST_MATH_PROMOTE_DOUBLE_POLICY=0 -DGAPS_DISABLE_CHECKPOINTS -D__GAPS_R_BUILD__ -DGAPS_CPP_UNIT_TESTS -I'/home/biocbuild/R/R-devel_2025-02-19/site-library/Rcpp/include' -I'/home/biocbuild/R/R-devel_2025-02-19/site-library/BH/include' -I'/home/biocbuild/R/R-devel_2025-02-19/site-library/testthat/include' -I/usr/local/include -fPIC -g -O2 -Wall -Werror=format-security -c file_parser/CharacterDelimitedParser.cpp -o file_parser/CharacterDelimitedParser.o
/opt/ohpc/pub/compiler/gcc/14.2.0/bin/aarch64-unknown-linux-gnu-g++ -std=gnu++17 -I"/home/biocbuild/R/R/include" -DNDEBUG -DBOOST_MATH_PROMOTE_DOUBLE_POLICY=0 -DGAPS_DISABLE_CHECKPOINTS -D__GAPS_R_BUILD__ -DGAPS_CPP_UNIT_TESTS -I'/home/biocbuild/R/R-devel_2025-02-19/site-library/Rcpp/include' -I'/home/biocbuild/R/R-devel_2025-02-19/site-library/BH/include' -I'/home/biocbuild/R/R-devel_2025-02-19/site-library/testthat/include' -I/usr/local/include -fPIC -g -O2 -Wall -Werror=format-security -c file_parser/FileParser.cpp -o file_parser/FileParser.o
/opt/ohpc/pub/compiler/gcc/14.2.0/bin/aarch64-unknown-linux-gnu-g++ -std=gnu++17 -I"/home/biocbuild/R/R/include" -DNDEBUG -DBOOST_MATH_PROMOTE_DOUBLE_POLICY=0 -DGAPS_DISABLE_CHECKPOINTS -D__GAPS_R_BUILD__ -DGAPS_CPP_UNIT_TESTS -I'/home/biocbuild/R/R-devel_2025-02-19/site-library/Rcpp/include' -I'/home/biocbuild/R/R-devel_2025-02-19/site-library/BH/include' -I'/home/biocbuild/R/R-devel_2025-02-19/site-library/testthat/include' -I/usr/local/include -fPIC -g -O2 -Wall -Werror=format-security -c file_parser/MatrixElement.cpp -o file_parser/MatrixElement.o
/opt/ohpc/pub/compiler/gcc/14.2.0/bin/aarch64-unknown-linux-gnu-g++ -std=gnu++17 -I"/home/biocbuild/R/R/include" -DNDEBUG -DBOOST_MATH_PROMOTE_DOUBLE_POLICY=0 -DGAPS_DISABLE_CHECKPOINTS -D__GAPS_R_BUILD__ -DGAPS_CPP_UNIT_TESTS -I'/home/biocbuild/R/R-devel_2025-02-19/site-library/Rcpp/include' -I'/home/biocbuild/R/R-devel_2025-02-19/site-library/BH/include' -I'/home/biocbuild/R/R-devel_2025-02-19/site-library/testthat/include' -I/usr/local/include -fPIC -g -O2 -Wall -Werror=format-security -c file_parser/MtxParser.cpp -o file_parser/MtxParser.o
/opt/ohpc/pub/compiler/gcc/14.2.0/bin/aarch64-unknown-linux-gnu-g++ -std=gnu++17 -I"/home/biocbuild/R/R/include" -DNDEBUG -DBOOST_MATH_PROMOTE_DOUBLE_POLICY=0 -DGAPS_DISABLE_CHECKPOINTS -D__GAPS_R_BUILD__ -DGAPS_CPP_UNIT_TESTS -I'/home/biocbuild/R/R-devel_2025-02-19/site-library/Rcpp/include' -I'/home/biocbuild/R/R-devel_2025-02-19/site-library/BH/include' -I'/home/biocbuild/R/R-devel_2025-02-19/site-library/testthat/include' -I/usr/local/include -fPIC -g -O2 -Wall -Werror=format-security -c gibbs_sampler/AlphaParameters.cpp -o gibbs_sampler/AlphaParameters.o
/opt/ohpc/pub/compiler/gcc/14.2.0/bin/aarch64-unknown-linux-gnu-g++ -std=gnu++17 -I"/home/biocbuild/R/R/include" -DNDEBUG -DBOOST_MATH_PROMOTE_DOUBLE_POLICY=0 -DGAPS_DISABLE_CHECKPOINTS -D__GAPS_R_BUILD__ -DGAPS_CPP_UNIT_TESTS -I'/home/biocbuild/R/R-devel_2025-02-19/site-library/Rcpp/include' -I'/home/biocbuild/R/R-devel_2025-02-19/site-library/BH/include' -I'/home/biocbuild/R/R-devel_2025-02-19/site-library/testthat/include' -I/usr/local/include -fPIC -g -O2 -Wall -Werror=format-security -c gibbs_sampler/DenseNormalModel.cpp -o gibbs_sampler/DenseNormalModel.o
gibbs_sampler/DenseNormalModel.cpp:26: warning: ignoring ‘#pragma omp parallel’ [-Wunknown-pragmas]
26 | #pragma omp parallel for num_threads(nThreads)
/opt/ohpc/pub/compiler/gcc/14.2.0/bin/aarch64-unknown-linux-gnu-g++ -std=gnu++17 -I"/home/biocbuild/R/R/include" -DNDEBUG -DBOOST_MATH_PROMOTE_DOUBLE_POLICY=0 -DGAPS_DISABLE_CHECKPOINTS -D__GAPS_R_BUILD__ -DGAPS_CPP_UNIT_TESTS -I'/home/biocbuild/R/R-devel_2025-02-19/site-library/Rcpp/include' -I'/home/biocbuild/R/R-devel_2025-02-19/site-library/BH/include' -I'/home/biocbuild/R/R-devel_2025-02-19/site-library/testthat/include' -I/usr/local/include -fPIC -g -O2 -Wall -Werror=format-security -c gibbs_sampler/SparseNormalModel.cpp -o gibbs_sampler/SparseNormalModel.o
/opt/ohpc/pub/compiler/gcc/14.2.0/bin/aarch64-unknown-linux-gnu-g++ -std=gnu++17 -I"/home/biocbuild/R/R/include" -DNDEBUG -DBOOST_MATH_PROMOTE_DOUBLE_POLICY=0 -DGAPS_DISABLE_CHECKPOINTS -D__GAPS_R_BUILD__ -DGAPS_CPP_UNIT_TESTS -I'/home/biocbuild/R/R-devel_2025-02-19/site-library/Rcpp/include' -I'/home/biocbuild/R/R-devel_2025-02-19/site-library/BH/include' -I'/home/biocbuild/R/R-devel_2025-02-19/site-library/testthat/include' -I/usr/local/include -fPIC -g -O2 -Wall -Werror=format-security -c math/Math.cpp -o math/Math.o
In file included from /home/biocbuild/R/R-devel_2025-02-19/site-library/BH/include/boost/math/distributions/gamma.hpp:18,
from math/Math.cpp:5:
/home/biocbuild/R/R-devel_2025-02-19/site-library/BH/include/boost/math/special_functions/gamma.hpp: In instantiation of ‘boost::math::detail::upper_incomplete_gamma_fract<T>::result_type boost::math::detail::upper_incomplete_gamma_fract<T>::operator()() [with T = double; result_type = std::pair<double, double>]’:
/home/biocbuild/R/R-devel_2025-02-19/site-library/BH/include/boost/math/tools/fraction.hpp:259:20: required from ‘typename boost::math::tools::detail::fraction_traits<Gen>::result_type boost::math::tools::detail::continued_fraction_a_impl(Gen&, const U&, uintmax_t&) [with Gen = boost::math::detail::upper_incomplete_gamma_fract<double>; U = double; typename fraction_traits<Gen>::result_type = double; uintmax_t = long unsigned int]’
259 | value_type v = g();
| ~^~
/home/biocbuild/R/R-devel_2025-02-19/site-library/BH/include/boost/math/tools/fraction.hpp:311:44: required from ‘typename boost::math::tools::detail::fraction_traits<Gen>::result_type boost::math::tools::continued_fraction_a(Gen&, const U&) [with Gen = boost::math::detail::upper_incomplete_gamma_fract<double>; U = double; typename detail::fraction_traits<Gen>::result_type = double]’
311 | return detail::continued_fraction_a_impl(g, factor, max_iter);
| ~~~~~~~~~~~~~~~~~~~~~~~~~~~~~~~~~^~~~~~~~~~~~~~~~~~~~~
/home/biocbuild/R/R-devel_2025-02-19/site-library/BH/include/boost/math/special_functions/gamma.hpp:378:68: required from ‘T boost::math::detail::upper_gamma_fraction(T, T, T) [with T = double]’
378 | return 1 / (z - a + 1 + boost::math::tools::continued_fraction_a(f, eps));
| ~~~~~~~~~~~~~~~~~~~~~~~~~~~~~~~~~~~~~~~~^~~~~~~~
/home/biocbuild/R/R-devel_2025-02-19/site-library/BH/include/boost/math/special_functions/gamma.hpp:1679:44: required from ‘T boost::math::detail::gamma_incomplete_imp(T, T, bool, bool, const Policy&, T*) [with T = double; Policy = boost::math::policies::policy<boost::math::policies::promote_float<false>, boost::math::policies::default_policy, boost::math::policies::default_policy, boost::math::policies::default_policy, boost::math::policies::default_policy, boost::math::policies::default_policy, boost::math::policies::default_policy, boost::math::policies::default_policy, boost::math::policies::default_policy, boost::math::policies::default_policy, boost::math::policies::default_policy>]’
1679 | result += log(upper_gamma_fraction(a, x, policies::get_epsilon<T, Policy>()));
| ~~~~~~~~~~~~~~~~~~~~^~~~~~~~~~~~~~~~~~~~~~~~~~~~~~~~~~~~~~~~~~
/home/biocbuild/R/R-devel_2025-02-19/site-library/BH/include/boost/math/special_functions/gamma.hpp:2461:35: required from ‘boost::math::tools::promote_args_t<RT1, RT2> boost::math::gamma_p(RT1, RT2, const Policy&) [with RT1 = double; RT2 = double; Policy = policies::policy<policies::default_policy, policies::default_policy, policies::default_policy, policies::default_policy, policies::default_policy, policies::default_policy, policies::default_policy, policies::default_policy, policies::default_policy, policies::default_policy, policies::default_policy>; tools::promote_args_t<RT1, RT2> = double]’
2461 | detail::gamma_incomplete_imp(static_cast<value_type>(a),
| ~~~~~~~~~~~~~~~~~~~~~~~~~~~~^~~~~~~~~~~~~~~~~~~~~~~~~~~~
2462 | static_cast<value_type>(z), true, false,
| ~~~~~~~~~~~~~~~~~~~~~~~~~~~~~~~~~~~~~~~~
2463 | forwarding_policy(), static_cast<value_type*>(nullptr)), "gamma_p<%1%>(%1%, %1%)");
| ~~~~~~~~~~~~~~~~~~~~~~~~~~~~~~~~~~~~~~~~~~~~~~~~~~~~~~~
/home/biocbuild/R/R-devel_2025-02-19/site-library/BH/include/boost/math/distributions/gamma.hpp:195:33: required from ‘RealType boost::math::cdf(const gamma_distribution<RealType, Policy>&, const RealType&) [with RealType = double; Policy = policies::policy<policies::default_policy, policies::default_policy, policies::default_policy, policies::default_policy, policies::default_policy, policies::default_policy, policies::default_policy, policies::default_policy, policies::default_policy, policies::default_policy, policies::default_policy>]’
195 | result = boost::math::gamma_p(shape, x / scale, Policy());
| ~~~~~~~~~~~~~~~~~~~~^~~~~~~~~~~~~~~~~~~~~~~~~~~~
/home/biocbuild/R/R-devel_2025-02-19/site-library/BH/include/boost/math/distributions/detail/derived_accessors.hpp:128:14: required from ‘typename Distribution::value_type boost::math::cdf(const Distribution&, const RealType&) [with Distribution = gamma_distribution<>; RealType = float; typename Distribution::value_type = double]’
128 | return cdf(dist, static_cast<value_type>(x));
| ~~~^~~~~~~~~~~~~~~~~~~~~~~~~~~~~~~~~~
math/Math.cpp:52:15: required from here
52 | return cdf(gam, p);
| ~~~^~~~~~~~
/home/biocbuild/R/R-devel_2025-02-19/site-library/BH/include/boost/math/special_functions/gamma.hpp:363:39: note: parameter passing for argument of type ‘std::pair<double, double>’ when C++17 is enabled changed to match C++14 in GCC 10.1
363 | BOOST_MATH_GPU_ENABLED result_type operator()()
| ^~~~~~~~
/opt/ohpc/pub/compiler/gcc/14.2.0/bin/aarch64-unknown-linux-gnu-g++ -std=gnu++17 -I"/home/biocbuild/R/R/include" -DNDEBUG -DBOOST_MATH_PROMOTE_DOUBLE_POLICY=0 -DGAPS_DISABLE_CHECKPOINTS -D__GAPS_R_BUILD__ -DGAPS_CPP_UNIT_TESTS -I'/home/biocbuild/R/R-devel_2025-02-19/site-library/Rcpp/include' -I'/home/biocbuild/R/R-devel_2025-02-19/site-library/BH/include' -I'/home/biocbuild/R/R-devel_2025-02-19/site-library/testthat/include' -I/usr/local/include -fPIC -g -O2 -Wall -Werror=format-security -c math/MatrixMath.cpp -o math/MatrixMath.o
/opt/ohpc/pub/compiler/gcc/14.2.0/bin/aarch64-unknown-linux-gnu-g++ -std=gnu++17 -I"/home/biocbuild/R/R/include" -DNDEBUG -DBOOST_MATH_PROMOTE_DOUBLE_POLICY=0 -DGAPS_DISABLE_CHECKPOINTS -D__GAPS_R_BUILD__ -DGAPS_CPP_UNIT_TESTS -I'/home/biocbuild/R/R-devel_2025-02-19/site-library/Rcpp/include' -I'/home/biocbuild/R/R-devel_2025-02-19/site-library/BH/include' -I'/home/biocbuild/R/R-devel_2025-02-19/site-library/testthat/include' -I/usr/local/include -fPIC -g -O2 -Wall -Werror=format-security -c math/Random.cpp -o math/Random.o
/opt/ohpc/pub/compiler/gcc/14.2.0/bin/aarch64-unknown-linux-gnu-g++ -std=gnu++17 -I"/home/biocbuild/R/R/include" -DNDEBUG -DBOOST_MATH_PROMOTE_DOUBLE_POLICY=0 -DGAPS_DISABLE_CHECKPOINTS -D__GAPS_R_BUILD__ -DGAPS_CPP_UNIT_TESTS -I'/home/biocbuild/R/R-devel_2025-02-19/site-library/Rcpp/include' -I'/home/biocbuild/R/R-devel_2025-02-19/site-library/BH/include' -I'/home/biocbuild/R/R-devel_2025-02-19/site-library/testthat/include' -I/usr/local/include -fPIC -g -O2 -Wall -Werror=format-security -c math/VectorMath.cpp -o math/VectorMath.o
/opt/ohpc/pub/compiler/gcc/14.2.0/bin/aarch64-unknown-linux-gnu-g++ -std=gnu++17 -I"/home/biocbuild/R/R/include" -DNDEBUG -DBOOST_MATH_PROMOTE_DOUBLE_POLICY=0 -DGAPS_DISABLE_CHECKPOINTS -D__GAPS_R_BUILD__ -DGAPS_CPP_UNIT_TESTS -I'/home/biocbuild/R/R-devel_2025-02-19/site-library/Rcpp/include' -I'/home/biocbuild/R/R-devel_2025-02-19/site-library/BH/include' -I'/home/biocbuild/R/R-devel_2025-02-19/site-library/testthat/include' -I/usr/local/include -fPIC -g -O2 -Wall -Werror=format-security -c cpp_tests/testVector.cpp -o cpp_tests/testVector.o
/opt/ohpc/pub/compiler/gcc/14.2.0/bin/aarch64-unknown-linux-gnu-g++ -std=gnu++17 -I"/home/biocbuild/R/R/include" -DNDEBUG -DBOOST_MATH_PROMOTE_DOUBLE_POLICY=0 -DGAPS_DISABLE_CHECKPOINTS -D__GAPS_R_BUILD__ -DGAPS_CPP_UNIT_TESTS -I'/home/biocbuild/R/R-devel_2025-02-19/site-library/Rcpp/include' -I'/home/biocbuild/R/R-devel_2025-02-19/site-library/BH/include' -I'/home/biocbuild/R/R-devel_2025-02-19/site-library/testthat/include' -I/usr/local/include -fPIC -g -O2 -Wall -Werror=format-security -c cpp_tests/testSparseVector.cpp -o cpp_tests/testSparseVector.o
/opt/ohpc/pub/compiler/gcc/14.2.0/bin/aarch64-unknown-linux-gnu-g++ -std=gnu++17 -I"/home/biocbuild/R/R/include" -DNDEBUG -DBOOST_MATH_PROMOTE_DOUBLE_POLICY=0 -DGAPS_DISABLE_CHECKPOINTS -D__GAPS_R_BUILD__ -DGAPS_CPP_UNIT_TESTS -I'/home/biocbuild/R/R-devel_2025-02-19/site-library/Rcpp/include' -I'/home/biocbuild/R/R-devel_2025-02-19/site-library/BH/include' -I'/home/biocbuild/R/R-devel_2025-02-19/site-library/testthat/include' -I/usr/local/include -fPIC -g -O2 -Wall -Werror=format-security -c cpp_tests/testHashSets.cpp -o cpp_tests/testHashSets.o
/opt/ohpc/pub/compiler/gcc/14.2.0/bin/aarch64-unknown-linux-gnu-g++ -std=gnu++17 -I"/home/biocbuild/R/R/include" -DNDEBUG -DBOOST_MATH_PROMOTE_DOUBLE_POLICY=0 -DGAPS_DISABLE_CHECKPOINTS -D__GAPS_R_BUILD__ -DGAPS_CPP_UNIT_TESTS -I'/home/biocbuild/R/R-devel_2025-02-19/site-library/Rcpp/include' -I'/home/biocbuild/R/R-devel_2025-02-19/site-library/BH/include' -I'/home/biocbuild/R/R-devel_2025-02-19/site-library/testthat/include' -I/usr/local/include -fPIC -g -O2 -Wall -Werror=format-security -c cpp_tests/testHybridMatrix.cpp -o cpp_tests/testHybridMatrix.o
/opt/ohpc/pub/compiler/gcc/14.2.0/bin/aarch64-unknown-linux-gnu-g++ -std=gnu++17 -I"/home/biocbuild/R/R/include" -DNDEBUG -DBOOST_MATH_PROMOTE_DOUBLE_POLICY=0 -DGAPS_DISABLE_CHECKPOINTS -D__GAPS_R_BUILD__ -DGAPS_CPP_UNIT_TESTS -I'/home/biocbuild/R/R-devel_2025-02-19/site-library/Rcpp/include' -I'/home/biocbuild/R/R-devel_2025-02-19/site-library/BH/include' -I'/home/biocbuild/R/R-devel_2025-02-19/site-library/testthat/include' -I/usr/local/include -fPIC -g -O2 -Wall -Werror=format-security -c cpp_tests/testHybridVector.cpp -o cpp_tests/testHybridVector.o
/opt/ohpc/pub/compiler/gcc/14.2.0/bin/aarch64-unknown-linux-gnu-g++ -std=gnu++17 -I"/home/biocbuild/R/R/include" -DNDEBUG -DBOOST_MATH_PROMOTE_DOUBLE_POLICY=0 -DGAPS_DISABLE_CHECKPOINTS -D__GAPS_R_BUILD__ -DGAPS_CPP_UNIT_TESTS -I'/home/biocbuild/R/R-devel_2025-02-19/site-library/Rcpp/include' -I'/home/biocbuild/R/R-devel_2025-02-19/site-library/BH/include' -I'/home/biocbuild/R/R-devel_2025-02-19/site-library/testthat/include' -I/usr/local/include -fPIC -g -O2 -Wall -Werror=format-security -c cpp_tests/testSparseIterator.cpp -o cpp_tests/testSparseIterator.o
/opt/ohpc/pub/compiler/gcc/14.2.0/bin/aarch64-unknown-linux-gnu-g++ -std=gnu++17 -shared -L/home/biocbuild/R/R/lib -L/usr/local/lib -o CoGAPS.so Cogaps.o GapsParameters.o GapsResult.o GapsRunner.o GapsStatistics.o RcppExports.o test-runner.o atomic/Atom.o atomic/ConcurrentAtom.o atomic/AtomicDomain.o atomic/ConcurrentAtomicDomain.o atomic/ProposalQueue.o data_structures/HashSets.o data_structures/HybridMatrix.o data_structures/HybridVector.o data_structures/Matrix.o data_structures/SparseIterator.o data_structures/SparseMatrix.o data_structures/SparseVector.o data_structures/Vector.o file_parser/CharacterDelimitedParser.o file_parser/FileParser.o file_parser/MatrixElement.o file_parser/MtxParser.o gibbs_sampler/AlphaParameters.o gibbs_sampler/DenseNormalModel.o gibbs_sampler/SparseNormalModel.o math/Math.o math/MatrixMath.o math/Random.o math/VectorMath.o cpp_tests/testVector.o cpp_tests/testSparseVector.o cpp_tests/testHashSets.o cpp_tests/testHybridMatrix.o cpp_tests/testHybridVector.o cpp_tests/testSparseIterator.o -L/home/biocbuild/R/R/lib -lR
installing to /home/biocbuild/R/R-devel_2025-02-19/site-library/00LOCK-CoGAPS/00new/CoGAPS/libs
** R
** data
** inst
** byte-compile and prepare package for lazy loading
** help
*** installing help indices
** building package indices
** installing vignettes
** testing if installed package can be loaded from temporary location
** checking absolute paths in shared objects and dynamic libraries
** testing if installed package can be loaded from final location
** testing if installed package keeps a record of temporary installation path
* DONE (CoGAPS)