| Back to Multiple platform build/check report for BioC 3.21: simplified long |
|
This page was generated on 2025-10-16 11:38 -0400 (Thu, 16 Oct 2025).
| Hostname | OS | Arch (*) | R version | Installed pkgs |
|---|---|---|---|---|
| nebbiolo1 | Linux (Ubuntu 24.04.3 LTS) | x86_64 | 4.5.1 (2025-06-13) -- "Great Square Root" | 4833 |
| merida1 | macOS 12.7.6 Monterey | x86_64 | 4.5.1 RC (2025-06-05 r88288) -- "Great Square Root" | 4614 |
| kjohnson1 | macOS 13.7.5 Ventura | arm64 | 4.5.1 Patched (2025-06-14 r88325) -- "Great Square Root" | 4555 |
| kunpeng2 | Linux (openEuler 24.03 LTS) | aarch64 | R Under development (unstable) (2025-02-19 r87757) -- "Unsuffered Consequences" | 4586 |
| Click on any hostname to see more info about the system (e.g. compilers) (*) as reported by 'uname -p', except on Windows and Mac OS X | ||||
| Package 352/2341 | Hostname | OS / Arch | INSTALL | BUILD | CHECK | BUILD BIN | ||||||||
| ChromHeatMap 1.62.0 (landing page) Tim F. Rayner
| nebbiolo1 | Linux (Ubuntu 24.04.3 LTS) / x86_64 | OK | OK | OK | |||||||||
| merida1 | macOS 12.7.6 Monterey / x86_64 | OK | OK | OK | OK | |||||||||
| kjohnson1 | macOS 13.7.5 Ventura / arm64 | OK | OK | OK | OK | |||||||||
| kunpeng2 | Linux (openEuler 24.03 LTS) / aarch64 | OK | OK | OK | ||||||||||
|
To the developers/maintainers of the ChromHeatMap package: - Allow up to 24 hours (and sometimes 48 hours) for your latest push to git@git.bioconductor.org:packages/ChromHeatMap.git to reflect on this report. See Troubleshooting Build Report for more information. - Use the following Renviron settings to reproduce errors and warnings. - If 'R CMD check' started to fail recently on the Linux builder(s) over a missing dependency, add the missing dependency to 'Suggests:' in your DESCRIPTION file. See Renviron.bioc for more information. |
| Package: ChromHeatMap |
| Version: 1.62.0 |
| Command: /Library/Frameworks/R.framework/Resources/bin/R CMD check --install=check:ChromHeatMap.install-out.txt --library=/Library/Frameworks/R.framework/Resources/library --no-vignettes --timings ChromHeatMap_1.62.0.tar.gz |
| StartedAt: 2025-10-14 01:26:33 -0400 (Tue, 14 Oct 2025) |
| EndedAt: 2025-10-14 01:34:12 -0400 (Tue, 14 Oct 2025) |
| EllapsedTime: 459.1 seconds |
| RetCode: 0 |
| Status: OK |
| CheckDir: ChromHeatMap.Rcheck |
| Warnings: 0 |
##############################################################################
##############################################################################
###
### Running command:
###
### /Library/Frameworks/R.framework/Resources/bin/R CMD check --install=check:ChromHeatMap.install-out.txt --library=/Library/Frameworks/R.framework/Resources/library --no-vignettes --timings ChromHeatMap_1.62.0.tar.gz
###
##############################################################################
##############################################################################
* using log directory ‘/Users/biocbuild/bbs-3.21-bioc/meat/ChromHeatMap.Rcheck’
* using R version 4.5.1 RC (2025-06-05 r88288)
* using platform: x86_64-apple-darwin20
* R was compiled by
Apple clang version 14.0.0 (clang-1400.0.29.202)
GNU Fortran (GCC) 14.2.0
* running under: macOS Monterey 12.7.6
* using session charset: UTF-8
* using option ‘--no-vignettes’
* checking for file ‘ChromHeatMap/DESCRIPTION’ ... OK
* this is package ‘ChromHeatMap’ version ‘1.62.0’
* checking package namespace information ... OK
* checking package dependencies ... OK
* checking if this is a source package ... OK
* checking if there is a namespace ... OK
* checking for hidden files and directories ... OK
* checking for portable file names ... OK
* checking for sufficient/correct file permissions ... OK
* checking whether package ‘ChromHeatMap’ can be installed ... OK
* checking installed package size ... OK
* checking package directory ... OK
* checking ‘build’ directory ... OK
* checking DESCRIPTION meta-information ... OK
* checking top-level files ... OK
* checking for left-over files ... OK
* checking index information ... OK
* checking package subdirectories ... OK
* checking code files for non-ASCII characters ... OK
* checking R files for syntax errors ... OK
* checking whether the package can be loaded ... OK
* checking whether the package can be loaded with stated dependencies ... OK
* checking whether the package can be unloaded cleanly ... OK
* checking whether the namespace can be loaded with stated dependencies ... OK
* checking whether the namespace can be unloaded cleanly ... OK
* checking dependencies in R code ... OK
* checking S3 generic/method consistency ... OK
* checking replacement functions ... OK
* checking foreign function calls ... OK
* checking R code for possible problems ... NOTE
createChrMatrix: no visible global function definition for ‘new’
makeRangedDataList : .makeGRanges: no visible global function
definition for ‘as’
plotChrMap: no visible global function definition for ‘new’
makeChrStrandData,matrix: no visible global function definition for
‘new’
Undefined global functions or variables:
as new
Consider adding
importFrom("methods", "as", "new")
to your NAMESPACE file (and ensure that your DESCRIPTION Imports field
contains 'methods').
* checking Rd files ... NOTE
checkRd: (-1) ALLs.chr22.Rd:16: Lost braces in \itemize; meant \describe ?
checkRd: (-1) ALLs.chr22.Rd:17-19: Lost braces in \itemize; meant \describe ?
checkRd: (-1) cytobands.Rd:15: Lost braces in \itemize; meant \describe ?
checkRd: (-1) cytobands.Rd:16: Lost braces in \itemize; meant \describe ?
checkRd: (-1) cytobands.Rd:17: Lost braces in \itemize; meant \describe ?
checkRd: (-1) cytobands.Rd:18: Lost braces in \itemize; meant \describe ?
checkRd: (-1) cytobands.Rd:19: Lost braces in \itemize; meant \describe ?
checkRd: (-1) cytobands.Rd:20: Lost braces in \itemize; meant \describe ?
checkRd: (-1) stains.Rd:12-13: Lost braces in \itemize; meant \describe ?
checkRd: (-1) stains.Rd:15-17: Lost braces in \itemize; meant \describe ?
checkRd: (-1) stains.Rd:19-21: Lost braces in \itemize; meant \describe ?
checkRd: (-1) stains.Rd:23-24: Lost braces in \itemize; meant \describe ?
checkRd: (-1) stains.Rd:26-28: Lost braces in \itemize; meant \describe ?
* checking Rd metadata ... OK
* checking Rd cross-references ... OK
* checking for missing documentation entries ... OK
* checking for code/documentation mismatches ... OK
* checking Rd \usage sections ... OK
* checking Rd contents ... OK
* checking for unstated dependencies in examples ... OK
* checking contents of ‘data’ directory ... OK
* checking data for non-ASCII characters ... OK
* checking data for ASCII and uncompressed saves ... OK
* checking sizes of PDF files under ‘inst/doc’ ... OK
* checking files in ‘vignettes’ ... OK
* checking examples ... OK
Examples with CPU (user + system) or elapsed time > 5s
user system elapsed
makeRangedDataList 6.304 1.143 7.467
* checking for unstated dependencies in vignettes ... OK
* checking package vignettes ... OK
* checking running R code from vignettes ... SKIPPED
* checking re-building of vignette outputs ... SKIPPED
* checking PDF version of manual ... OK
* DONE
Status: 2 NOTEs
See
‘/Users/biocbuild/bbs-3.21-bioc/meat/ChromHeatMap.Rcheck/00check.log’
for details.
ChromHeatMap.Rcheck/00install.out
############################################################################## ############################################################################## ### ### Running command: ### ### /Library/Frameworks/R.framework/Resources/bin/R CMD INSTALL ChromHeatMap ### ############################################################################## ############################################################################## * installing to library ‘/Library/Frameworks/R.framework/Versions/4.5-x86_64/Resources/library’ * installing *source* package ‘ChromHeatMap’ ... ** this is package ‘ChromHeatMap’ version ‘1.62.0’ ** using staged installation ** R ** data ** byte-compile and prepare package for lazy loading ** help *** installing help indices ** building package indices ** installing vignettes ** testing if installed package can be loaded from temporary location ** testing if installed package can be loaded from final location ** testing if installed package keeps a record of temporary installation path * DONE (ChromHeatMap)
ChromHeatMap.Rcheck/ChromHeatMap-Ex.timings
| name | user | system | elapsed | |
| ChrMapPlot-class | 1.212 | 0.115 | 1.355 | |
| ChrStrandData-class | 0.191 | 0.013 | 0.204 | |
| ChrStrandMatrix-class | 0.060 | 0.005 | 0.067 | |
| chrHeatMap | 0.102 | 0.009 | 0.111 | |
| createChrMatrix | 0.058 | 0.009 | 0.067 | |
| drawMapDendro | 0.100 | 0.017 | 0.119 | |
| grabChrMapProbes | 0.460 | 0.047 | 0.509 | |
| makeChrStrandData | 0.130 | 0.006 | 0.136 | |
| makeRangedDataList | 6.304 | 1.143 | 7.467 | |
| plotChrMap | 0.264 | 0.017 | 0.282 | |