| Back to Multiple platform build/check report for BioC 3.21: simplified long |
|
This page was generated on 2025-04-22 13:16 -0400 (Tue, 22 Apr 2025).
| Hostname | OS | Arch (*) | R version | Installed pkgs |
|---|---|---|---|---|
| nebbiolo1 | Linux (Ubuntu 24.04.1 LTS) | x86_64 | 4.5.0 RC (2025-04-04 r88126) -- "How About a Twenty-Six" | 4831 |
| palomino7 | Windows Server 2022 Datacenter | x64 | 4.5.0 RC (2025-04-04 r88126 ucrt) -- "How About a Twenty-Six" | 4573 |
| lconway | macOS 12.7.1 Monterey | x86_64 | 4.5.0 RC (2025-04-04 r88126) -- "How About a Twenty-Six" | 4599 |
| kjohnson3 | macOS 13.7.1 Ventura | arm64 | 4.5.0 RC (2025-04-04 r88126) -- "How About a Twenty-Six" | 4553 |
| kunpeng2 | Linux (openEuler 24.03 LTS) | aarch64 | R Under development (unstable) (2025-02-19 r87757) -- "Unsuffered Consequences" | 4570 |
| Click on any hostname to see more info about the system (e.g. compilers) (*) as reported by 'uname -p', except on Windows and Mac OS X | ||||
| Package 345/2341 | Hostname | OS / Arch | INSTALL | BUILD | CHECK | BUILD BIN | ||||||||
| ChIPseeker 1.44.0 (landing page) Guangchuang Yu
| nebbiolo1 | Linux (Ubuntu 24.04.1 LTS) / x86_64 | OK | OK | OK | |||||||||
| palomino7 | Windows Server 2022 Datacenter / x64 | OK | OK | OK | OK | |||||||||
| lconway | macOS 12.7.1 Monterey / x86_64 | OK | OK | OK | OK | |||||||||
| kjohnson3 | macOS 13.7.1 Ventura / arm64 | OK | OK | OK | OK | |||||||||
| kunpeng2 | Linux (openEuler 24.03 LTS) / aarch64 | OK | OK | OK | ||||||||||
|
To the developers/maintainers of the ChIPseeker package: - Allow up to 24 hours (and sometimes 48 hours) for your latest push to git@git.bioconductor.org:packages/ChIPseeker.git to reflect on this report. See Troubleshooting Build Report for more information. - Use the following Renviron settings to reproduce errors and warnings. - If 'R CMD check' started to fail recently on the Linux builder(s) over a missing dependency, add the missing dependency to 'Suggests:' in your DESCRIPTION file. See Renviron.bioc for more information. |
| Package: ChIPseeker |
| Version: 1.44.0 |
| Command: /Library/Frameworks/R.framework/Resources/bin/R CMD check --install=check:ChIPseeker.install-out.txt --library=/Library/Frameworks/R.framework/Resources/library --no-vignettes --timings ChIPseeker_1.44.0.tar.gz |
| StartedAt: 2025-04-21 19:42:56 -0400 (Mon, 21 Apr 2025) |
| EndedAt: 2025-04-21 19:51:34 -0400 (Mon, 21 Apr 2025) |
| EllapsedTime: 517.5 seconds |
| RetCode: 0 |
| Status: OK |
| CheckDir: ChIPseeker.Rcheck |
| Warnings: 0 |
##############################################################################
##############################################################################
###
### Running command:
###
### /Library/Frameworks/R.framework/Resources/bin/R CMD check --install=check:ChIPseeker.install-out.txt --library=/Library/Frameworks/R.framework/Resources/library --no-vignettes --timings ChIPseeker_1.44.0.tar.gz
###
##############################################################################
##############################################################################
* using log directory ‘/Users/biocbuild/bbs-3.21-bioc/meat/ChIPseeker.Rcheck’
* using R version 4.5.0 RC (2025-04-04 r88126)
* using platform: x86_64-apple-darwin20
* R was compiled by
Apple clang version 14.0.0 (clang-1400.0.29.202)
GNU Fortran (GCC) 14.2.0
* running under: macOS Monterey 12.7.6
* using session charset: UTF-8
* using option ‘--no-vignettes’
* checking for file ‘ChIPseeker/DESCRIPTION’ ... OK
* checking extension type ... Package
* this is package ‘ChIPseeker’ version ‘1.44.0’
* package encoding: UTF-8
* checking package namespace information ... OK
* checking package dependencies ... INFO
Imports includes 23 non-default packages.
Importing from so many packages makes the package vulnerable to any of
them becoming unavailable. Move as many as possible to Suggests and
use conditionally.
* checking if this is a source package ... OK
* checking if there is a namespace ... OK
* checking for hidden files and directories ... OK
* checking for portable file names ... OK
* checking for sufficient/correct file permissions ... OK
* checking whether package ‘ChIPseeker’ can be installed ... OK
* checking installed package size ... INFO
installed size is 6.1Mb
sub-directories of 1Mb or more:
data 4.5Mb
* checking package directory ... OK
* checking ‘build’ directory ... OK
* checking DESCRIPTION meta-information ... OK
* checking top-level files ... OK
* checking for left-over files ... OK
* checking index information ... OK
* checking package subdirectories ... OK
* checking code files for non-ASCII characters ... OK
* checking R files for syntax errors ... OK
* checking whether the package can be loaded ... OK
* checking whether the package can be loaded with stated dependencies ... OK
* checking whether the package can be unloaded cleanly ... OK
* checking whether the namespace can be loaded with stated dependencies ... OK
* checking whether the namespace can be unloaded cleanly ... OK
* checking whether startup messages can be suppressed ... OK
* checking dependencies in R code ... OK
* checking S3 generic/method consistency ... OK
* checking replacement functions ... OK
* checking foreign function calls ... OK
* checking R code for possible problems ... OK
* checking Rd files ... OK
* checking Rd metadata ... OK
* checking Rd cross-references ... NOTE
Non-topic package-anchored link(s) in Rd file 'reexports.Rd':
‘[ggplot2:element]{rel}’
See section 'Cross-references' in the 'Writing R Extensions' manual.
* checking for missing documentation entries ... OK
* checking for code/documentation mismatches ... OK
* checking Rd \usage sections ... OK
* checking Rd contents ... OK
* checking for unstated dependencies in examples ... OK
* checking contents of ‘data’ directory ... OK
* checking data for non-ASCII characters ... OK
* checking data for ASCII and uncompressed saves ... OK
* checking files in ‘vignettes’ ... OK
* checking examples ... OK
* checking for unstated dependencies in ‘tests’ ... OK
* checking tests ...
Running ‘testthat.R’
OK
* checking for unstated dependencies in vignettes ... OK
* checking package vignettes ... OK
* checking running R code from vignettes ... SKIPPED
* checking re-building of vignette outputs ... SKIPPED
* checking PDF version of manual ... OK
* DONE
Status: 1 NOTE
See
‘/Users/biocbuild/bbs-3.21-bioc/meat/ChIPseeker.Rcheck/00check.log’
for details.
ChIPseeker.Rcheck/00install.out
############################################################################## ############################################################################## ### ### Running command: ### ### /Library/Frameworks/R.framework/Resources/bin/R CMD INSTALL ChIPseeker ### ############################################################################## ############################################################################## * installing to library ‘/Library/Frameworks/R.framework/Versions/4.5-x86_64/Resources/library’ * installing *source* package ‘ChIPseeker’ ... ** this is package ‘ChIPseeker’ version ‘1.44.0’ ** using staged installation ** R ** data ** inst ** byte-compile and prepare package for lazy loading ** help *** installing help indices ** building package indices ** installing vignettes ** testing if installed package can be loaded from temporary location ** testing if installed package can be loaded from final location ** testing if installed package keeps a record of temporary installation path * DONE (ChIPseeker)
ChIPseeker.Rcheck/tests/testthat.Rout
R version 4.5.0 RC (2025-04-04 r88126) -- "How About a Twenty-Six"
Copyright (C) 2025 The R Foundation for Statistical Computing
Platform: x86_64-apple-darwin20
R is free software and comes with ABSOLUTELY NO WARRANTY.
You are welcome to redistribute it under certain conditions.
Type 'license()' or 'licence()' for distribution details.
R is a collaborative project with many contributors.
Type 'contributors()' for more information and
'citation()' on how to cite R or R packages in publications.
Type 'demo()' for some demos, 'help()' for on-line help, or
'help.start()' for an HTML browser interface to help.
Type 'q()' to quit R.
> library(testthat)
> library(ChIPseeker)
ChIPseeker v1.44.0 Learn more at https://yulab-smu.top/contribution-knowledge-mining/
Please cite:
Guangchuang Yu, Li-Gen Wang, and Qing-Yu He. ChIPseeker: an
R/Bioconductor package for ChIP peak annotation, comparison and
visualization. Bioinformatics. 2015, 31(14):2382-2383
>
> test_check("ChIPseeker")
>> preparing start_site regions by gene... 2025-04-21 19:48:39
>> preparing tag matrix... 2025-04-21 19:48:39
>> binning method is used...2025-04-21 19:48:50
>> preparing body regions by enhancer... 2025-04-21 19:48:50
>> preparing tag matrix by binning... 2025-04-21 19:48:50
>> preparing matrix for body region with no flank extension... 2025-04-21 19:48:50
>> 0 peaks(0%), having lengths smaller than 800bp, are filtered... 2025-04-21 19:48:51
>> binning method is used...2025-04-21 19:48:56
>> preparing body regions by enhancer... 2025-04-21 19:48:56
>> preparing tag matrix by binning... 2025-04-21 19:48:56
>> preparing matrix with extension from (enhancer_SS-20%)~(enhancer_TS+20%)... 2025-04-21 19:48:56
>> 0 peaks(0%), having lengths smaller than 800bp, are filtered... 2025-04-21 19:48:56
>> binning method is used...2025-04-21 19:49:04
>> preparing body regions by enhancer... 2025-04-21 19:49:04
>> preparing tag matrix by binning... 2025-04-21 19:49:04
>> preparing matrix with flank extension from (enhancer_SS-1000bp)~(enhancer_TS+1000bp)... 2025-04-21 19:49:04
>> 0 peaks(0%), having lengths smaller than 800bp, are filtered... 2025-04-21 19:49:04
>> preparing start_site regions by gene... 2025-04-21 19:49:08
>> preparing tag matrix... 2025-04-21 19:49:08
>> preparing start_site regions by gene... 2025-04-21 19:49:24
>> preparing tag matrix... 2025-04-21 19:49:24
>> binning method is used...2025-04-21 19:49:24
>> preparing body regions by gene... 2025-04-21 19:49:24
>> preparing tag matrix by binning... 2025-04-21 19:49:24
>> preparing matrix for body region with no flank extension... 2025-04-21 19:49:24
>> 9 peaks(1.2%), having lengths smaller than 800bp, are filtered... 2025-04-21 19:49:27
>> binning method is used...2025-04-21 19:50:17
>> preparing body regions by enhancer... 2025-04-21 19:50:17
>> preparing tag matrix by binning... 2025-04-21 19:50:17
>> preparing matrix with extension from (enhancer_SS-20%)~(enhancer_TS+20%)... 2025-04-21 19:50:17
>> 0 peaks(0%), having lengths smaller than 800bp, are filtered... 2025-04-21 19:50:18
>> binning method is used...2025-04-21 19:50:27
>> preparing body regions by gene... 2025-04-21 19:50:27
>> preparing tag matrix by binning... 2025-04-21 19:50:27
>> preparing matrix with flank extension from (TSS-1000bp)~(TTS+1000bp)... 2025-04-21 19:50:27
>> 15 peaks(1.80072%), having lengths smaller than 800bp, are filtered... 2025-04-21 19:50:30
[ FAIL 0 | WARN 0 | SKIP 0 | PASS 28 ]
>
> proc.time()
user system elapsed
175.852 6.310 183.369
ChIPseeker.Rcheck/ChIPseeker-Ex.timings
| name | user | system | elapsed | |
| annotatePeak | 0.000 | 0.001 | 0.001 | |
| dotFun | 0.001 | 0.001 | 0.002 | |
| plotAnnoPie | 0.001 | 0.001 | 0.001 | |
| plotDistToTSS.data.frame | 0 | 0 | 0 | |
| readPeakFile | 0.117 | 0.005 | 0.125 | |
| seq2gene | 0.000 | 0.001 | 0.000 | |
| vennplot | 0.000 | 0.001 | 0.001 | |