Back to Multiple platform build/check report for BioC 3.22:   simplified   long
AB[C]DEFGHIJKLMNOPQRSTUVWXYZ

This page was generated on 2025-11-20 12:03 -0500 (Thu, 20 Nov 2025).

HostnameOSArch (*)R versionInstalled pkgs
nebbiolo2Linux (Ubuntu 24.04.3 LTS)x86_644.5.2 (2025-10-31) -- "[Not] Part in a Rumble" 4615
merida1macOS 12.7.6 Montereyx86_644.5.2 Patched (2025-11-05 r88990) -- "[Not] Part in a Rumble" 4610
kjohnson1macOS 13.7.5 Venturaarm644.5.2 Patched (2025-11-04 r88984) -- "[Not] Part in a Rumble" 4598
taishanLinux (openEuler 24.03 LTS)aarch644.5.0 (2025-04-11) -- "How About a Twenty-Six" 4668
Click on any hostname to see more info about the system (e.g. compilers)      (*) as reported by 'uname -p', except on Windows and Mac OS X

Package 350/2361HostnameOS / ArchINSTALLBUILDCHECKBUILD BIN
ChIPpeakAnno 3.44.0  (landing page)
Jianhong Ou
Snapshot Date: 2025-11-17 13:45 -0500 (Mon, 17 Nov 2025)
git_url: https://git.bioconductor.org/packages/ChIPpeakAnno
git_branch: RELEASE_3_22
git_last_commit: 2b855fa
git_last_commit_date: 2025-10-29 10:03:18 -0500 (Wed, 29 Oct 2025)
nebbiolo2Linux (Ubuntu 24.04.3 LTS) / x86_64  OK    OK    OK  UNNEEDED, same version is already published
merida1macOS 12.7.6 Monterey / x86_64  OK    OK    OK    OK  UNNEEDED, same version is already published
kjohnson1macOS 13.7.5 Ventura / arm64  OK    OK    OK    OK  UNNEEDED, same version is already published
taishanLinux (openEuler 24.03 LTS) / aarch64  OK    OK    OK  


CHECK results for ChIPpeakAnno on nebbiolo2

To the developers/maintainers of the ChIPpeakAnno package:
- Allow up to 24 hours (and sometimes 48 hours) for your latest push to git@git.bioconductor.org:packages/ChIPpeakAnno.git to reflect on this report. See Troubleshooting Build Report for more information.
- Use the following Renviron settings to reproduce errors and warnings.
- If 'R CMD check' started to fail recently on the Linux builder(s) over a missing dependency, add the missing dependency to 'Suggests:' in your DESCRIPTION file. See Renviron.bioc for more information.

raw results


Summary

Package: ChIPpeakAnno
Version: 3.44.0
Command: /home/biocbuild/bbs-3.22-bioc/R/bin/R CMD check --install=check:ChIPpeakAnno.install-out.txt --library=/home/biocbuild/bbs-3.22-bioc/R/site-library --timings ChIPpeakAnno_3.44.0.tar.gz
StartedAt: 2025-11-18 01:46:23 -0500 (Tue, 18 Nov 2025)
EndedAt: 2025-11-18 02:14:04 -0500 (Tue, 18 Nov 2025)
EllapsedTime: 1660.5 seconds
RetCode: 0
Status:   OK  
CheckDir: ChIPpeakAnno.Rcheck
Warnings: 0

Command output

##############################################################################
##############################################################################
###
### Running command:
###
###   /home/biocbuild/bbs-3.22-bioc/R/bin/R CMD check --install=check:ChIPpeakAnno.install-out.txt --library=/home/biocbuild/bbs-3.22-bioc/R/site-library --timings ChIPpeakAnno_3.44.0.tar.gz
###
##############################################################################
##############################################################################


* using log directory ‘/home/biocbuild/bbs-3.22-bioc/meat/ChIPpeakAnno.Rcheck’
* using R version 4.5.2 (2025-10-31)
* using platform: x86_64-pc-linux-gnu
* R was compiled by
    gcc (Ubuntu 13.3.0-6ubuntu2~24.04) 13.3.0
    GNU Fortran (Ubuntu 13.3.0-6ubuntu2~24.04) 13.3.0
* running under: Ubuntu 24.04.3 LTS
* using session charset: UTF-8
* checking for file ‘ChIPpeakAnno/DESCRIPTION’ ... OK
* checking extension type ... Package
* this is package ‘ChIPpeakAnno’ version ‘3.44.0’
* package encoding: UTF-8
* checking package namespace information ... OK
* checking package dependencies ... INFO
Imports includes 29 non-default packages.
Importing from so many packages makes the package vulnerable to any of
them becoming unavailable.  Move as many as possible to Suggests and
use conditionally.
* checking if this is a source package ... OK
* checking if there is a namespace ... OK
* checking for hidden files and directories ... OK
* checking for portable file names ... OK
* checking for sufficient/correct file permissions ... OK
* checking whether package ‘ChIPpeakAnno’ can be installed ... OK
* checking installed package size ... INFO
  installed size is 21.1Mb
  sub-directories of 1Mb or more:
    R         1.0Mb
    data     12.6Mb
    extdata   7.2Mb
* checking package directory ... OK
* checking ‘build’ directory ... OK
* checking DESCRIPTION meta-information ... OK
* checking top-level files ... OK
* checking for left-over files ... OK
* checking index information ... OK
* checking package subdirectories ... OK
* checking code files for non-ASCII characters ... OK
* checking R files for syntax errors ... OK
* checking whether the package can be loaded ... OK
* checking whether the package can be loaded with stated dependencies ... OK
* checking whether the package can be unloaded cleanly ... OK
* checking whether the namespace can be loaded with stated dependencies ... OK
* checking whether the namespace can be unloaded cleanly ... OK
* checking loading without being on the library search path ... OK
* checking dependencies in R code ... OK
* checking S3 generic/method consistency ... OK
* checking replacement functions ... OK
* checking foreign function calls ... OK
* checking R code for possible problems ... OK
* checking Rd files ... OK
* checking Rd metadata ... OK
* checking Rd cross-references ... OK
* checking for missing documentation entries ... OK
* checking for code/documentation mismatches ... OK
* checking Rd \usage sections ... OK
* checking Rd contents ... OK
* checking for unstated dependencies in examples ... OK
* checking contents of ‘data’ directory ... OK
* checking data for non-ASCII characters ... OK
* checking LazyData ... OK
* checking data for ASCII and uncompressed saves ... OK
* checking files in ‘vignettes’ ... OK
* checking examples ... OK
Examples with CPU (user + system) or elapsed time > 5s
                           user system elapsed
findEnhancers            21.386  0.260  21.647
findMotifsInPromoterSeqs 12.858  0.116  13.214
annotatePeakInBatch      10.568  0.323  10.892
summarizeOverlapsByBins   4.642  0.436   4.806
* checking for unstated dependencies in ‘tests’ ... OK
* checking tests ...
  Running ‘runTests.R’
 OK
* checking for unstated dependencies in vignettes ... OK
* checking package vignettes ... OK
* checking re-building of vignette outputs ... OK
* checking PDF version of manual ... OK
* DONE

Status: OK


Installation output

ChIPpeakAnno.Rcheck/00install.out

##############################################################################
##############################################################################
###
### Running command:
###
###   /home/biocbuild/bbs-3.22-bioc/R/bin/R CMD INSTALL ChIPpeakAnno
###
##############################################################################
##############################################################################


* installing to library ‘/home/biocbuild/bbs-3.22-bioc/R/site-library’
* installing *source* package ‘ChIPpeakAnno’ ...
** this is package ‘ChIPpeakAnno’ version ‘3.44.0’
** using staged installation
** R
** data
*** moving datasets to lazyload DB
** inst
** byte-compile and prepare package for lazy loading
** help
*** installing help indices
** building package indices
** installing vignettes
** testing if installed package can be loaded from temporary location
** testing if installed package can be loaded from final location
** testing if installed package keeps a record of temporary installation path
* DONE (ChIPpeakAnno)

Tests output

ChIPpeakAnno.Rcheck/tests/runTests.Rout


R version 4.5.2 (2025-10-31) -- "[Not] Part in a Rumble"
Copyright (C) 2025 The R Foundation for Statistical Computing
Platform: x86_64-pc-linux-gnu

R is free software and comes with ABSOLUTELY NO WARRANTY.
You are welcome to redistribute it under certain conditions.
Type 'license()' or 'licence()' for distribution details.

R is a collaborative project with many contributors.
Type 'contributors()' for more information and
'citation()' on how to cite R or R packages in publications.

Type 'demo()' for some demos, 'help()' for on-line help, or
'help.start()' for an HTML browser interface to help.
Type 'q()' to quit R.

> require("ChIPpeakAnno") || stop("unable to load Package:ChIPpeakAnno")
Loading required package: ChIPpeakAnno
Loading required package: IRanges
Loading required package: BiocGenerics
Loading required package: generics

Attaching package: 'generics'

The following objects are masked from 'package:base':

    as.difftime, as.factor, as.ordered, intersect, is.element, setdiff,
    setequal, union


Attaching package: 'BiocGenerics'

The following objects are masked from 'package:stats':

    IQR, mad, sd, var, xtabs

The following objects are masked from 'package:base':

    Filter, Find, Map, Position, Reduce, anyDuplicated, aperm, append,
    as.data.frame, basename, cbind, colnames, dirname, do.call,
    duplicated, eval, evalq, get, grep, grepl, is.unsorted, lapply,
    mapply, match, mget, order, paste, pmax, pmax.int, pmin, pmin.int,
    rank, rbind, rownames, sapply, saveRDS, table, tapply, unique,
    unsplit, which.max, which.min

Loading required package: S4Vectors
Loading required package: stats4

Attaching package: 'S4Vectors'

The following object is masked from 'package:utils':

    findMatches

The following objects are masked from 'package:base':

    I, expand.grid, unname

Loading required package: GenomicRanges
Loading required package: Seqinfo
[1] TRUE
> require("BSgenome.Drerio.UCSC.danRer7") || stop("unable to load Package:BSgenome.Drerio.UCSC.danRer7")
Loading required package: BSgenome.Drerio.UCSC.danRer7
Loading required package: BSgenome
Loading required package: Biostrings
Loading required package: XVector

Attaching package: 'Biostrings'

The following object is masked from 'package:base':

    strsplit

Loading required package: BiocIO
Loading required package: rtracklayer
[1] TRUE
> require("BSgenome.Hsapiens.UCSC.hg19") || stop("unable to load Package:BSgenome.Hsapiens.UCSC.hg19")
Loading required package: BSgenome.Hsapiens.UCSC.hg19
[1] TRUE
> require("org.Hs.eg.db") || stop("unable to load Package:org.Hs.eg.db")
Loading required package: org.Hs.eg.db
Loading required package: AnnotationDbi
Loading required package: Biobase
Welcome to Bioconductor

    Vignettes contain introductory material; view with
    'browseVignettes()'. To cite Bioconductor, see
    'citation("Biobase")', and for packages 'citation("pkgname")'.


[1] TRUE
> require("org.Ce.eg.db") || stop("unable to load Package:org.Ce.eg.db")
Loading required package: org.Ce.eg.db

[1] TRUE
> require("BSgenome.Celegans.UCSC.ce10") || stop("unable to load Package:BSgenome.Celegans.UCSC.ce10")
Loading required package: BSgenome.Celegans.UCSC.ce10
[1] TRUE
> require("EnsDb.Hsapiens.v79") || stop("unable to load Package:EnsDb.Hsapiens.v79")
Loading required package: EnsDb.Hsapiens.v79
Loading required package: ensembldb
Loading required package: GenomicFeatures
Loading required package: AnnotationFilter

Attaching package: 'ensembldb'

The following object is masked from 'package:stats':

    filter

[1] TRUE
> require("TxDb.Hsapiens.UCSC.hg38.knownGene") || stop("unable to load TxDb.Hsapiens.UCSC.hg38.knownGene")
Loading required package: TxDb.Hsapiens.UCSC.hg38.knownGene
[1] TRUE
> require("biomaRt") || stop("unable to load biomaRt")
Loading required package: biomaRt
[1] TRUE
> require("reactome.db") || stop("unable to load reactome.db")
Loading required package: reactome.db
[1] TRUE
> require("testthat") || stop("unable to load testthat")
Loading required package: testthat

Attaching package: 'testthat'

The following object is masked from 'package:AnnotationFilter':

    not

[1] TRUE
> test_check("ChIPpeakAnno")
INFO [2025-11-18 01:57:49] $cat.cex
INFO [2025-11-18 01:57:49] [1] 1
INFO [2025-11-18 01:57:49] 
INFO [2025-11-18 01:57:49] $cat.col
INFO [2025-11-18 01:57:49] [1] "black"
INFO [2025-11-18 01:57:49] 
INFO [2025-11-18 01:57:49] $cat.fontface
INFO [2025-11-18 01:57:49] [1] "plain"
INFO [2025-11-18 01:57:49] 
INFO [2025-11-18 01:57:49] $cat.fontfamily
INFO [2025-11-18 01:57:49] [1] "serif"
INFO [2025-11-18 01:57:49] 
INFO [2025-11-18 01:57:49] $x
INFO [2025-11-18 01:57:49] $x$TF1
INFO [2025-11-18 01:57:49] [1] 3 4 5
INFO [2025-11-18 01:57:49] 
INFO [2025-11-18 01:57:49] $x$TF2
INFO [2025-11-18 01:57:49] [1] 1 2 3 4 5
INFO [2025-11-18 01:57:49] 
INFO [2025-11-18 01:57:49] 
INFO [2025-11-18 01:57:49] $disable.logging
INFO [2025-11-18 01:57:49] [1] TRUE
INFO [2025-11-18 01:57:49] 
INFO [2025-11-18 01:57:49] $filename
INFO [2025-11-18 01:57:49] NULL
INFO [2025-11-18 01:57:49] 
INFO [2025-11-18 01:57:50] $cat.cex
INFO [2025-11-18 01:57:50] [1] 1
INFO [2025-11-18 01:57:50] 
INFO [2025-11-18 01:57:50] $cat.col
INFO [2025-11-18 01:57:50] [1] "black"
INFO [2025-11-18 01:57:50] 
INFO [2025-11-18 01:57:50] $cat.fontface
INFO [2025-11-18 01:57:50] [1] "plain"
INFO [2025-11-18 01:57:50] 
INFO [2025-11-18 01:57:50] $cat.fontfamily
INFO [2025-11-18 01:57:50] [1] "serif"
INFO [2025-11-18 01:57:50] 
INFO [2025-11-18 01:57:50] $x
INFO [2025-11-18 01:57:50] $x$TF1
INFO [2025-11-18 01:57:50] [1] 3 4 5
INFO [2025-11-18 01:57:50] 
INFO [2025-11-18 01:57:50] $x$TF2
INFO [2025-11-18 01:57:50] [1] 1 2 4 5
INFO [2025-11-18 01:57:50] 
INFO [2025-11-18 01:57:50] $x$TF3
INFO [2025-11-18 01:57:50] [1] 3 4 5
INFO [2025-11-18 01:57:50] 
INFO [2025-11-18 01:57:50] $x$TF4
INFO [2025-11-18 01:57:50] [1] 1 2 4 5
INFO [2025-11-18 01:57:50] 
INFO [2025-11-18 01:57:50] 
INFO [2025-11-18 01:57:50] $disable.logging
INFO [2025-11-18 01:57:50] [1] TRUE
INFO [2025-11-18 01:57:50] 
INFO [2025-11-18 01:57:50] $filename
INFO [2025-11-18 01:57:50] NULL
INFO [2025-11-18 01:57:50] 
INFO [2025-11-18 01:57:50] $scaled
INFO [2025-11-18 01:57:50] [1] FALSE
INFO [2025-11-18 01:57:50] 
INFO [2025-11-18 01:57:50] $euler.d
INFO [2025-11-18 01:57:50] [1] FALSE
INFO [2025-11-18 01:57:50] 
INFO [2025-11-18 01:57:50] $cat.cex
INFO [2025-11-18 01:57:50] [1] 1
INFO [2025-11-18 01:57:50] 
INFO [2025-11-18 01:57:50] $cat.col
INFO [2025-11-18 01:57:50] [1] "black"
INFO [2025-11-18 01:57:50] 
INFO [2025-11-18 01:57:50] $cat.fontface
INFO [2025-11-18 01:57:50] [1] "plain"
INFO [2025-11-18 01:57:50] 
INFO [2025-11-18 01:57:50] $cat.fontfamily
INFO [2025-11-18 01:57:50] [1] "serif"
INFO [2025-11-18 01:57:50] 
INFO [2025-11-18 01:57:50] $x
INFO [2025-11-18 01:57:50] $x$TF1
INFO [2025-11-18 01:57:50] [1] 1 2 3
INFO [2025-11-18 01:57:50] 
INFO [2025-11-18 01:57:50] $x$TF2
INFO [2025-11-18 01:57:50] [1] 1 2 3
INFO [2025-11-18 01:57:50] 
INFO [2025-11-18 01:57:50] 
INFO [2025-11-18 01:57:50] $disable.logging
INFO [2025-11-18 01:57:50] [1] TRUE
INFO [2025-11-18 01:57:50] 
INFO [2025-11-18 01:57:50] $filename
INFO [2025-11-18 01:57:50] NULL
INFO [2025-11-18 01:57:50] 
INFO [2025-11-18 01:57:50] $scaled
INFO [2025-11-18 01:57:50] [1] FALSE
INFO [2025-11-18 01:57:50] 
INFO [2025-11-18 01:57:50] $euler.d
INFO [2025-11-18 01:57:50] [1] FALSE
INFO [2025-11-18 01:57:50] 
INFO [2025-11-18 01:57:50] $cat.cex
INFO [2025-11-18 01:57:50] [1] 1
INFO [2025-11-18 01:57:50] 
INFO [2025-11-18 01:57:50] $cat.col
INFO [2025-11-18 01:57:50] [1] "black"
INFO [2025-11-18 01:57:50] 
INFO [2025-11-18 01:57:50] $cat.fontface
INFO [2025-11-18 01:57:50] [1] "plain"
INFO [2025-11-18 01:57:50] 
INFO [2025-11-18 01:57:50] $cat.fontfamily
INFO [2025-11-18 01:57:50] [1] "serif"
INFO [2025-11-18 01:57:50] 
INFO [2025-11-18 01:57:50] $x
INFO [2025-11-18 01:57:50] $x$TF1
INFO [2025-11-18 01:57:50] [1] 4 5 6
INFO [2025-11-18 01:57:50] 
INFO [2025-11-18 01:57:50] $x$TF2
INFO [2025-11-18 01:57:50] [1] 1 2 3
INFO [2025-11-18 01:57:50] 
INFO [2025-11-18 01:57:50] 
INFO [2025-11-18 01:57:50] $disable.logging
INFO [2025-11-18 01:57:50] [1] TRUE
INFO [2025-11-18 01:57:50] 
INFO [2025-11-18 01:57:50] $filename
INFO [2025-11-18 01:57:50] NULL
INFO [2025-11-18 01:57:50] 
INFO [2025-11-18 01:57:51] $scaled
INFO [2025-11-18 01:57:51] [1] FALSE
INFO [2025-11-18 01:57:51] 
INFO [2025-11-18 01:57:51] $euler.d
INFO [2025-11-18 01:57:51] [1] FALSE
INFO [2025-11-18 01:57:51] 
INFO [2025-11-18 01:57:51] $cat.cex
INFO [2025-11-18 01:57:51] [1] 1
INFO [2025-11-18 01:57:51] 
INFO [2025-11-18 01:57:51] $cat.col
INFO [2025-11-18 01:57:51] [1] "black"
INFO [2025-11-18 01:57:51] 
INFO [2025-11-18 01:57:51] $cat.fontface
INFO [2025-11-18 01:57:51] [1] "plain"
INFO [2025-11-18 01:57:51] 
INFO [2025-11-18 01:57:51] $cat.fontfamily
INFO [2025-11-18 01:57:51] [1] "serif"
INFO [2025-11-18 01:57:51] 
INFO [2025-11-18 01:57:51] $x
INFO [2025-11-18 01:57:51] $x$TF1
INFO [2025-11-18 01:57:51] [1] 4 5 6
INFO [2025-11-18 01:57:51] 
INFO [2025-11-18 01:57:51] $x$TF2
INFO [2025-11-18 01:57:51] [1] 1 2 3
INFO [2025-11-18 01:57:51] 
INFO [2025-11-18 01:57:51] 
INFO [2025-11-18 01:57:51] $disable.logging
INFO [2025-11-18 01:57:51] [1] TRUE
INFO [2025-11-18 01:57:51] 
INFO [2025-11-18 01:57:51] $filename
INFO [2025-11-18 01:57:51] NULL
INFO [2025-11-18 01:57:51] 
INFO [2025-11-18 01:57:51] $scaled
INFO [2025-11-18 01:57:51] [1] FALSE
INFO [2025-11-18 01:57:51] 
INFO [2025-11-18 01:57:51] $euler.d
INFO [2025-11-18 01:57:51] [1] FALSE
INFO [2025-11-18 01:57:51] 
INFO [2025-11-18 01:57:51] $cat.cex
INFO [2025-11-18 01:57:51] [1] 1
INFO [2025-11-18 01:57:51] 
INFO [2025-11-18 01:57:51] $cat.col
INFO [2025-11-18 01:57:51] [1] "black"
INFO [2025-11-18 01:57:51] 
INFO [2025-11-18 01:57:51] $cat.fontface
INFO [2025-11-18 01:57:51] [1] "plain"
INFO [2025-11-18 01:57:51] 
INFO [2025-11-18 01:57:51] $cat.fontfamily
INFO [2025-11-18 01:57:51] [1] "serif"
INFO [2025-11-18 01:57:51] 
INFO [2025-11-18 01:57:51] $x
INFO [2025-11-18 01:57:51] $x$TF1
INFO [2025-11-18 01:57:51] [1] 4 5 6
INFO [2025-11-18 01:57:51] 
INFO [2025-11-18 01:57:51] $x$TF2
INFO [2025-11-18 01:57:51] [1] 1 2 3
INFO [2025-11-18 01:57:51] 
INFO [2025-11-18 01:57:51] $x$TF3
INFO [2025-11-18 01:57:51] [1] 2 3 6
INFO [2025-11-18 01:57:51] 
INFO [2025-11-18 01:57:51] 
INFO [2025-11-18 01:57:51] $disable.logging
INFO [2025-11-18 01:57:51] [1] TRUE
INFO [2025-11-18 01:57:51] 
INFO [2025-11-18 01:57:51] $filename
INFO [2025-11-18 01:57:51] NULL
INFO [2025-11-18 01:57:51] 
INFO [2025-11-18 01:57:51] $scaled
INFO [2025-11-18 01:57:51] [1] FALSE
INFO [2025-11-18 01:57:51] 
INFO [2025-11-18 01:57:51] $euler.d
INFO [2025-11-18 01:57:51] [1] FALSE
INFO [2025-11-18 01:57:51] 
INFO [2025-11-18 01:57:51] $cat.cex
INFO [2025-11-18 01:57:51] [1] 1
INFO [2025-11-18 01:57:51] 
INFO [2025-11-18 01:57:51] $cat.col
INFO [2025-11-18 01:57:51] [1] "black"
INFO [2025-11-18 01:57:51] 
INFO [2025-11-18 01:57:51] $cat.fontface
INFO [2025-11-18 01:57:51] [1] "plain"
INFO [2025-11-18 01:57:51] 
INFO [2025-11-18 01:57:51] $cat.fontfamily
INFO [2025-11-18 01:57:51] [1] "serif"
INFO [2025-11-18 01:57:51] 
INFO [2025-11-18 01:57:51] $x
INFO [2025-11-18 01:57:51] $x$TF1
INFO [2025-11-18 01:57:51] [1] 3 4 5
INFO [2025-11-18 01:57:51] 
INFO [2025-11-18 01:57:51] $x$TF2
INFO [2025-11-18 01:57:51] [1] 1 2 5
INFO [2025-11-18 01:57:51] 
INFO [2025-11-18 01:57:51] $x$TF3
INFO [2025-11-18 01:57:51] [1] 1 2 5
INFO [2025-11-18 01:57:51] 
INFO [2025-11-18 01:57:51] 
INFO [2025-11-18 01:57:51] $disable.logging
INFO [2025-11-18 01:57:51] [1] TRUE
INFO [2025-11-18 01:57:51] 
INFO [2025-11-18 01:57:51] $filename
INFO [2025-11-18 01:57:51] NULL
INFO [2025-11-18 01:57:51] 
INFO [2025-11-18 01:57:51] $scaled
INFO [2025-11-18 01:57:51] [1] FALSE
INFO [2025-11-18 01:57:51] 
INFO [2025-11-18 01:57:51] $euler.d
INFO [2025-11-18 01:57:51] [1] FALSE
INFO [2025-11-18 01:57:51] 
INFO [2025-11-18 01:57:51] $cat.cex
INFO [2025-11-18 01:57:51] [1] 1
INFO [2025-11-18 01:57:51] 
INFO [2025-11-18 01:57:51] $cat.col
INFO [2025-11-18 01:57:51] [1] "black"
INFO [2025-11-18 01:57:51] 
INFO [2025-11-18 01:57:51] $cat.fontface
INFO [2025-11-18 01:57:51] [1] "plain"
INFO [2025-11-18 01:57:51] 
INFO [2025-11-18 01:57:51] $cat.fontfamily
INFO [2025-11-18 01:57:51] [1] "serif"
INFO [2025-11-18 01:57:51] 
INFO [2025-11-18 01:57:51] $x
INFO [2025-11-18 01:57:51] $x$TF1
INFO [2025-11-18 01:57:51] [1] 3 4 5
INFO [2025-11-18 01:57:51] 
INFO [2025-11-18 01:57:51] $x$TF2
INFO [2025-11-18 01:57:51] [1] 1 2 5
INFO [2025-11-18 01:57:51] 
INFO [2025-11-18 01:57:51] $x$TF3
INFO [2025-11-18 01:57:51] [1] 1 2 5
INFO [2025-11-18 01:57:51] 
INFO [2025-11-18 01:57:51] $x$TF4
INFO [2025-11-18 01:57:51] [1] 1 2 5
INFO [2025-11-18 01:57:51] 
INFO [2025-11-18 01:57:51] 
INFO [2025-11-18 01:57:51] $disable.logging
INFO [2025-11-18 01:57:51] [1] TRUE
INFO [2025-11-18 01:57:51] 
INFO [2025-11-18 01:57:51] $filename
INFO [2025-11-18 01:57:51] NULL
INFO [2025-11-18 01:57:51] 
[ FAIL 0 | WARN 2 | SKIP 6 | PASS 324 ]

══ Skipped tests (6) ═══════════════════════════════════════════════════════════
• empty test (6): 'test_binOverGene.R:1:1', 'test_binOverRegions.R:1:1',
  'test_enrichmentPlot.R:1:1', 'test_getAnnotation.R:1:1',
  'test_reCenterPeaks.R:1:1', 'test_write2FASTA.R:1:1'

[ FAIL 0 | WARN 2 | SKIP 6 | PASS 324 ]
> 
> proc.time()
   user  system elapsed 
167.523   4.299 198.668 

Example timings

ChIPpeakAnno.Rcheck/ChIPpeakAnno-Ex.timings

nameusersystemelapsed
ChIPpeakAnno-package000
ExonPlusUtr.human.GRCh372.9720.2303.202
HOT.spots0.1330.0070.140
IDRfilter0.0010.0000.001
Peaks.Ste12.Replicate10.0400.0030.043
Peaks.Ste12.Replicate20.010.000.01
Peaks.Ste12.Replicate30.010.000.01
TSS.human.GRCh370.0970.0060.103
TSS.human.GRCh380.1930.0040.197
TSS.human.NCBI360.0990.0070.106
TSS.mouse.GRCm380.0890.0090.098
TSS.mouse.NCBIM370.0870.0040.091
TSS.rat.RGSC3.40.0740.0030.077
TSS.rat.Rnor_5.00.0550.0120.066
TSS.zebrafish.Zv80.0660.0050.071
TSS.zebrafish.Zv90.0810.0050.086
addAncestors0.8300.0320.862
addGeneIDs0.6670.0200.687
addMetadata1.0990.0311.130
annoGR000
annoPeaks2.1550.2232.380
annotatePeakInBatch10.568 0.32310.892
annotatedPeak0.0550.0010.056
assignChromosomeRegion0.0000.0000.001
bdp0.0000.0000.001
binOverFeature0.6220.0070.629
binOverGene0.0010.0000.000
binOverRegions000
condenseMatrixByColnames0.0090.0000.009
convert2EntrezID0.2660.0010.267
countPatternInSeqs0.1710.0030.175
cumulativePercentage000
downstreams0.0190.0000.019
egOrgMap000
enrichedGO0.0020.0000.002
enrichmentPlot0.5790.0030.582
estFragmentLength0.0010.0000.001
estLibSize000
featureAlignedDistribution0.1880.0020.190
featureAlignedExtendSignal0.0010.0000.001
featureAlignedHeatmap0.3250.0020.327
featureAlignedSignal0.1490.0090.158
findEnhancers21.386 0.26021.647
findMotifsInPromoterSeqs12.858 0.11613.214
findOverlappingPeaks0.0000.0000.001
findOverlapsOfPeaks1.6130.0011.614
genomicElementDistribution0.0010.0000.001
genomicElementUpSetR000
getAllPeakSequence0.4400.0070.448
getAnnotation000
getEnrichedGO0.0060.0010.007
getEnrichedPATH000
getGO000
getGeneSeq0.0010.0000.001
getUniqueGOidCount000
getVennCounts0.0010.0000.001
hyperGtest0.0010.0000.001
makeVennDiagram0.0020.0000.002
mergePlusMinusPeaks0.0010.0000.001
metagenePlot2.8990.0092.908
myPeakList0.0130.0020.014
oligoFrequency0.0760.0020.078
oligoSummary000
peakPermTest0.0010.0000.001
peaks10.0060.0000.007
peaks20.0060.0000.007
peaks30.0060.0000.006
peaksNearBDP0.0000.0000.001
pie10.0050.0000.004
plotBinOverRegions000
preparePool000
reCenterPeaks0.0220.0000.021
summarizeOverlapsByBins4.6420.4364.806
summarizePatternInPeaks1.1660.1291.295
tileCount0.1820.1660.306
tileGRanges0.1180.1020.035
toGRanges0.0720.0060.079
translatePattern0.0010.0000.001
wgEncodeTfbsV30.2200.0070.227
write2FASTA0.0110.0040.015
xget0.0860.0040.090