| Back to Multiple platform build/check report for BioC 3.21: simplified long |
|
This page was generated on 2025-10-16 11:40 -0400 (Thu, 16 Oct 2025).
| Hostname | OS | Arch (*) | R version | Installed pkgs |
|---|---|---|---|---|
| nebbiolo1 | Linux (Ubuntu 24.04.3 LTS) | x86_64 | 4.5.1 (2025-06-13) -- "Great Square Root" | 4833 |
| merida1 | macOS 12.7.6 Monterey | x86_64 | 4.5.1 RC (2025-06-05 r88288) -- "Great Square Root" | 4614 |
| kjohnson1 | macOS 13.7.5 Ventura | arm64 | 4.5.1 Patched (2025-06-14 r88325) -- "Great Square Root" | 4555 |
| kunpeng2 | Linux (openEuler 24.03 LTS) | aarch64 | R Under development (unstable) (2025-02-19 r87757) -- "Unsuffered Consequences" | 4586 |
| Click on any hostname to see more info about the system (e.g. compilers) (*) as reported by 'uname -p', except on Windows and Mac OS X | ||||
| Package 317/2341 | Hostname | OS / Arch | INSTALL | BUILD | CHECK | BUILD BIN | ||||||||
| CeTF 1.20.0 (landing page) Carlos Alberto Oliveira de Biagi Junior
| nebbiolo1 | Linux (Ubuntu 24.04.3 LTS) / x86_64 | OK | OK | OK | |||||||||
| merida1 | macOS 12.7.6 Monterey / x86_64 | OK | OK | OK | OK | |||||||||
| kjohnson1 | macOS 13.7.5 Ventura / arm64 | OK | OK | OK | OK | |||||||||
| kunpeng2 | Linux (openEuler 24.03 LTS) / aarch64 | OK | OK | OK | ||||||||||
|
To the developers/maintainers of the CeTF package: - Allow up to 24 hours (and sometimes 48 hours) for your latest push to git@git.bioconductor.org:packages/CeTF.git to reflect on this report. See Troubleshooting Build Report for more information. - Use the following Renviron settings to reproduce errors and warnings. - If 'R CMD check' started to fail recently on the Linux builder(s) over a missing dependency, add the missing dependency to 'Suggests:' in your DESCRIPTION file. See Renviron.bioc for more information. |
| Package: CeTF |
| Version: 1.20.0 |
| Command: /Library/Frameworks/R.framework/Resources/bin/R CMD check --install=check:CeTF.install-out.txt --library=/Library/Frameworks/R.framework/Resources/library --no-vignettes --timings CeTF_1.20.0.tar.gz |
| StartedAt: 2025-10-14 15:36:27 -0400 (Tue, 14 Oct 2025) |
| EndedAt: 2025-10-14 15:42:50 -0400 (Tue, 14 Oct 2025) |
| EllapsedTime: 382.6 seconds |
| RetCode: 0 |
| Status: OK |
| CheckDir: CeTF.Rcheck |
| Warnings: 0 |
##############################################################################
##############################################################################
###
### Running command:
###
### /Library/Frameworks/R.framework/Resources/bin/R CMD check --install=check:CeTF.install-out.txt --library=/Library/Frameworks/R.framework/Resources/library --no-vignettes --timings CeTF_1.20.0.tar.gz
###
##############################################################################
##############################################################################
* using log directory ‘/Users/biocbuild/bbs-3.21-bioc/meat/CeTF.Rcheck’
* using R version 4.5.1 Patched (2025-06-14 r88325)
* using platform: aarch64-apple-darwin20
* R was compiled by
Apple clang version 16.0.0 (clang-1600.0.26.6)
GNU Fortran (GCC) 14.2.0
* running under: macOS Ventura 13.7.5
* using session charset: UTF-8
* using option ‘--no-vignettes’
* checking for file ‘CeTF/DESCRIPTION’ ... OK
* checking extension type ... Package
* this is package ‘CeTF’ version ‘1.20.0’
* package encoding: UTF-8
* checking package namespace information ... OK
* checking package dependencies ... OK
* checking if this is a source package ... OK
* checking if there is a namespace ... OK
* checking for hidden files and directories ... OK
* checking for portable file names ... OK
* checking for sufficient/correct file permissions ... OK
* checking whether package ‘CeTF’ can be installed ... OK
* used C++ compiler: ‘Apple clang version 15.0.0 (clang-1500.0.40.1)’
* used SDK: ‘MacOSX11.3.sdk’
* checking installed package size ... OK
* checking package directory ... OK
* checking ‘build’ directory ... OK
* checking DESCRIPTION meta-information ... OK
* checking top-level files ... OK
* checking for left-over files ... OK
* checking index information ... OK
* checking package subdirectories ... OK
* checking code files for non-ASCII characters ... OK
* checking R files for syntax errors ... OK
* checking whether the package can be loaded ... OK
* checking whether the package can be loaded with stated dependencies ... OK
* checking whether the package can be unloaded cleanly ... OK
* checking whether the namespace can be loaded with stated dependencies ... OK
* checking whether the namespace can be unloaded cleanly ... OK
* checking whether startup messages can be suppressed ... OK
* checking dependencies in R code ... OK
* checking S3 generic/method consistency ... OK
* checking replacement functions ... OK
* checking foreign function calls ... OK
* checking R code for possible problems ... OK
* checking Rd files ... OK
* checking Rd metadata ... OK
* checking Rd cross-references ... OK
* checking for missing documentation entries ... OK
* checking for code/documentation mismatches ... OK
* checking Rd \usage sections ... OK
* checking Rd contents ... OK
* checking for unstated dependencies in examples ... OK
* checking contents of ‘data’ directory ... OK
* checking data for non-ASCII characters ... OK
* checking LazyData ... OK
* checking data for ASCII and uncompressed saves ... OK
* checking line endings in C/C++/Fortran sources/headers ... OK
* checking compiled code ... NOTE
Note: information on .o files is not available
* checking files in ‘vignettes’ ... OK
* checking examples ... OK
* checking for unstated dependencies in ‘tests’ ... OK
* checking tests ...
Running ‘testthat.R’
OK
* checking for unstated dependencies in vignettes ... OK
* checking package vignettes ... OK
* checking running R code from vignettes ... SKIPPED
* checking re-building of vignette outputs ... SKIPPED
* checking PDF version of manual ... OK
* DONE
Status: 1 NOTE
See
‘/Users/biocbuild/bbs-3.21-bioc/meat/CeTF.Rcheck/00check.log’
for details.
CeTF.Rcheck/00install.out
############################################################################## ############################################################################## ### ### Running command: ### ### /Library/Frameworks/R.framework/Resources/bin/R CMD INSTALL CeTF ### ############################################################################## ############################################################################## * installing to library ‘/Library/Frameworks/R.framework/Versions/4.5-arm64/Resources/library’ * installing *source* package ‘CeTF’ ... ** this is package ‘CeTF’ version ‘1.20.0’ ** using staged installation ** libs using C++ compiler: ‘Apple clang version 15.0.0 (clang-1500.0.40.1)’ using SDK: ‘MacOSX11.3.sdk’ clang++ -arch arm64 -std=gnu++17 -I"/Library/Frameworks/R.framework/Resources/include" -DNDEBUG -I'/Library/Frameworks/R.framework/Versions/4.5-arm64/Resources/library/Rcpp/include' -I'/Library/Frameworks/R.framework/Versions/4.5-arm64/Resources/library/RcppArmadillo/include' -I/opt/R/arm64/include -fPIC -falign-functions=64 -Wall -g -O2 -c PCIT.cpp -o PCIT.o clang++ -arch arm64 -std=gnu++17 -I"/Library/Frameworks/R.framework/Resources/include" -DNDEBUG -I'/Library/Frameworks/R.framework/Versions/4.5-arm64/Resources/library/Rcpp/include' -I'/Library/Frameworks/R.framework/Versions/4.5-arm64/Resources/library/RcppArmadillo/include' -I/opt/R/arm64/include -fPIC -falign-functions=64 -Wall -g -O2 -c RcppExports.cpp -o RcppExports.o clang++ -arch arm64 -std=gnu++17 -dynamiclib -Wl,-headerpad_max_install_names -undefined dynamic_lookup -L/Library/Frameworks/R.framework/Resources/lib -L/opt/R/arm64/lib -o CeTF.so PCIT.o RcppExports.o -F/Library/Frameworks/R.framework/.. -framework R installing to /Library/Frameworks/R.framework/Versions/4.5-arm64/Resources/library/00LOCK-CeTF/00new/CeTF/libs ** R ** data *** moving datasets to lazyload DB ** inst ** byte-compile and prepare package for lazy loading ** help *** installing help indices ** building package indices ** installing vignettes ** testing if installed package can be loaded from temporary location ** checking absolute paths in shared objects and dynamic libraries ** testing if installed package can be loaded from final location ** testing if installed package keeps a record of temporary installation path * DONE (CeTF)
CeTF.Rcheck/tests/testthat.Rout
R version 4.5.1 Patched (2025-06-14 r88325) -- "Great Square Root"
Copyright (C) 2025 The R Foundation for Statistical Computing
Platform: aarch64-apple-darwin20
R is free software and comes with ABSOLUTELY NO WARRANTY.
You are welcome to redistribute it under certain conditions.
Type 'license()' or 'licence()' for distribution details.
R is a collaborative project with many contributors.
Type 'contributors()' for more information and
'citation()' on how to cite R or R packages in publications.
Type 'demo()' for some demos, 'help()' for on-line help, or
'help.start()' for an HTML browser interface to help.
Type 'q()' to quit R.
> library("testthat")
> library("CeTF")
========================================
CeTF version 1.20.0
Bioconductor page: http://bioconductor.org/packages/CeTF/
Github page: https://github.com/cbiagii/CeTF or https://cbiagii.github.io/CeTF/
Documentation: http://bioconductor.org/packages/CeTF/
If you use it in published research, please cite:
Carlos Alberto Oliveira de Biagi Junior, Ricardo Perecin Nociti, Breno Osvaldo
Funicheli, Patricia de Cassia Ruy, Joao Paulo Bianchi Ximenez, Wilson A Silva Jr.
CeTF: an R package to Coexpression for Transcription Factors using Regulatory
Impact Factors (RIF) and Partial Correlation and Information (PCIT) analysis.
bioRxiv. 2020, DOI: 10.1101/2020.03.30.015784
========================================
> test_check("CeTF")
[ FAIL 0 | WARN 0 | SKIP 0 | PASS 43 ]
>
> proc.time()
user system elapsed
18.285 1.067 19.605
CeTF.Rcheck/CeTF-Ex.timings
| name | user | system | elapsed | |
| CeTFdemo | 0.002 | 0.002 | 0.003 | |
| CircosTargets | 0.000 | 0.000 | 0.001 | |
| InputData-methods | 0.019 | 0.004 | 0.022 | |
| NetworkData-methods | 0.020 | 0.008 | 0.030 | |
| OutputData-methods | 0.031 | 0.016 | 0.047 | |
| PCIT | 0.017 | 0.002 | 0.020 | |
| RIF | 0.005 | 0.002 | 0.007 | |
| RIFPlot | 0.926 | 0.065 | 1.001 | |
| RIF_input | 0.000 | 0.001 | 0.002 | |
| SmearPlot | 1.877 | 0.120 | 2.042 | |
| TFs | 0.001 | 0.002 | 0.003 | |
| bivar.awk | 0.001 | 0.000 | 0.001 | |
| clustCoef | 0.052 | 0.005 | 0.057 | |
| clustCoefPercentage | 0.031 | 0.003 | 0.033 | |
| densityPlot | 2.129 | 0.065 | 2.213 | |
| diffusion | 0 | 0 | 0 | |
| enrichPlot | 1.062 | 0.033 | 1.110 | |
| enrichdemo | 0.001 | 0.001 | 0.002 | |
| expDiff | 0.317 | 0.009 | 0.329 | |
| getDE-methods | 0.017 | 0.005 | 0.023 | |
| getData-methods | 0.013 | 0.003 | 0.017 | |
| getEnrich | 0 | 0 | 0 | |
| getGroupGO | 0 | 0 | 0 | |
| heatPlot | 1.256 | 0.032 | 1.318 | |
| histPlot | 0.630 | 0.012 | 0.650 | |
| netConditionsPlot | 2.865 | 0.110 | 2.999 | |
| netGOTFPlot | 0.001 | 0.000 | 0.001 | |
| normExp | 0.109 | 0.028 | 0.138 | |
| pcitC | 0.026 | 0.004 | 0.031 | |
| refGenes | 0.001 | 0.002 | 0.003 | |
| runAnalysis | 1.606 | 0.082 | 1.704 | |
| simCounts | 0.001 | 0.001 | 0.003 | |
| simNorm | 0.001 | 0.001 | 0.002 | |
| tolerance | 0.001 | 0.001 | 0.000 | |