| Back to Multiple platform build/check report for BioC 3.21: simplified long |
|
This page was generated on 2025-10-16 11:37 -0400 (Thu, 16 Oct 2025).
| Hostname | OS | Arch (*) | R version | Installed pkgs |
|---|---|---|---|---|
| nebbiolo1 | Linux (Ubuntu 24.04.3 LTS) | x86_64 | 4.5.1 (2025-06-13) -- "Great Square Root" | 4833 |
| merida1 | macOS 12.7.6 Monterey | x86_64 | 4.5.1 RC (2025-06-05 r88288) -- "Great Square Root" | 4614 |
| kjohnson1 | macOS 13.7.5 Ventura | arm64 | 4.5.1 Patched (2025-06-14 r88325) -- "Great Square Root" | 4555 |
| kunpeng2 | Linux (openEuler 24.03 LTS) | aarch64 | R Under development (unstable) (2025-02-19 r87757) -- "Unsuffered Consequences" | 4586 |
| Click on any hostname to see more info about the system (e.g. compilers) (*) as reported by 'uname -p', except on Windows and Mac OS X | ||||
| Package 284/2341 | Hostname | OS / Arch | INSTALL | BUILD | CHECK | BUILD BIN | ||||||||
| CausalR 1.40.0 (landing page) Glyn Bradley
| nebbiolo1 | Linux (Ubuntu 24.04.3 LTS) / x86_64 | OK | OK | OK | |||||||||
| merida1 | macOS 12.7.6 Monterey / x86_64 | OK | OK | OK | OK | |||||||||
| kjohnson1 | macOS 13.7.5 Ventura / arm64 | OK | OK | OK | OK | |||||||||
| kunpeng2 | Linux (openEuler 24.03 LTS) / aarch64 | OK | OK | OK | ||||||||||
|
To the developers/maintainers of the CausalR package: - Allow up to 24 hours (and sometimes 48 hours) for your latest push to git@git.bioconductor.org:packages/CausalR.git to reflect on this report. See Troubleshooting Build Report for more information. - Use the following Renviron settings to reproduce errors and warnings. - If 'R CMD check' started to fail recently on the Linux builder(s) over a missing dependency, add the missing dependency to 'Suggests:' in your DESCRIPTION file. See Renviron.bioc for more information. |
| Package: CausalR |
| Version: 1.40.0 |
| Command: /home/biocbuild/bbs-3.21-bioc/R/bin/R CMD check --install=check:CausalR.install-out.txt --library=/home/biocbuild/bbs-3.21-bioc/R/site-library --timings CausalR_1.40.0.tar.gz |
| StartedAt: 2025-10-15 21:28:05 -0400 (Wed, 15 Oct 2025) |
| EndedAt: 2025-10-15 21:28:44 -0400 (Wed, 15 Oct 2025) |
| EllapsedTime: 39.0 seconds |
| RetCode: 0 |
| Status: OK |
| CheckDir: CausalR.Rcheck |
| Warnings: 0 |
##############################################################################
##############################################################################
###
### Running command:
###
### /home/biocbuild/bbs-3.21-bioc/R/bin/R CMD check --install=check:CausalR.install-out.txt --library=/home/biocbuild/bbs-3.21-bioc/R/site-library --timings CausalR_1.40.0.tar.gz
###
##############################################################################
##############################################################################
* using log directory ‘/home/biocbuild/bbs-3.21-bioc/meat/CausalR.Rcheck’
* using R version 4.5.1 (2025-06-13)
* using platform: x86_64-pc-linux-gnu
* R was compiled by
gcc (Ubuntu 13.3.0-6ubuntu2~24.04) 13.3.0
GNU Fortran (Ubuntu 13.3.0-6ubuntu2~24.04) 13.3.0
* running under: Ubuntu 24.04.3 LTS
* using session charset: UTF-8
* checking for file ‘CausalR/DESCRIPTION’ ... OK
* checking extension type ... Package
* this is package ‘CausalR’ version ‘1.40.0’
* checking package namespace information ... OK
* checking package dependencies ... OK
* checking if this is a source package ... OK
* checking if there is a namespace ... OK
* checking for hidden files and directories ... OK
* checking for portable file names ... OK
* checking for sufficient/correct file permissions ... OK
* checking whether package ‘CausalR’ can be installed ... OK
* checking installed package size ... OK
* checking package directory ... OK
* checking ‘build’ directory ... OK
* checking DESCRIPTION meta-information ... OK
* checking top-level files ... OK
* checking for left-over files ... OK
* checking index information ... OK
* checking package subdirectories ... OK
* checking code files for non-ASCII characters ... OK
* checking R files for syntax errors ... OK
* checking whether the package can be loaded ... OK
* checking whether the package can be loaded with stated dependencies ... OK
* checking whether the package can be unloaded cleanly ... OK
* checking whether the namespace can be loaded with stated dependencies ... OK
* checking whether the namespace can be unloaded cleanly ... OK
* checking loading without being on the library search path ... OK
* checking dependencies in R code ... OK
* checking S3 generic/method consistency ... OK
* checking replacement functions ... OK
* checking foreign function calls ... OK
* checking R code for possible problems ... OK
* checking Rd files ... OK
* checking Rd metadata ... OK
* checking Rd cross-references ... OK
* checking for missing documentation entries ... OK
* checking for code/documentation mismatches ... OK
* checking Rd \usage sections ... OK
* checking Rd contents ... OK
* checking for unstated dependencies in examples ... OK
* checking files in ‘vignettes’ ... NOTE
The following directory looks like a leftover from 'knitr':
‘figure’
Please remove from your package.
* checking examples ... OK
* checking for unstated dependencies in ‘tests’ ... OK
* checking tests ...
Running ‘runTests.R’
OK
* checking for unstated dependencies in vignettes ... OK
* checking package vignettes ... OK
* checking re-building of vignette outputs ... OK
* checking PDF version of manual ... OK
* DONE
Status: 1 NOTE
See
‘/home/biocbuild/bbs-3.21-bioc/meat/CausalR.Rcheck/00check.log’
for details.
CausalR.Rcheck/00install.out
############################################################################## ############################################################################## ### ### Running command: ### ### /home/biocbuild/bbs-3.21-bioc/R/bin/R CMD INSTALL CausalR ### ############################################################################## ############################################################################## * installing to library ‘/home/biocbuild/bbs-3.21-bioc/R/site-library’ * installing *source* package ‘CausalR’ ... ** this is package ‘CausalR’ version ‘1.40.0’ ** using staged installation ** R ** inst ** byte-compile and prepare package for lazy loading ** help *** installing help indices ** building package indices ** installing vignettes ** testing if installed package can be loaded from temporary location ** testing if installed package can be loaded from final location ** testing if installed package keeps a record of temporary installation path * DONE (CausalR)
CausalR.Rcheck/tests/runTests.Rout
R version 4.5.1 (2025-06-13) -- "Great Square Root"
Copyright (C) 2025 The R Foundation for Statistical Computing
Platform: x86_64-pc-linux-gnu
R is free software and comes with ABSOLUTELY NO WARRANTY.
You are welcome to redistribute it under certain conditions.
Type 'license()' or 'licence()' for distribution details.
R is a collaborative project with many contributors.
Type 'contributors()' for more information and
'citation()' on how to cite R or R packages in publications.
Type 'demo()' for some demos, 'help()' for on-line help, or
'help.start()' for an HTML browser interface to help.
Type 'q()' to quit R.
> # Make sure that the igraph package has been loaded
>
> library(igraph)
Attaching package: 'igraph'
The following objects are masked from 'package:stats':
decompose, spectrum
The following object is masked from 'package:base':
union
>
> BiocGenerics:::testPackage("CausalR")
[1] "File read complete - read in 3 lines. Now constructing network"
[1] "Network has been created - now adding edge properties"
[1] "Added weights to edges"
[1] "File read complete - read in 2 lines. Now constructing network"
[1] "Network has been created - now adding edge properties"
[1] "Added weights to edges"
[1] "File read complete - read in 2 lines. Now constructing network"
[1] "Network has been created - now adding edge properties"
[1] "Added weights to edges"
[1] "File read complete - read in 4 lines. Now constructing network"
[1] "Network has been created - now adding edge properties"
[1] "Added weights to edges"
[1] "File read complete - read in 4 lines. Now constructing network"
[1] "Network has been created - now adding edge properties"
[1] "Added weights to edges"
[1] "The values in the second column do not match what is expected. They should be (+)1, 0 or -1"
[1] "The experimental data read in didn't have two columns"
Number of Nodes to analyse: 3
Number of Nodes to analyse: 1
Number of Nodes to analyse: 1
Number of Nodes to analyse: 3
Number of Nodes to analyse: 3
Number of Nodes to analyse: 3
Number of Nodes to analyse: 3
Number of Nodes to analyse: 3
Number of Nodes to analyse: 3
Number of Nodes to analyse: 3
Number of Nodes to analyse: 3
Number of Nodes to analyse: 3
Number of Nodes to analyse: 3
Number of Nodes to analyse: 3
Number of Nodes to analyse: 1
Number of Nodes to analyse: 1
Number of Nodes to analyse: 1
Number of Nodes to analyse: 1
Number of Nodes to analyse: 2
Number of Nodes to analyse: 2
Number of Nodes to analyse: 1
Number of Nodes to analyse: 1
Number of Nodes to analyse: 1
Number of Nodes to analyse: 1
Number of Nodes to analyse: 2
Number of Nodes to analyse: 2
Number of Nodes to analyse: 2
Number of Nodes to analyse: 2
Number of Nodes to analyse: 1
Number of Nodes to analyse: 1
Number of Nodes to analyse: 1
Number of Nodes to analyse: 1
Number of Nodes to analyse: 3
Number of Nodes to analyse: 3
[1] "File read complete - read in 2 lines. Now constructing network"
[1] "Network has been created - now adding edge properties"
[1] "Added weights to edges"
Writing sif file to: /tmp/Rtmp0hrOAu-148082886/corExplainedNodes-file231ab71c4de109.sif
Writing annotation file to: /tmp/Rtmp0hrOAu-148082886/corExplainedNodes-file231ab71c4de109_anno.txt
corExplainedNodes
Node0 Activates Node1
Node0 Inhibits Node2
Node1 Activates Node3
Node2 Activates Node6
Node2 Activates Node7
Writing sif file to: /tmp/Rtmp0hrOAu-177771726/corExplainedNodes-testNetwork1-testData1-delta2-Node0+.sif
Writing annotation file to: /tmp/Rtmp0hrOAu-177771726/corExplainedNodes-testNetwork1-testData1-delta2-Node0+_anno.txt
corExplainedNodes
Node0 Activates Node1
Node0 Inhibits Node2
Node1 Activates Node3
Node2 Activates Node6
Node2 Activates Node7
Writing sif file to: /tmp/Rtmp0hrOAu-980911480/corExplainedNodes-testNetwork1-testData1-delta2-Node0+.sif
Writing annotation file to: /tmp/Rtmp0hrOAu-980911480/corExplainedNodes-testNetwork1-testData1-delta2-Node0+_anno.txt
corExplainedNodes
Node0 Activates Node1
Node0 Inhibits Node2
Node1 Activates Node3
Node2 Activates Node6
Node2 Activates Node7
Writing sif file to: /tmp/Rtmp0hrOAu-980911480/incorExplainedNodes-testNetwork1-testData1-delta2-Node0+.sif
Writing annotation file to: /tmp/Rtmp0hrOAu-980911480/incorExplainedNodes-testNetwork1-testData1-delta2-Node0+_anno.txt
incorExplainedNodes
Node0 Inhibits Node2
Writing sif file to: /tmp/Rtmp0hrOAu-980911480/ambExplainedNodes-testNetwork1-testData1-delta2-Node0+.sif
Writing annotation file to: /tmp/Rtmp0hrOAu-980911480/ambExplainedNodes-testNetwork1-testData1-delta2-Node0+_anno.txt
ambExplainedNodes
Node0 Activates Node1
Node0 Inhibits Node2
Node1 Inhibits Node5
Node2 Inhibits Node5
Writing sif file to: /tmp/Rtmp0hrOAu/corExplainedNodes-file231ab77a0abb80.sif
Writing annotation file to: /tmp/Rtmp0hrOAu/corExplainedNodes-file231ab77a0abb80_anno.txt
corExplainedNodes
Node0 Activates Node1
Writing sif file to: /tmp/Rtmp0hrOAu/incorExplainedNodes-file231ab77a0abb80.sif
Writing annotation file to: /tmp/Rtmp0hrOAu/incorExplainedNodes-file231ab77a0abb80_anno.txt
incorExplainedNodes
Node0 Inhibits Node2
Writing sif file to: /tmp/Rtmp0hrOAu/ambExplainedNodes-file231ab77a0abb80.sif
Writing annotation file to: /tmp/Rtmp0hrOAu/ambExplainedNodes-file231ab77a0abb80_anno.txt
ambExplainedNodes
Writing sif file to: /tmp/Rtmp0hrOAu/corExplainedNodes-file231ab72d9641d.sif
Writing annotation file to: /tmp/Rtmp0hrOAu/corExplainedNodes-file231ab72d9641d_anno.txt
corExplainedNodes
Node0 Activates Node1
Node0 Inhibits Node2
Node1 Activates Node3
Node2 Activates Node6
Node2 Activates Node7
Writing sif file to: /tmp/Rtmp0hrOAu/incorExplainedNodes-file231ab72d9641d.sif
Writing annotation file to: /tmp/Rtmp0hrOAu/incorExplainedNodes-file231ab72d9641d_anno.txt
incorExplainedNodes
Node0 Inhibits Node2
Writing sif file to: /tmp/Rtmp0hrOAu/ambExplainedNodes-file231ab72d9641d.sif
Writing annotation file to: /tmp/Rtmp0hrOAu/ambExplainedNodes-file231ab72d9641d_anno.txt
ambExplainedNodes
Node0 Activates Node1
Node0 Inhibits Node2
Node1 Inhibits Node5
Node2 Inhibits Node5
Writing sif file to: /tmp/Rtmp0hrOAu-52234855/corExplainedNodes-file231ab77a766a46.sif
Writing annotation file to: /tmp/Rtmp0hrOAu-52234855/corExplainedNodes-file231ab77a766a46_anno.txt
corExplainedNodes
Node0 Activates Node1
Node0 Inhibits Node2
Node1 Activates Node3
Node2 Activates Node6
Node2 Activates Node7
Writing sif file to: /tmp/Rtmp0hrOAu-687449456/corExplainedNodes-testNetwork1-testData1-delta2-Node0+.sif
Writing annotation file to: /tmp/Rtmp0hrOAu-687449456/corExplainedNodes-testNetwork1-testData1-delta2-Node0+_anno.txt
corExplainedNodes
Node0 Activates Node1
Node0 Inhibits Node2
Node1 Activates Node3
Node2 Activates Node6
Node2 Activates Node7
Writing sif file to: /tmp/Rtmp0hrOAu-393356914/corExplainedNodes-testNetwork1-testData1-delta2-Node0+.sif
Writing annotation file to: /tmp/Rtmp0hrOAu-393356914/corExplainedNodes-testNetwork1-testData1-delta2-Node0+_anno.txt
corExplainedNodes
Node0 Activates Node1
Node0 Inhibits Node2
Node1 Activates Node3
Node2 Activates Node6
Node2 Activates Node7
Writing sif file to: /tmp/Rtmp0hrOAu-393356914/incorExplainedNodes-testNetwork1-testData1-delta2-Node0+.sif
Writing annotation file to: /tmp/Rtmp0hrOAu-393356914/incorExplainedNodes-testNetwork1-testData1-delta2-Node0+_anno.txt
incorExplainedNodes
Node0 Inhibits Node2
Writing sif file to: /tmp/Rtmp0hrOAu-393356914/ambExplainedNodes-testNetwork1-testData1-delta2-Node0+.sif
Writing annotation file to: /tmp/Rtmp0hrOAu-393356914/ambExplainedNodes-testNetwork1-testData1-delta2-Node0+_anno.txt
ambExplainedNodes
Node0 Activates Node1
Node0 Inhibits Node2
Node1 Inhibits Node5
Node2 Inhibits Node5
RUNIT TEST PROTOCOL -- Wed Oct 15 21:28:27 2025
***********************************************
Number of test functions: 129
Number of errors: 0
Number of failures: 0
1 Test Suite :
CausalR RUnit Tests - 129 test functions, 0 errors, 0 failures
Number of test functions: 129
Number of errors: 0
Number of failures: 0
Warning messages:
1: In file(file, "rt") :
cannot open file 'nonExistentFile.sif': No such file or directory
2: In file(file, "rt") :
cannot open file 'nonExistentFile.sif': No such file or directory
>
> proc.time()
user system elapsed
1.788 0.431 2.010
CausalR.Rcheck/CausalR-Ex.timings
| name | user | system | elapsed | |
| AnalysePredictionsList | 0.020 | 0.001 | 0.022 | |
| CalculateEnrichmentPValue | 0.001 | 0.000 | 0.002 | |
| CalculateSignificance | 0.045 | 0.000 | 0.045 | |
| CalculateSignificanceUsingCubicAlgorithm | 0.042 | 0.000 | 0.042 | |
| CalculateSignificanceUsingCubicAlgorithm1b | 0.039 | 0.000 | 0.038 | |
| CalculateSignificanceUsingQuarticAlgorithm | 0.047 | 0.000 | 0.047 | |
| CompareHypothesis | 0.005 | 0.001 | 0.005 | |
| CreateCCG | 0.005 | 0.001 | 0.005 | |
| CreateCG | 0.005 | 0.000 | 0.006 | |
| GetNodeName | 0.004 | 0.001 | 0.006 | |
| GetNumberOfPositiveAndNegativeEntries | 0.002 | 0.000 | 0.002 | |
| GetShortestPathsFromCCG | 0.013 | 0.000 | 0.013 | |
| MakePredictions | 0.007 | 0.000 | 0.006 | |
| MakePredictionsFromCCG | 0.006 | 0.001 | 0.007 | |
| MakePredictionsFromCG | 0.054 | 0.000 | 0.054 | |
| PlotGraphWithNodeNames | 0.078 | 0.001 | 0.080 | |
| RankTheHypotheses | 0.196 | 0.028 | 0.198 | |
| ReadExperimentalData | 0.009 | 0.002 | 0.011 | |
| ScoreHypothesis | 0.003 | 0.000 | 0.003 | |
| WriteAllExplainedNodesToSifFile | 0.075 | 0.059 | 0.088 | |
| WriteExplainedNodesToSifFile | 0.036 | 0.005 | 0.041 | |
| runSCANR | 0.328 | 0.076 | 0.361 | |