Back to Multiple platform build/check report for BioC 3.21:   simplified   long
AB[C]DEFGHIJKLMNOPQRSTUVWXYZ

This page was generated on 2025-04-22 13:15 -0400 (Tue, 22 Apr 2025).

HostnameOSArch (*)R versionInstalled pkgs
nebbiolo1Linux (Ubuntu 24.04.1 LTS)x86_644.5.0 RC (2025-04-04 r88126) -- "How About a Twenty-Six" 4831
palomino7Windows Server 2022 Datacenterx644.5.0 RC (2025-04-04 r88126 ucrt) -- "How About a Twenty-Six" 4573
lconwaymacOS 12.7.1 Montereyx86_644.5.0 RC (2025-04-04 r88126) -- "How About a Twenty-Six" 4599
kjohnson3macOS 13.7.1 Venturaarm644.5.0 RC (2025-04-04 r88126) -- "How About a Twenty-Six" 4553
kunpeng2Linux (openEuler 24.03 LTS)aarch64R Under development (unstable) (2025-02-19 r87757) -- "Unsuffered Consequences" 4570
Click on any hostname to see more info about the system (e.g. compilers)      (*) as reported by 'uname -p', except on Windows and Mac OS X

Package 275/2341HostnameOS / ArchINSTALLBUILDCHECKBUILD BIN
Cardinal 3.10.0  (landing page)
Kylie Ariel Bemis
Snapshot Date: 2025-04-21 13:40 -0400 (Mon, 21 Apr 2025)
git_url: https://git.bioconductor.org/packages/Cardinal
git_branch: RELEASE_3_21
git_last_commit: 07d9273
git_last_commit_date: 2025-04-15 10:37:46 -0400 (Tue, 15 Apr 2025)
nebbiolo1Linux (Ubuntu 24.04.1 LTS) / x86_64  OK    OK    OK  YES
palomino7Windows Server 2022 Datacenter / x64  OK    OK    ERROR    OK  
lconwaymacOS 12.7.1 Monterey / x86_64  OK    OK    OK    OK  YES
kjohnson3macOS 13.7.1 Ventura / arm64  OK    OK    OK    OK  YES
kunpeng2Linux (openEuler 24.03 LTS) / aarch64  OK    OK    OK  


CHECK results for Cardinal on lconway

To the developers/maintainers of the Cardinal package:
- Allow up to 24 hours (and sometimes 48 hours) for your latest push to git@git.bioconductor.org:packages/Cardinal.git to reflect on this report. See Troubleshooting Build Report for more information.
- Use the following Renviron settings to reproduce errors and warnings.
- If 'R CMD check' started to fail recently on the Linux builder(s) over a missing dependency, add the missing dependency to 'Suggests:' in your DESCRIPTION file. See Renviron.bioc for more information.

raw results


Summary

Package: Cardinal
Version: 3.10.0
Command: /Library/Frameworks/R.framework/Resources/bin/R CMD check --install=check:Cardinal.install-out.txt --library=/Library/Frameworks/R.framework/Resources/library --no-vignettes --timings Cardinal_3.10.0.tar.gz
StartedAt: 2025-04-21 19:33:45 -0400 (Mon, 21 Apr 2025)
EndedAt: 2025-04-21 19:40:58 -0400 (Mon, 21 Apr 2025)
EllapsedTime: 433.1 seconds
RetCode: 0
Status:   OK  
CheckDir: Cardinal.Rcheck
Warnings: 0

Command output

##############################################################################
##############################################################################
###
### Running command:
###
###   /Library/Frameworks/R.framework/Resources/bin/R CMD check --install=check:Cardinal.install-out.txt --library=/Library/Frameworks/R.framework/Resources/library --no-vignettes --timings Cardinal_3.10.0.tar.gz
###
##############################################################################
##############################################################################


* using log directory ‘/Users/biocbuild/bbs-3.21-bioc/meat/Cardinal.Rcheck’
* using R version 4.5.0 RC (2025-04-04 r88126)
* using platform: x86_64-apple-darwin20
* R was compiled by
    Apple clang version 14.0.0 (clang-1400.0.29.202)
    GNU Fortran (GCC) 14.2.0
* running under: macOS Monterey 12.7.6
* using session charset: UTF-8
* using option ‘--no-vignettes’
* checking for file ‘Cardinal/DESCRIPTION’ ... OK
* checking extension type ... Package
* this is package ‘Cardinal’ version ‘3.10.0’
* checking package namespace information ... OK
* checking package dependencies ... OK
* checking if this is a source package ... OK
* checking if there is a namespace ... OK
* checking for hidden files and directories ... OK
* checking for portable file names ... OK
* checking for sufficient/correct file permissions ... OK
* checking whether package ‘Cardinal’ can be installed ... OK
* checking installed package size ... OK
* checking package directory ... OK
* checking ‘build’ directory ... OK
* checking DESCRIPTION meta-information ... OK
* checking top-level files ... OK
* checking for left-over files ... OK
* checking index information ... OK
* checking package subdirectories ... OK
* checking code files for non-ASCII characters ... OK
* checking R files for syntax errors ... OK
* checking whether the package can be loaded ... OK
* checking whether the package can be loaded with stated dependencies ... OK
* checking whether the package can be unloaded cleanly ... OK
* checking whether the namespace can be loaded with stated dependencies ... OK
* checking whether the namespace can be unloaded cleanly ... OK
* checking whether startup messages can be suppressed ... OK
* checking dependencies in R code ... OK
* checking S3 generic/method consistency ... OK
* checking replacement functions ... OK
* checking foreign function calls ... OK
* checking R code for possible problems ... OK
* checking Rd files ... OK
* checking Rd metadata ... OK
* checking Rd cross-references ... NOTE
Found the following Rd file(s) with Rd \link{} targets missing package
anchors:
  Cardinal-package.Rd: bplapply, simple_logger
  MSImagingArrays-class.Rd: ImzMeta-class, ProcessingStep-class
  MSImagingExperiment-class.Rd: ImzMeta-class, ProcessingStep-class
  MeansTest.Rd: lme, chunkApply, bplapply
  ResultsList-class.Rd: SimpleList-class
  SpatialCV.Rd: chunkApply, bplapply, cv_do
  SpatialDGMM.Rd: chunkApply, bplapply
  SpatialFastmap.Rd: chunkApply, bplapply
  SpatialKMeans.Rd: chunkApply, bplapply
  SpatialPCA.Rd: chunkApply, bplapply, irlba
  SpatialPLS.Rd: chunkApply, bplapply
  SpatialResults-class.Rd: DataFrame-class
  SpatialShrunkenCentroids.Rd: chunkApply, bplapply
  SpectraArrays-class.Rd: SimpleList-class
  SpectralImagingArrays-class.Rd: ProcessingStep-class
  SpectralImagingData-class.Rd: ProcessingStep-class
  SpectralImagingExperiment-class.Rd: DataFrame-class,
    ProcessingStep-class
  XDataFrame-class.Rd: DataFrame-class, DataFrame
  colocalized.Rd: chunkApply, bplapply
  estimateDomain.Rd: chunkApply, bplapply, chunkLapply
  findNeighbors.Rd: sparse_mat-class
  normalize.Rd: rescale_sum, rescale_rms, rescale_ref
  peakAlign.Rd: chunkApply, bplapply
  peakPick.Rd: estnoise_diff, estnoise_sd, estnoise_mad,
    estnoise_quant, estnoise_filt, findpeaks_cwt
  peakProcess.Rd: chunkApply, bplapply
  plot-image.Rd: enhance, filt2, plot_image
  plot-spectra.Rd: downsample, plot_signal
  process.Rd: chunkApply, bplapply
  readMSIData.Rd: matter, chunkApply, bplapply
  recalibrate.Rd: warp1_loc, warp1_dtw, warp1_cow
  reduceBaseline.Rd: estbase_loc, estbase_hull, estbase_snip,
    estbase_med
  simulateSpectra.Rd: chunkApply, bplapply
  smooth.Rd: filt1_gauss, filt1_bi, filt1_adapt, filt1_diff,
    filt1_guide, filt1_pag, filt1_sg, filt1_ma
  spatialDists.Rd: chunkApply, bplapply
  spatialWeights.Rd: chunkApply, bplapply, sparse_mat-class
  spectrapply.Rd: chunkApply, bplapply
  summarize.Rd: chunkApply, bplapply
  writeMSIData.Rd: chunkApply, bplapply
Please provide package anchors for all Rd \link{} targets not in the
package itself and the base packages.
* checking for missing documentation entries ... OK
* checking for code/documentation mismatches ... OK
* checking Rd \usage sections ... OK
* checking Rd contents ... OK
* checking for unstated dependencies in examples ... OK
* checking files in ‘vignettes’ ... OK
* checking examples ... OK
Examples with CPU (user + system) or elapsed time > 5s
             user system elapsed
MeansTest  17.069  0.204  17.364
plot-image  6.207  0.045   6.289
* checking for unstated dependencies in ‘tests’ ... OK
* checking tests ...
  Running ‘testthat.R’
 OK
* checking for unstated dependencies in vignettes ... OK
* checking package vignettes ... OK
* checking running R code from vignettes ... SKIPPED
* checking re-building of vignette outputs ... SKIPPED
* checking PDF version of manual ... OK
* DONE

Status: 1 NOTE
See
  ‘/Users/biocbuild/bbs-3.21-bioc/meat/Cardinal.Rcheck/00check.log’
for details.


Installation output

Cardinal.Rcheck/00install.out

##############################################################################
##############################################################################
###
### Running command:
###
###   /Library/Frameworks/R.framework/Resources/bin/R CMD INSTALL Cardinal
###
##############################################################################
##############################################################################


* installing to library ‘/Library/Frameworks/R.framework/Versions/4.5-x86_64/Resources/library’
* installing *source* package ‘Cardinal’ ...
** this is package ‘Cardinal’ version ‘3.10.0’
** using staged installation
** R
** inst
** byte-compile and prepare package for lazy loading
** help
*** installing help indices
** building package indices
** installing vignettes
** testing if installed package can be loaded from temporary location
** testing if installed package can be loaded from final location
** testing if installed package keeps a record of temporary installation path
* DONE (Cardinal)

Tests output

Cardinal.Rcheck/tests/testthat.Rout


R version 4.5.0 RC (2025-04-04 r88126) -- "How About a Twenty-Six"
Copyright (C) 2025 The R Foundation for Statistical Computing
Platform: x86_64-apple-darwin20

R is free software and comes with ABSOLUTELY NO WARRANTY.
You are welcome to redistribute it under certain conditions.
Type 'license()' or 'licence()' for distribution details.

R is a collaborative project with many contributors.
Type 'contributors()' for more information and
'citation()' on how to cite R or R packages in publications.

Type 'demo()' for some demos, 'help()' for on-line help, or
'help.start()' for an HTML browser interface to help.
Type 'q()' to quit R.

> library(testthat)
> library(Cardinal)
Loading required package: BiocParallel
Loading required package: BiocGenerics
Loading required package: generics

Attaching package: 'generics'

The following objects are masked from 'package:base':

    as.difftime, as.factor, as.ordered, intersect, is.element, setdiff,
    setequal, union


Attaching package: 'BiocGenerics'

The following objects are masked from 'package:stats':

    IQR, mad, sd, var, xtabs

The following objects are masked from 'package:base':

    Filter, Find, Map, Position, Reduce, anyDuplicated, aperm, append,
    as.data.frame, basename, cbind, colnames, dirname, do.call,
    duplicated, eval, evalq, get, grep, grepl, is.unsorted, lapply,
    mapply, match, mget, order, paste, pmax, pmax.int, pmin, pmin.int,
    rank, rbind, rownames, sapply, saveRDS, table, tapply, unique,
    unsplit, which.max, which.min

Loading required package: ProtGenerics

Attaching package: 'ProtGenerics'

The following object is masked from 'package:stats':

    smooth

Loading required package: S4Vectors
Loading required package: stats4

Attaching package: 'S4Vectors'

The following object is masked from 'package:utils':

    findMatches

The following objects are masked from 'package:base':

    I, expand.grid, unname

> 
> test_check("Cardinal")
[ FAIL 0 | WARN 0 | SKIP 0 | PASS 756 ]
> 
> proc.time()
   user  system elapsed 
211.546   6.664 217.908 

Example timings

Cardinal.Rcheck/Cardinal-Ex.timings

nameusersystemelapsed
MSImagingArrays-class0.1980.0060.206
MSImagingExperiment-class0.1800.0030.185
MassDataFrame-class0.0350.0000.036
MeansTest17.069 0.20417.364
PositionDataFrame-class0.0610.0010.063
SpatialDGMM3.3060.0243.348
SpatialFastmap2.7200.0272.769
SpatialKMeans2.7680.0222.812
SpatialNMF2.7280.0542.808
SpatialPCA2.8340.0272.887
SpatialPLS2.7110.0192.744
SpatialShrunkenCentroids3.7590.0453.836
SpectraArrays-class0.0100.0010.011
SpectralImagingArrays-class0.0820.0010.083
SpectralImagingExperiment-class0.0790.0010.080
XDataFrame-class0.0150.0000.015
bin0.5980.0040.603
colocalized3.0890.0353.136
features2.7050.0272.750
findNeighbors0.0660.0040.070
normalize0.5630.0040.571
peakAlign0.7310.0060.742
peakPick0.8380.0070.850
peakProcess0.7470.0050.755
pixels2.4110.0102.429
plot-image6.2070.0456.289
plot-spectra0.8420.0150.866
process0.8240.0060.835
recalibrate0.8070.0070.819
reduceBaseline0.7330.0050.742
simulateSpectra2.8220.0222.858
sliceImage2.5600.0162.591
smooth0.7310.0060.743
spatialDists2.7160.0242.754
spatialWeights2.6790.0492.741
spectrapply2.5700.0162.601
subset2.8010.0182.838
summarize2.7460.0202.782