| Back to Multiple platform build/check report for BioC 3.22: simplified long |
|
This page was generated on 2025-11-24 12:03 -0500 (Mon, 24 Nov 2025).
| Hostname | OS | Arch (*) | R version | Installed pkgs |
|---|---|---|---|---|
| nebbiolo2 | Linux (Ubuntu 24.04.3 LTS) | x86_64 | 4.5.2 (2025-10-31) -- "[Not] Part in a Rumble" | 4873 |
| merida1 | macOS 12.7.6 Monterey | x86_64 | 4.5.2 Patched (2025-11-05 r88990) -- "[Not] Part in a Rumble" | 4654 |
| kjohnson1 | macOS 13.7.5 Ventura | arm64 | 4.5.2 Patched (2025-11-04 r88984) -- "[Not] Part in a Rumble" | 4600 |
| taishan | Linux (openEuler 24.03 LTS) | aarch64 | 4.5.0 (2025-04-11) -- "How About a Twenty-Six" | 4668 |
| Click on any hostname to see more info about the system (e.g. compilers) (*) as reported by 'uname -p', except on Windows and Mac OS X | ||||
| Package 277/2361 | Hostname | OS / Arch | INSTALL | BUILD | CHECK | BUILD BIN | ||||||||
| CaMutQC 1.6.0 (landing page) Xin Wang
| nebbiolo2 | Linux (Ubuntu 24.04.3 LTS) / x86_64 | OK | OK | OK | |||||||||
| merida1 | macOS 12.7.6 Monterey / x86_64 | OK | OK | OK | OK | |||||||||
| kjohnson1 | macOS 13.7.5 Ventura / arm64 | OK | OK | OK | OK | |||||||||
| taishan | Linux (openEuler 24.03 LTS) / aarch64 | OK | OK | OK | ||||||||||
|
To the developers/maintainers of the CaMutQC package: - Allow up to 24 hours (and sometimes 48 hours) for your latest push to git@git.bioconductor.org:packages/CaMutQC.git to reflect on this report. See Troubleshooting Build Report for more information. - Use the following Renviron settings to reproduce errors and warnings. - If 'R CMD check' started to fail recently on the Linux builder(s) over a missing dependency, add the missing dependency to 'Suggests:' in your DESCRIPTION file. See Renviron.bioc for more information. |
| Package: CaMutQC |
| Version: 1.6.0 |
| Command: /home/biocbuild/bbs-3.22-bioc/R/bin/R CMD check --install=check:CaMutQC.install-out.txt --library=/home/biocbuild/bbs-3.22-bioc/R/site-library --timings CaMutQC_1.6.0.tar.gz |
| StartedAt: 2025-11-20 22:33:19 -0500 (Thu, 20 Nov 2025) |
| EndedAt: 2025-11-20 22:37:27 -0500 (Thu, 20 Nov 2025) |
| EllapsedTime: 248.2 seconds |
| RetCode: 0 |
| Status: OK |
| CheckDir: CaMutQC.Rcheck |
| Warnings: 0 |
##############################################################################
##############################################################################
###
### Running command:
###
### /home/biocbuild/bbs-3.22-bioc/R/bin/R CMD check --install=check:CaMutQC.install-out.txt --library=/home/biocbuild/bbs-3.22-bioc/R/site-library --timings CaMutQC_1.6.0.tar.gz
###
##############################################################################
##############################################################################
* using log directory ‘/home/biocbuild/bbs-3.22-bioc/meat/CaMutQC.Rcheck’
* using R version 4.5.2 (2025-10-31)
* using platform: x86_64-pc-linux-gnu
* R was compiled by
gcc (Ubuntu 13.3.0-6ubuntu2~24.04) 13.3.0
GNU Fortran (Ubuntu 13.3.0-6ubuntu2~24.04) 13.3.0
* running under: Ubuntu 24.04.3 LTS
* using session charset: UTF-8
* checking for file ‘CaMutQC/DESCRIPTION’ ... OK
* checking extension type ... Package
* this is package ‘CaMutQC’ version ‘1.6.0’
* package encoding: UTF-8
* checking package namespace information ... OK
* checking package dependencies ... OK
* checking if this is a source package ... OK
* checking if there is a namespace ... OK
* checking for hidden files and directories ... OK
* checking for portable file names ... OK
* checking for sufficient/correct file permissions ... OK
* checking whether package ‘CaMutQC’ can be installed ... OK
* checking installed package size ... OK
* checking package directory ... OK
* checking ‘build’ directory ... OK
* checking DESCRIPTION meta-information ... OK
* checking top-level files ... NOTE
File
LICENSE
is not mentioned in the DESCRIPTION file.
* checking for left-over files ... OK
* checking index information ... OK
* checking package subdirectories ... OK
* checking code files for non-ASCII characters ... OK
* checking R files for syntax errors ... OK
* checking whether the package can be loaded ... OK
* checking whether the package can be loaded with stated dependencies ... OK
* checking whether the package can be unloaded cleanly ... OK
* checking whether the namespace can be loaded with stated dependencies ... OK
* checking whether the namespace can be unloaded cleanly ... OK
* checking loading without being on the library search path ... OK
* checking dependencies in R code ... OK
* checking S3 generic/method consistency ... OK
* checking replacement functions ... OK
* checking foreign function calls ... OK
* checking R code for possible problems ... NOTE
mutFilterNormalDP: no visible binding for global variable
‘Existing_variation’
mutFilterNormalDP: no visible binding for global variable ‘n_depth’
mutFilterNormalDP: no visible binding for global variable ‘rowname’
Undefined global functions or variables:
Existing_variation n_depth rowname
* checking Rd files ... OK
* checking Rd metadata ... OK
* checking Rd cross-references ... OK
* checking for missing documentation entries ... OK
* checking for code/documentation mismatches ... OK
* checking Rd \usage sections ... OK
* checking Rd contents ... OK
* checking for unstated dependencies in examples ... OK
* checking files in ‘vignettes’ ... OK
* checking examples ... OK
Examples with CPU (user + system) or elapsed time > 5s
user system elapsed
mutFilterReg 14.229 0.115 14.344
* checking for unstated dependencies in vignettes ... OK
* checking package vignettes ... OK
* checking re-building of vignette outputs ... OK
* checking PDF version of manual ... OK
* DONE
Status: 2 NOTEs
See
‘/home/biocbuild/bbs-3.22-bioc/meat/CaMutQC.Rcheck/00check.log’
for details.
CaMutQC.Rcheck/00install.out
############################################################################## ############################################################################## ### ### Running command: ### ### /home/biocbuild/bbs-3.22-bioc/R/bin/R CMD INSTALL CaMutQC ### ############################################################################## ############################################################################## * installing to library ‘/home/biocbuild/bbs-3.22-bioc/R/site-library’ * installing *source* package ‘CaMutQC’ ... ** this is package ‘CaMutQC’ version ‘1.6.0’ ** using staged installation ** R ** inst ** byte-compile and prepare package for lazy loading Warning: replacing previous import ‘ape::degree’ by ‘circlize::degree’ when loading ‘MesKit’ Warning: replacing previous import ‘ape::where’ by ‘dplyr::where’ when loading ‘MesKit’ Warning: replacing previous import ‘dplyr::count’ by ‘mclust::count’ when loading ‘MesKit’ ** help *** installing help indices ** building package indices ** installing vignettes ** testing if installed package can be loaded from temporary location Warning: replacing previous import ‘ape::degree’ by ‘circlize::degree’ when loading ‘MesKit’ Warning: replacing previous import ‘ape::where’ by ‘dplyr::where’ when loading ‘MesKit’ Warning: replacing previous import ‘dplyr::count’ by ‘mclust::count’ when loading ‘MesKit’ ** testing if installed package can be loaded from final location Warning: replacing previous import ‘ape::degree’ by ‘circlize::degree’ when loading ‘MesKit’ Warning: replacing previous import ‘ape::where’ by ‘dplyr::where’ when loading ‘MesKit’ Warning: replacing previous import ‘dplyr::count’ by ‘mclust::count’ when loading ‘MesKit’ ** testing if installed package keeps a record of temporary installation path * DONE (CaMutQC)
CaMutQC.Rcheck/CaMutQC-Ex.timings
| name | user | system | elapsed | |
| calTMB | 3.458 | 0.145 | 3.603 | |
| mutFilterAdj | 0.815 | 0.000 | 0.816 | |
| mutFilterCan | 0.864 | 0.026 | 0.890 | |
| mutFilterCom | 0.856 | 0.007 | 0.863 | |
| mutFilterDB | 0.798 | 0.003 | 0.801 | |
| mutFilterNormalDP | 0.787 | 0.016 | 0.803 | |
| mutFilterPON | 0.789 | 0.024 | 0.813 | |
| mutFilterQual | 0.792 | 0.001 | 0.793 | |
| mutFilterRef | 0.821 | 0.002 | 0.823 | |
| mutFilterReg | 14.229 | 0.115 | 14.344 | |
| mutFilterSB | 0.778 | 0.006 | 0.784 | |
| mutFilterTech | 0.845 | 0.054 | 0.899 | |
| mutFilterType | 0.785 | 0.009 | 0.794 | |
| mutSelection | 0.776 | 0.002 | 0.778 | |
| processMut | 0.458 | 0.005 | 0.464 | |
| toMesKit | 0.458 | 0.005 | 0.464 | |
| tomaftools | 0.463 | 0.008 | 0.448 | |
| vcfToMAF | 0.783 | 0.006 | 0.788 | |