Back to Multiple platform build/check report for BioC 3.20:   simplified   long
AB[C]DEFGHIJKLMNOPQRSTUVWXYZ

This page was generated on 2025-02-03 12:11 -0500 (Mon, 03 Feb 2025).

HostnameOSArch (*)R versionInstalled pkgs
nebbiolo2Linux (Ubuntu 24.04.1 LTS)x86_644.4.2 (2024-10-31) -- "Pile of Leaves" 4746
palomino8Windows Server 2022 Datacenterx644.4.2 (2024-10-31 ucrt) -- "Pile of Leaves" 4494
merida1macOS 12.7.5 Montereyx86_644.4.2 (2024-10-31) -- "Pile of Leaves" 4517
kjohnson1macOS 13.6.6 Venturaarm644.4.2 (2024-10-31) -- "Pile of Leaves" 4469
taishanLinux (openEuler 24.03 LTS)aarch644.4.2 (2024-10-31) -- "Pile of Leaves" 4400
Click on any hostname to see more info about the system (e.g. compilers)      (*) as reported by 'uname -p', except on Windows and Mac OS X

Package 473/2289HostnameOS / ArchINSTALLBUILDCHECKBUILD BIN
CTexploreR 1.2.0  (landing page)
Axelle Loriot
Snapshot Date: 2025-01-30 13:00 -0500 (Thu, 30 Jan 2025)
git_url: https://git.bioconductor.org/packages/CTexploreR
git_branch: RELEASE_3_20
git_last_commit: 5f977a5
git_last_commit_date: 2024-10-29 11:26:00 -0500 (Tue, 29 Oct 2024)
nebbiolo2Linux (Ubuntu 24.04.1 LTS) / x86_64  OK    OK    OK  UNNEEDED, same version is already published
palomino8Windows Server 2022 Datacenter / x64  OK    OK    OK    OK  UNNEEDED, same version is already published
merida1macOS 12.7.5 Monterey / x86_64  OK    OK    TIMEOUT    OK  
kjohnson1macOS 13.6.6 Ventura / arm64  OK    OK    TIMEOUT    OK  
taishanLinux (openEuler 24.03 LTS) / aarch64  OK    OK    OK  


CHECK results for CTexploreR on taishan

To the developers/maintainers of the CTexploreR package:
- Allow up to 24 hours (and sometimes 48 hours) for your latest push to git@git.bioconductor.org:packages/CTexploreR.git to reflect on this report. See Troubleshooting Build Report for more information.
- Use the following Renviron settings to reproduce errors and warnings.
- If 'R CMD check' started to fail recently on the Linux builder(s) over a missing dependency, add the missing dependency to 'Suggests:' in your DESCRIPTION file. See Renviron.bioc for more information.
- See Martin Grigorov's blog post for how to debug Linux ARM64 related issues on a x86_64 host.

raw results


Summary

Package: CTexploreR
Version: 1.2.0
Command: /home/biocbuild/R/R/bin/R CMD check --install=check:CTexploreR.install-out.txt --library=/home/biocbuild/R/R/site-library --no-vignettes --timings CTexploreR_1.2.0.tar.gz
StartedAt: 2025-01-31 05:20:26 -0000 (Fri, 31 Jan 2025)
EndedAt: 2025-01-31 05:47:45 -0000 (Fri, 31 Jan 2025)
EllapsedTime: 1639.5 seconds
RetCode: 0
Status:   OK  
CheckDir: CTexploreR.Rcheck
Warnings: 0

Command output

##############################################################################
##############################################################################
###
### Running command:
###
###   /home/biocbuild/R/R/bin/R CMD check --install=check:CTexploreR.install-out.txt --library=/home/biocbuild/R/R/site-library --no-vignettes --timings CTexploreR_1.2.0.tar.gz
###
##############################################################################
##############################################################################


* using log directory ‘/home/biocbuild/bbs-3.20-bioc/meat/CTexploreR.Rcheck’
* using R version 4.4.2 (2024-10-31)
* using platform: aarch64-unknown-linux-gnu
* R was compiled by
    aarch64-unknown-linux-gnu-gcc (GCC) 14.2.0
    GNU Fortran (GCC) 12.3.1 (openEuler 12.3.1-36.oe2403)
* running under: openEuler 24.03 (LTS)
* using session charset: UTF-8
* using option ‘--no-vignettes’
* checking for file ‘CTexploreR/DESCRIPTION’ ... OK
* this is package ‘CTexploreR’ version ‘1.2.0’
* package encoding: UTF-8
* checking package namespace information ... OK
* checking package dependencies ... OK
* checking if this is a source package ... OK
* checking if there is a namespace ... OK
* checking for hidden files and directories ... OK
* checking for portable file names ... OK
* checking for sufficient/correct file permissions ... OK
* checking whether package ‘CTexploreR’ can be installed ... OK
* checking installed package size ... OK
* checking package directory ... OK
* checking ‘build’ directory ... OK
* checking DESCRIPTION meta-information ... OK
* checking top-level files ... OK
* checking for left-over files ... OK
* checking index information ... OK
* checking package subdirectories ... OK
* checking code files for non-ASCII characters ... OK
* checking R files for syntax errors ... OK
* checking whether the package can be loaded ... OK
* checking whether the package can be loaded with stated dependencies ... OK
* checking whether the package can be unloaded cleanly ... OK
* checking whether the namespace can be loaded with stated dependencies ... OK
* checking whether the namespace can be unloaded cleanly ... OK
* checking loading without being on the library search path ... OK
* checking dependencies in R code ... OK
* checking S3 generic/method consistency ... OK
* checking replacement functions ... OK
* checking foreign function calls ... OK
* checking R code for possible problems ... OK
* checking Rd files ... OK
* checking Rd metadata ... OK
* checking Rd cross-references ... OK
* checking for missing documentation entries ... OK
* checking for code/documentation mismatches ... OK
* checking Rd \usage sections ... OK
* checking Rd contents ... OK
* checking for unstated dependencies in examples ... OK
* checking files in ‘vignettes’ ... OK
* checking examples ... OK
Examples with CPU (user + system) or elapsed time > 5s
                                        user system elapsed
embryos_mean_methylation              14.616  1.801  20.932
DAC_induction                         14.565  1.484  22.736
normal_tissues_mean_methylation       10.626  1.358  17.754
fetal_germcells_mean_methylation      10.507  1.384  15.771
normal_tissues_methylation            10.136  1.060  13.616
GTEX_expression                        7.209  0.837  12.277
HPA_cell_type_expression               6.789  0.976  11.670
normal_tissue_expression_multimapping  5.754  0.168   9.754
subset_database                        2.773  0.371   5.041
* checking for unstated dependencies in ‘tests’ ... OK
* checking tests ...
  Running ‘testthat.R’
 OK
* checking for unstated dependencies in vignettes ... OK
* checking package vignettes ... OK
* checking running R code from vignettes ... SKIPPED
* checking re-building of vignette outputs ... SKIPPED
* checking PDF version of manual ... OK
* DONE

Status: OK


Installation output

CTexploreR.Rcheck/00install.out

##############################################################################
##############################################################################
###
### Running command:
###
###   /home/biocbuild/R/R/bin/R CMD INSTALL CTexploreR
###
##############################################################################
##############################################################################


* installing to library ‘/home/biocbuild/R/R-4.4.2/site-library’
* installing *source* package ‘CTexploreR’ ...
** using staged installation
** R
** inst
** byte-compile and prepare package for lazy loading
see ?CTdata and browseVignettes('CTdata') for documentation
loading from cache
see ?CTdata and browseVignettes('CTdata') for documentation
loading from cache
** help
*** installing help indices
** building package indices
** installing vignettes
** testing if installed package can be loaded from temporary location
** testing if installed package can be loaded from final location
** testing if installed package keeps a record of temporary installation path
* DONE (CTexploreR)

Tests output

CTexploreR.Rcheck/tests/testthat.Rout


R version 4.4.2 (2024-10-31) -- "Pile of Leaves"
Copyright (C) 2024 The R Foundation for Statistical Computing
Platform: aarch64-unknown-linux-gnu

R is free software and comes with ABSOLUTELY NO WARRANTY.
You are welcome to redistribute it under certain conditions.
Type 'license()' or 'licence()' for distribution details.

R is a collaborative project with many contributors.
Type 'contributors()' for more information and
'citation()' on how to cite R or R packages in publications.

Type 'demo()' for some demos, 'help()' for on-line help, or
'help.start()' for an HTML browser interface to help.
Type 'q()' to quit R.

> # This file is part of the standard setup for testthat.
> # It is recommended that you do not modify it.
> #
> # Where should you do additional test configuration?
> # Learn more about the roles of various files in:
> # * https://r-pkgs.org/testing-design.html#sec-tests-files-overview
> # * https://testthat.r-lib.org/articles/special-files.html
> 
> library(testthat)
> library(CTexploreR)
Loading required package: CTdata
> 
> test_check("CTexploreR")
see ?CTdata and browseVignettes('CTdata') for documentation
loading from cache
see ?CTdata and browseVignettes('CTdata') for documentation
loading from cache
see ?CTdata and browseVignettes('CTdata') for documentation
loading from cache
see ?CTdata and browseVignettes('CTdata') for documentation
loading from cache
see ?CTdata and browseVignettes('CTdata') for documentation
loading from cache
see ?CTdata and browseVignettes('CTdata') for documentation
loading from cache
see ?CTdata and browseVignettes('CTdata') for documentation
loading from cache
see ?CTdata and browseVignettes('CTdata') for documentation
loading from cache
see ?CTdata and browseVignettes('CTdata') for documentation
loading from cache
see ?CTdata and browseVignettes('CTdata') for documentation
loading from cache
see ?CTdata and browseVignettes('CTdata') for documentation
loading from cache
see ?CTdata and browseVignettes('CTdata') for documentation
loading from cache
see ?CTdata and browseVignettes('CTdata') for documentation
loading from cache
see ?CTdata and browseVignettes('CTdata') for documentation
loading from cache
see ?CTdata and browseVignettes('CTdata') for documentation
loading from cache
see ?CTdata and browseVignettes('CTdata') for documentation
loading from cache
see ?CTdata and browseVignettes('CTdata') for documentation
loading from cache
see ?CTdata and browseVignettes('CTdata') for documentation
loading from cache
see ?CTdata and browseVignettes('CTdata') for documentation
loading from cache
see ?CTdata and browseVignettes('CTdata') for documentation
loading from cache
see ?CTdata and browseVignettes('CTdata') for documentation
loading from cache
see ?CTdata and browseVignettes('CTdata') for documentation
loading from cache
see ?CTdata and browseVignettes('CTdata') for documentation
loading from cache
see ?CTdata and browseVignettes('CTdata') for documentation
loading from cache
see ?CTdata and browseVignettes('CTdata') for documentation
loading from cache
see ?CTdata and browseVignettes('CTdata') for documentation
loading from cache
see ?CTdata and browseVignettes('CTdata') for documentation
loading from cache
see ?CTdata and browseVignettes('CTdata') for documentation
loading from cache
see ?CTdata and browseVignettes('CTdata') for documentation
loading from cache
see ?CTdata and browseVignettes('CTdata') for documentation
loading from cache
see ?CTdata and browseVignettes('CTdata') for documentation
loading from cache
see ?CTdata and browseVignettes('CTdata') for documentation
loading from cache
see ?CTdata and browseVignettes('CTdata') for documentation
loading from cache
see ?CTdata and browseVignettes('CTdata') for documentation
loading from cache
see ?CTdata and browseVignettes('CTdata') for documentation
loading from cache
see ?CTdata and browseVignettes('CTdata') for documentation
loading from cache
see ?CTdata and browseVignettes('CTdata') for documentation
loading from cache
see ?CTdata and browseVignettes('CTdata') for documentation
loading from cache
see ?CTdata and browseVignettes('CTdata') for documentation
loading from cache
see ?CTdata and browseVignettes('CTdata') for documentation
loading from cache
see ?CTdata and browseVignettes('CTdata') for documentation
loading from cache
see ?CTdata and browseVignettes('CTdata') for documentation
loading from cache
see ?CTdata and browseVignettes('CTdata') for documentation
loading from cache
see ?CTdata and browseVignettes('CTdata') for documentation
loading from cache
see ?CTdata and browseVignettes('CTdata') for documentation
loading from cache
see ?CTdata and browseVignettes('CTdata') for documentation
loading from cache
see ?CTdata and browseVignettes('CTdata') for documentation
loading from cache
see ?CTdata and browseVignettes('CTdata') for documentation
loading from cache
[ FAIL 0 | WARN 0 | SKIP 0 | PASS 135 ]
Deleting unused snapshots:
• GTEX_expression/gtex-expression-on-mage.svg
> 
> proc.time()
    user   system  elapsed 
1074.127   28.910 1244.530 

Example timings

CTexploreR.Rcheck/CTexploreR-Ex.timings

nameusersystemelapsed
CCLE_expression000
CT_correlated_genes000
CT_genes0.0740.0000.074
DAC_induction14.565 1.48422.736
GTEX_expression 7.209 0.83712.277
HPA_cell_type_expression 6.789 0.97611.670
TCGA_expression0.0000.0000.001
TCGA_methylation_expression_correlation000
all_genes0.0440.0080.051
check_names0.0000.0000.001
embryo_expression000
embryos_mean_methylation14.616 1.80120.932
fetal_germcells_expression0.0000.0000.001
fetal_germcells_mean_methylation10.507 1.38415.771
hESC_expression000
hESC_mean_methylation000
normal_tissue_expression_multimapping5.7540.1689.754
normal_tissues_mean_methylation10.626 1.35817.754
normal_tissues_methylation10.136 1.06013.616
oocytes_expression000
prepare_TCGA_methylation_expression000
set_fontsize0.0010.0000.001
subset_database2.7730.3715.041
testis_expression000