Back to Multiple platform build/check report for BioC 3.22:   simplified   long
AB[C]DEFGHIJKLMNOPQRSTUVWXYZ

This page was generated on 2025-10-31 12:04 -0400 (Fri, 31 Oct 2025).

HostnameOSArch (*)R versionInstalled pkgs
nebbiolo2Linux (Ubuntu 24.04.3 LTS)x86_644.5.1 Patched (2025-08-23 r88802) -- "Great Square Root" 4901
lconwaymacOS 12.7.6 Montereyx86_644.5.1 Patched (2025-09-10 r88807) -- "Great Square Root" 4691
kjohnson3macOS 13.7.7 Venturaarm644.5.1 Patched (2025-09-10 r88807) -- "Great Square Root" 4637
Click on any hostname to see more info about the system (e.g. compilers)      (*) as reported by 'uname -p', except on Windows and Mac OS X

Package 486/2361HostnameOS / ArchINSTALLBUILDCHECKBUILD BIN
CSOA 1.0.0  (landing page)
Andrei-Florian Stoica
Snapshot Date: 2025-10-30 13:45 -0400 (Thu, 30 Oct 2025)
git_url: https://git.bioconductor.org/packages/CSOA
git_branch: RELEASE_3_22
git_last_commit: 9b11f08
git_last_commit_date: 2025-10-29 11:37:44 -0400 (Wed, 29 Oct 2025)
nebbiolo2Linux (Ubuntu 24.04.3 LTS) / x86_64  OK    OK    OK  UNNEEDED, same version is already published
lconwaymacOS 12.7.6 Monterey / x86_64  OK    OK    OK    OK  UNNEEDED, same version is already published
kjohnson3macOS 13.7.7 Ventura / arm64  OK    OK    OK    OK  UNNEEDED, same version is already published


BUILD BIN results for CSOA on lconway

To the developers/maintainers of the CSOA package:
- Allow up to 24 hours (and sometimes 48 hours) for your latest push to git@git.bioconductor.org:packages/CSOA.git to reflect on this report. See Troubleshooting Build Report for more information.
- Use the following Renviron settings to reproduce errors and warnings.
- If 'R CMD check' started to fail recently on the Linux builder(s) over a missing dependency, add the missing dependency to 'Suggests:' in your DESCRIPTION file. See Renviron.bioc for more information.

raw results


Summary

Package: CSOA
Version: 1.0.0
Command: rm -rf CSOA.buildbin-libdir && mkdir CSOA.buildbin-libdir && /Users/biocbuild/BBS/utils/build-universal.sh CSOA_1.0.0.tar.gz /Library/Frameworks/R.framework/Resources/bin/R CSOA.buildbin-libdir
StartedAt: 2025-10-31 01:20:00 -0400 (Fri, 31 Oct 2025)
EndedAt: 2025-10-31 01:20:54 -0400 (Fri, 31 Oct 2025)
EllapsedTime: 54.1 seconds
RetCode: 0
Status:   OK  
PackageFile: CSOA_1.0.0.tgz
PackageFileSize: 2.861 MiB

Command output

##############################################################################
##############################################################################
###
### Running command:
###
###   rm -rf CSOA.buildbin-libdir && mkdir CSOA.buildbin-libdir && /Users/biocbuild/BBS/utils/build-universal.sh CSOA_1.0.0.tar.gz /Library/Frameworks/R.framework/Resources/bin/R CSOA.buildbin-libdir
###
##############################################################################
##############################################################################


>>>>>>> 
>>>>>>> INSTALLATION WITH 'R CMD INSTALL --preclean --no-multiarch --library=CSOA.buildbin-libdir CSOA_1.0.0.tar.gz'
>>>>>>> 

* installing *source* package ‘CSOA’ ...
** this is package ‘CSOA’ version ‘1.0.0’
** using staged installation
** R
** inst
** byte-compile and prepare package for lazy loading
** help
*** installing help indices
** building package indices
** installing vignettes
** testing if installed package can be loaded from temporary location
** testing if installed package can be loaded from final location
** testing if installed package keeps a record of temporary installation path
* DONE (CSOA)