| Back to Multiple platform build/check report for BioC 3.21: simplified long |
|
This page was generated on 2025-08-18 11:41 -0400 (Mon, 18 Aug 2025).
| Hostname | OS | Arch (*) | R version | Installed pkgs |
|---|---|---|---|---|
| nebbiolo1 | Linux (Ubuntu 24.04.3 LTS) | x86_64 | 4.5.1 (2025-06-13) -- "Great Square Root" | 4824 |
| palomino7 | Windows Server 2022 Datacenter | x64 | 4.5.1 (2025-06-13 ucrt) -- "Great Square Root" | 4566 |
| merida1 | macOS 12.7.5 Monterey | x86_64 | 4.5.1 RC (2025-06-05 r88288) -- "Great Square Root" | 4604 |
| kjohnson1 | macOS 13.6.6 Ventura | arm64 | 4.5.1 Patched (2025-06-14 r88325) -- "Great Square Root" | 4545 |
| kunpeng2 | Linux (openEuler 24.03 LTS) | aarch64 | R Under development (unstable) (2025-02-19 r87757) -- "Unsuffered Consequences" | 4579 |
| Click on any hostname to see more info about the system (e.g. compilers) (*) as reported by 'uname -p', except on Windows and Mac OS X | ||||
| Package 422/2341 | Hostname | OS / Arch | INSTALL | BUILD | CHECK | BUILD BIN | ||||||||
| COMPASS 1.46.0 (landing page) Greg Finak
| nebbiolo1 | Linux (Ubuntu 24.04.3 LTS) / x86_64 | OK | OK | OK | |||||||||
| palomino7 | Windows Server 2022 Datacenter / x64 | OK | OK | OK | OK | |||||||||
| merida1 | macOS 12.7.5 Monterey / x86_64 | OK | OK | OK | OK | |||||||||
| kjohnson1 | macOS 13.6.6 Ventura / arm64 | OK | OK | OK | OK | |||||||||
| kunpeng2 | Linux (openEuler 24.03 LTS) / aarch64 | OK | OK | OK | ||||||||||
|
To the developers/maintainers of the COMPASS package: - Allow up to 24 hours (and sometimes 48 hours) for your latest push to git@git.bioconductor.org:packages/COMPASS.git to reflect on this report. See Troubleshooting Build Report for more information. - Use the following Renviron settings to reproduce errors and warnings. - If 'R CMD check' started to fail recently on the Linux builder(s) over a missing dependency, add the missing dependency to 'Suggests:' in your DESCRIPTION file. See Renviron.bioc for more information. |
| Package: COMPASS |
| Version: 1.46.0 |
| Command: E:\biocbuild\bbs-3.21-bioc\R\bin\R.exe CMD check --no-multiarch --install=check:COMPASS.install-out.txt --library=E:\biocbuild\bbs-3.21-bioc\R\library --no-vignettes --timings COMPASS_1.46.0.tar.gz |
| StartedAt: 2025-08-15 00:49:17 -0400 (Fri, 15 Aug 2025) |
| EndedAt: 2025-08-15 00:52:23 -0400 (Fri, 15 Aug 2025) |
| EllapsedTime: 186.2 seconds |
| RetCode: 0 |
| Status: OK |
| CheckDir: COMPASS.Rcheck |
| Warnings: 0 |
##############################################################################
##############################################################################
###
### Running command:
###
### E:\biocbuild\bbs-3.21-bioc\R\bin\R.exe CMD check --no-multiarch --install=check:COMPASS.install-out.txt --library=E:\biocbuild\bbs-3.21-bioc\R\library --no-vignettes --timings COMPASS_1.46.0.tar.gz
###
##############################################################################
##############################################################################
* using log directory 'E:/biocbuild/bbs-3.21-bioc/meat/COMPASS.Rcheck'
* using R version 4.5.1 (2025-06-13 ucrt)
* using platform: x86_64-w64-mingw32
* R was compiled by
gcc.exe (GCC) 14.2.0
GNU Fortran (GCC) 14.2.0
* running under: Windows Server 2022 x64 (build 20348)
* using session charset: UTF-8
* using option '--no-vignettes'
* checking for file 'COMPASS/DESCRIPTION' ... OK
* checking extension type ... Package
* this is package 'COMPASS' version '1.46.0'
* package encoding: UTF-8
* checking package namespace information ... OK
* checking package dependencies ... OK
* checking if this is a source package ... OK
* checking if there is a namespace ... OK
* checking for hidden files and directories ... OK
* checking for portable file names ... OK
* checking whether package 'COMPASS' can be installed ... OK
* used C compiler: 'gcc.exe (GCC) 14.2.0'
* used C++ compiler: 'G__~1.EXE (GCC) 14.2.0'
* checking installed package size ... OK
* checking package directory ... OK
* checking 'build' directory ... OK
* checking DESCRIPTION meta-information ... OK
* checking top-level files ... OK
* checking for left-over files ... OK
* checking index information ... OK
* checking package subdirectories ... OK
* checking code files for non-ASCII characters ... OK
* checking R files for syntax errors ... OK
* checking whether the package can be loaded ... OK
* checking whether the package can be loaded with stated dependencies ... OK
* checking whether the package can be unloaded cleanly ... OK
* checking whether the namespace can be loaded with stated dependencies ... OK
* checking whether the namespace can be unloaded cleanly ... OK
* checking whether startup messages can be suppressed ... OK
* checking dependencies in R code ... NOTE
Namespaces in Imports field not imported from:
'BiocStyle' 'foreach' 'rmarkdown'
All declared Imports should be used.
* checking S3 generic/method consistency ... OK
* checking replacement functions ... OK
* checking foreign function calls ... OK
* checking R code for possible problems ... NOTE
.CellCounts: no visible binding for global variable
'_COMPASS_CellCounts'
COMPASSfitToCountsTable: no visible binding for global variable
'population'
COMPASSfitToCountsTable: no visible binding for global variable 'Count'
COMPASSfitToCountsTable: no visible binding for global variable 'id'
CellCounts_character: no visible binding for global variable
'_COMPASS_CellCounts_character'
GetThresholdedIntensities : <anonymous>: no visible global function
definition for 'gh_pop_is_bool_gate'
Undefined global functions or variables:
Count _COMPASS_CellCounts _COMPASS_CellCounts_character
gh_pop_is_bool_gate id population
* checking Rd files ... OK
* checking Rd metadata ... OK
* checking Rd cross-references ... OK
* checking for missing documentation entries ... OK
* checking for code/documentation mismatches ... OK
* checking Rd \usage sections ... OK
* checking Rd contents ... OK
* checking for unstated dependencies in examples ... OK
* checking contents of 'data' directory ... OK
* checking data for non-ASCII characters ... OK
* checking LazyData ... OK
* checking data for ASCII and uncompressed saves ... OK
* checking line endings in shell scripts ... OK
* checking line endings in C/C++/Fortran sources/headers ... OK
* checking line endings in Makefiles ... OK
* checking compilation flags in Makevars ... OK
* checking for GNU extensions in Makefiles ... OK
* checking for portable use of $(BLAS_LIBS) and $(LAPACK_LIBS) ... OK
* checking use of PKG_*FLAGS in Makefiles ... OK
* checking compiled code ... NOTE
Note: information on .o files for x64 is not available
File 'E:/biocbuild/bbs-3.21-bioc/R/library/COMPASS/libs/x64/COMPASS.dll':
Found '_exit', possibly from '_exit' (C)
Found 'abort', possibly from 'abort' (C), 'runtime' (Fortran)
Found 'exit', possibly from 'exit' (C), 'stop' (Fortran)
File 'COMPASS/libs/x64/COMPASS.dll':
Found non-API calls to R: 'DATAPTR', 'STRING_PTR'
Compiled code should not call entry points which might terminate R nor
write to stdout/stderr instead of to the console, nor use Fortran I/O
nor system RNGs nor [v]sprintf. The detected symbols are linked into
the code but might come from libraries and not actually be called.
Compiled code should not call non-API entry points in R.
See 'Writing portable packages' in the 'Writing R Extensions' manual,
and section 'Moving into C API compliance' for issues with the use of
non-API entry points.
* checking sizes of PDF files under 'inst/doc' ... OK
* checking files in 'vignettes' ... OK
* checking examples ... OK
Examples with CPU (user + system) or elapsed time > 5s
user system elapsed
GetThresholdedIntensities 4.82 0.28 6.36
* checking for unstated dependencies in 'tests' ... OK
* checking tests ...
Running 'test-all.R'
OK
* checking for unstated dependencies in vignettes ... OK
* checking package vignettes ... OK
* checking running R code from vignettes ... SKIPPED
* checking re-building of vignette outputs ... SKIPPED
* checking PDF version of manual ... OK
* DONE
Status: 3 NOTEs
See
'E:/biocbuild/bbs-3.21-bioc/meat/COMPASS.Rcheck/00check.log'
for details.
COMPASS.Rcheck/00install.out
##############################################################################
##############################################################################
###
### Running command:
###
### E:\biocbuild\bbs-3.21-bioc\R\bin\R.exe CMD INSTALL COMPASS
###
##############################################################################
##############################################################################
* installing to library 'E:/biocbuild/bbs-3.21-bioc/R/library'
* installing *source* package 'COMPASS' ...
** this is package 'COMPASS' version '1.46.0'
** using staged installation
** libs
using C compiler: 'gcc.exe (GCC) 14.2.0'
using C++ compiler: 'G__~1.EXE (GCC) 14.2.0'
gcc -I"E:/biocbuild/bbs-3.21-bioc/R/include" -DNDEBUG -I'E:/biocbuild/bbs-3.21-bioc/R/library/Rcpp/include' -I"C:/rtools45/x86_64-w64-mingw32.static.posix/include" -O2 -Wall -std=gnu2x -mfpmath=sse -msse2 -mstackrealign -c COMPASS_init.c -o COMPASS_init.o
g++ -std=gnu++17 -I"E:/biocbuild/bbs-3.21-bioc/R/include" -DNDEBUG -I'E:/biocbuild/bbs-3.21-bioc/R/library/Rcpp/include' -I"C:/rtools45/x86_64-w64-mingw32.static.posix/include" -O2 -Wall -mfpmath=sse -msse2 -mstackrealign -c CellCounts.cpp -o CellCounts.o
g++ -std=gnu++17 -I"E:/biocbuild/bbs-3.21-bioc/R/include" -DNDEBUG -I'E:/biocbuild/bbs-3.21-bioc/R/library/Rcpp/include' -I"C:/rtools45/x86_64-w64-mingw32.static.posix/include" -O2 -Wall -mfpmath=sse -msse2 -mstackrealign -c CellCounts_character.cpp -o CellCounts_character.o
g++ -std=gnu++17 -I"E:/biocbuild/bbs-3.21-bioc/R/include" -DNDEBUG -I'E:/biocbuild/bbs-3.21-bioc/R/library/Rcpp/include' -I"C:/rtools45/x86_64-w64-mingw32.static.posix/include" -O2 -Wall -mfpmath=sse -msse2 -mstackrealign -c RcppExports.cpp -o RcppExports.o
gcc -I"E:/biocbuild/bbs-3.21-bioc/R/include" -DNDEBUG -I'E:/biocbuild/bbs-3.21-bioc/R/library/Rcpp/include' -I"C:/rtools45/x86_64-w64-mingw32.static.posix/include" -O2 -Wall -std=gnu2x -mfpmath=sse -msse2 -mstackrealign -c digamma.c -o digamma.o
gcc -I"E:/biocbuild/bbs-3.21-bioc/R/include" -DNDEBUG -I'E:/biocbuild/bbs-3.21-bioc/R/library/Rcpp/include' -I"C:/rtools45/x86_64-w64-mingw32.static.posix/include" -O2 -Wall -std=gnu2x -mfpmath=sse -msse2 -mstackrealign -c mat2vec.c -o mat2vec.o
gcc -I"E:/biocbuild/bbs-3.21-bioc/R/include" -DNDEBUG -I'E:/biocbuild/bbs-3.21-bioc/R/library/Rcpp/include' -I"C:/rtools45/x86_64-w64-mingw32.static.posix/include" -O2 -Wall -std=gnu2x -mfpmath=sse -msse2 -mstackrealign -c melt_dataframe.c -o melt_dataframe.o
gcc -I"E:/biocbuild/bbs-3.21-bioc/R/include" -DNDEBUG -I'E:/biocbuild/bbs-3.21-bioc/R/library/Rcpp/include' -I"C:/rtools45/x86_64-w64-mingw32.static.posix/include" -O2 -Wall -std=gnu2x -mfpmath=sse -msse2 -mstackrealign -c melt_matrix.c -o melt_matrix.o
g++ -std=gnu++17 -I"E:/biocbuild/bbs-3.21-bioc/R/include" -DNDEBUG -I'E:/biocbuild/bbs-3.21-bioc/R/library/Rcpp/include' -I"C:/rtools45/x86_64-w64-mingw32.static.posix/include" -O2 -Wall -mfpmath=sse -msse2 -mstackrealign -c samplePuPs.cpp -o samplePuPs.o
gcc -I"E:/biocbuild/bbs-3.21-bioc/R/include" -DNDEBUG -I'E:/biocbuild/bbs-3.21-bioc/R/library/Rcpp/include' -I"C:/rtools45/x86_64-w64-mingw32.static.posix/include" -O2 -Wall -std=gnu2x -mfpmath=sse -msse2 -mstackrealign -c transpose_list.c -o transpose_list.o
g++ -std=gnu++17 -I"E:/biocbuild/bbs-3.21-bioc/R/include" -DNDEBUG -I'E:/biocbuild/bbs-3.21-bioc/R/library/Rcpp/include' -I"C:/rtools45/x86_64-w64-mingw32.static.posix/include" -O2 -Wall -mfpmath=sse -msse2 -mstackrealign -c updatealphas_Exp.cpp -o updatealphas_Exp.o
g++ -std=gnu++17 -I"E:/biocbuild/bbs-3.21-bioc/R/include" -DNDEBUG -I'E:/biocbuild/bbs-3.21-bioc/R/library/Rcpp/include' -I"C:/rtools45/x86_64-w64-mingw32.static.posix/include" -O2 -Wall -mfpmath=sse -msse2 -mstackrealign -c updatealphas_Exp_MH.cpp -o updatealphas_Exp_MH.o
updatealphas_Exp_MH.cpp: In function 'SEXPREC* updatealphas_Exp_MH(SEXP, SEXP, SEXP, SEXP, SEXP, SEXP, SEXP, SEXP, SEXP)':
updatealphas_Exp_MH.cpp:26:10: warning: variable 'psik' set but not used [-Wunused-but-set-variable]
26 | double psik = 0.;
| ^~~~
updatealphas_Exp_MH.cpp:35:7: warning: variable 'flagkk' set but not used [-Wunused-but-set-variable]
35 | int flagkk = 0;
| ^~~~~~
g++ -std=gnu++17 -I"E:/biocbuild/bbs-3.21-bioc/R/include" -DNDEBUG -I'E:/biocbuild/bbs-3.21-bioc/R/library/Rcpp/include' -I"C:/rtools45/x86_64-w64-mingw32.static.posix/include" -O2 -Wall -mfpmath=sse -msse2 -mstackrealign -c updatealphau.cpp -o updatealphau.o
g++ -std=gnu++17 -I"E:/biocbuild/bbs-3.21-bioc/R/include" -DNDEBUG -I'E:/biocbuild/bbs-3.21-bioc/R/library/Rcpp/include' -I"C:/rtools45/x86_64-w64-mingw32.static.posix/include" -O2 -Wall -mfpmath=sse -msse2 -mstackrealign -c updatealphau_noPu_Exp.cpp -o updatealphau_noPu_Exp.o
g++ -std=gnu++17 -I"E:/biocbuild/bbs-3.21-bioc/R/include" -DNDEBUG -I'E:/biocbuild/bbs-3.21-bioc/R/library/Rcpp/include' -I"C:/rtools45/x86_64-w64-mingw32.static.posix/include" -O2 -Wall -mfpmath=sse -msse2 -mstackrealign -c updatealphau_noPu_Exp_MH.cpp -o updatealphau_noPu_Exp_MH.o
g++ -std=gnu++17 -I"E:/biocbuild/bbs-3.21-bioc/R/include" -DNDEBUG -I'E:/biocbuild/bbs-3.21-bioc/R/library/Rcpp/include' -I"C:/rtools45/x86_64-w64-mingw32.static.posix/include" -O2 -Wall -mfpmath=sse -msse2 -mstackrealign -c updatebeta_RW.cpp -o updatebeta_RW.o
g++ -std=gnu++17 -I"E:/biocbuild/bbs-3.21-bioc/R/include" -DNDEBUG -I'E:/biocbuild/bbs-3.21-bioc/R/library/Rcpp/include' -I"C:/rtools45/x86_64-w64-mingw32.static.posix/include" -O2 -Wall -mfpmath=sse -msse2 -mstackrealign -c updategammak_noPu.cpp -o updategammak_noPu.o
gcc -I"E:/biocbuild/bbs-3.21-bioc/R/include" -DNDEBUG -I'E:/biocbuild/bbs-3.21-bioc/R/library/Rcpp/include' -I"C:/rtools45/x86_64-w64-mingw32.static.posix/include" -O2 -Wall -std=gnu2x -mfpmath=sse -msse2 -mstackrealign -c utils.c -o utils.o
g++ -std=gnu++17 -shared -s -static-libgcc -o COMPASS.dll tmp.def COMPASS_init.o CellCounts.o CellCounts_character.o RcppExports.o digamma.o mat2vec.o melt_dataframe.o melt_matrix.o samplePuPs.o transpose_list.o updatealphas_Exp.o updatealphas_Exp_MH.o updatealphau.o updatealphau_noPu_Exp.o updatealphau_noPu_Exp_MH.o updatebeta_RW.o updategammak_noPu.o utils.o -LE:/biocbuild/bbs-3.21-bioc/R/bin/x64 -lRlapack -LE:/biocbuild/bbs-3.21-bioc/R/bin/x64 -lRblas -lgfortran -lquadmath -LC:/rtools45/x86_64-w64-mingw32.static.posix/lib/x64 -LC:/rtools45/x86_64-w64-mingw32.static.posix/lib -LE:/biocbuild/bbs-3.21-bioc/R/bin/x64 -lR
installing to E:/biocbuild/bbs-3.21-bioc/R/library/00LOCK-COMPASS/00new/COMPASS/libs/x64
** R
** data
*** moving datasets to lazyload DB
** inst
** byte-compile and prepare package for lazy loading
** help
*** installing help indices
** building package indices
** installing vignettes
** testing if installed package can be loaded from temporary location
** testing if installed package can be loaded from final location
** testing if installed package keeps a record of temporary installation path
* DONE (COMPASS)
COMPASS.Rcheck/tests/test-all.Rout
R version 4.5.1 (2025-06-13 ucrt) -- "Great Square Root"
Copyright (C) 2025 The R Foundation for Statistical Computing
Platform: x86_64-w64-mingw32/x64
R is free software and comes with ABSOLUTELY NO WARRANTY.
You are welcome to redistribute it under certain conditions.
Type 'license()' or 'licence()' for distribution details.
R is a collaborative project with many contributors.
Type 'contributors()' for more information and
'citation()' on how to cite R or R packages in publications.
Type 'demo()' for some demos, 'help()' for on-line help, or
'help.start()' for an HTML browser interface to help.
Type 'q()' to quit R.
> library(testthat)
> library(COMPASS)
> library(flowWorkspace)
As part of improvements to flowWorkspace, some behavior of
GatingSet objects has changed. For details, please read the section
titled "The cytoframe and cytoset classes" in the package vignette:
vignette("flowWorkspace-Introduction", "flowWorkspace")
> if (file.exists("testthat")) {
+ test_dir("testthat")
+ }
✔ | F W S OK | Context
⠏ | 0 | COMPASS
⠏ | 0 | COMPASS Interface
⠋ | 1 | COMPASS Interface
✔ | 1 | COMPASS Interface [1.1s]
⠏ | 0 | COMPASSPlot
⠏ | 0 | test plotCOMPASSResultStack
⠋ | 1 | test plotCOMPASSResultStack
⠹ | 3 | test plotCOMPASSResultStack
✔ | 6 | test plotCOMPASSResultStack [67.4s]
⠏ | 0 | CellCounts
⠏ | 0 | CellCounts
✔ | 7 | CellCounts
⠏ | 0 | FunctionalityScore
⠏ | 0 | FS, PFS
✔ | 8 | FS, PFS
⠏ | 0 | GatingSet2COMPASS
⠏ | 0 | test COMPASSContainerFromGatingSet
⠋ | 1 | test COMPASSContainerFromGatingSet
⠸ | 4 | test COMPASSContainerFromGatingSet
⠼ | 5 | test COMPASSContainerFromGatingSet
✔ | 7 | test COMPASSContainerFromGatingSet [1.9s]
══ Results ═════════════════════════════════════════════════════════════════════
Duration: 70.5 s
[ FAIL 0 | WARN 0 | SKIP 0 | PASS 29 ]
>
> proc.time()
user system elapsed
73.42 1.50 76.04
COMPASS.Rcheck/COMPASS-Ex.timings
| name | user | system | elapsed | |
| COMPASS | 0.17 | 0.04 | 0.20 | |
| COMPASSContainer | 0.05 | 0.01 | 0.06 | |
| COMPASSContainerFromGatingSet | 0 | 0 | 0 | |
| CellCounts | 0.45 | 0.04 | 0.50 | |
| Combinations | 0 | 0 | 0 | |
| FunctionalityScore | 0 | 0 | 0 | |
| GetThresholdedIntensities | 4.82 | 0.28 | 6.36 | |
| PolyfunctionalityScore | 0 | 0 | 0 | |
| Posterior | 0 | 0 | 0 | |
| Response | 0.01 | 0.00 | 0.02 | |
| SimpleCOMPASS | 3.06 | 0.06 | 3.12 | |
| TotalCellCounts | 0.03 | 0.00 | 0.04 | |
| UniqueCombinations | 0.02 | 0.00 | 0.01 | |
| getCounts | 0.05 | 0.00 | 0.05 | |
| merge.COMPASSContainer | 0.01 | 0.00 | 0.01 | |
| pheatmap | 1.03 | 0.02 | 1.05 | |
| plot.COMPASSResult | 0.05 | 0.00 | 0.05 | |
| plotCOMPASSResultStack | 0 | 0 | 0 | |
| print.COMPASSContainer | 0 | 0 | 0 | |
| print.COMPASSResult | 0 | 0 | 0 | |
| scores | 0 | 0 | 0 | |
| select_compass_pops | 0 | 0 | 0 | |
| shinyCOMPASS | 0 | 0 | 0 | |
| shinyCOMPASSDeps | 2.66 | 1.49 | 4.14 | |
| subset.COMPASSContainer | 0.01 | 0.00 | 0.02 | |
| summary.COMPASSContainer | 0 | 0 | 0 | |
| summary.COMPASSResult | 0 | 0 | 0 | |
| translate_marker_names | 0 | 0 | 0 | |
| transpose_list | 0 | 0 | 0 | |