| Back to Multiple platform build/check report for BioC 3.21: simplified long |
|
This page was generated on 2025-10-16 11:37 -0400 (Thu, 16 Oct 2025).
| Hostname | OS | Arch (*) | R version | Installed pkgs |
|---|---|---|---|---|
| nebbiolo1 | Linux (Ubuntu 24.04.3 LTS) | x86_64 | 4.5.1 (2025-06-13) -- "Great Square Root" | 4833 |
| merida1 | macOS 12.7.6 Monterey | x86_64 | 4.5.1 RC (2025-06-05 r88288) -- "Great Square Root" | 4614 |
| kjohnson1 | macOS 13.7.5 Ventura | arm64 | 4.5.1 Patched (2025-06-14 r88325) -- "Great Square Root" | 4555 |
| kunpeng2 | Linux (openEuler 24.03 LTS) | aarch64 | R Under development (unstable) (2025-02-19 r87757) -- "Unsuffered Consequences" | 4586 |
| Click on any hostname to see more info about the system (e.g. compilers) (*) as reported by 'uname -p', except on Windows and Mac OS X | ||||
| Package 359/2341 | Hostname | OS / Arch | INSTALL | BUILD | CHECK | BUILD BIN | ||||||||
| CIMICE 1.16.0 (landing page) Nicolò Rossi
| nebbiolo1 | Linux (Ubuntu 24.04.3 LTS) / x86_64 | OK | OK | OK | |||||||||
| merida1 | macOS 12.7.6 Monterey / x86_64 | OK | OK | OK | OK | |||||||||
| kjohnson1 | macOS 13.7.5 Ventura / arm64 | OK | OK | OK | OK | |||||||||
| kunpeng2 | Linux (openEuler 24.03 LTS) / aarch64 | OK | OK | OK | ||||||||||
|
To the developers/maintainers of the CIMICE package: - Allow up to 24 hours (and sometimes 48 hours) for your latest push to git@git.bioconductor.org:packages/CIMICE.git to reflect on this report. See Troubleshooting Build Report for more information. - Use the following Renviron settings to reproduce errors and warnings. - If 'R CMD check' started to fail recently on the Linux builder(s) over a missing dependency, add the missing dependency to 'Suggests:' in your DESCRIPTION file. See Renviron.bioc for more information. |
| Package: CIMICE |
| Version: 1.16.0 |
| Command: /home/biocbuild/bbs-3.21-bioc/R/bin/R CMD check --install=check:CIMICE.install-out.txt --library=/home/biocbuild/bbs-3.21-bioc/R/site-library --timings CIMICE_1.16.0.tar.gz |
| StartedAt: 2025-10-15 21:44:56 -0400 (Wed, 15 Oct 2025) |
| EndedAt: 2025-10-15 21:46:27 -0400 (Wed, 15 Oct 2025) |
| EllapsedTime: 91.1 seconds |
| RetCode: 0 |
| Status: OK |
| CheckDir: CIMICE.Rcheck |
| Warnings: 0 |
##############################################################################
##############################################################################
###
### Running command:
###
### /home/biocbuild/bbs-3.21-bioc/R/bin/R CMD check --install=check:CIMICE.install-out.txt --library=/home/biocbuild/bbs-3.21-bioc/R/site-library --timings CIMICE_1.16.0.tar.gz
###
##############################################################################
##############################################################################
* using log directory ‘/home/biocbuild/bbs-3.21-bioc/meat/CIMICE.Rcheck’
* using R version 4.5.1 (2025-06-13)
* using platform: x86_64-pc-linux-gnu
* R was compiled by
gcc (Ubuntu 13.3.0-6ubuntu2~24.04) 13.3.0
GNU Fortran (Ubuntu 13.3.0-6ubuntu2~24.04) 13.3.0
* running under: Ubuntu 24.04.3 LTS
* using session charset: UTF-8
* checking for file ‘CIMICE/DESCRIPTION’ ... OK
* checking extension type ... Package
* this is package ‘CIMICE’ version ‘1.16.0’
* package encoding: UTF-8
* checking package namespace information ... OK
* checking package dependencies ... OK
* checking if this is a source package ... OK
* checking if there is a namespace ... OK
* checking for hidden files and directories ... NOTE
Found the following hidden files and directories:
.git.bfg-report
These were most likely included in error. See section ‘Package
structure’ in the ‘Writing R Extensions’ manual.
* checking for portable file names ... OK
* checking for sufficient/correct file permissions ... OK
* checking whether package ‘CIMICE’ can be installed ... OK
* checking installed package size ... OK
* checking package directory ... OK
* checking ‘build’ directory ... OK
* checking DESCRIPTION meta-information ... OK
* checking top-level files ... OK
* checking for left-over files ... OK
* checking index information ... OK
* checking package subdirectories ... OK
* checking code files for non-ASCII characters ... OK
* checking R files for syntax errors ... OK
* checking whether the package can be loaded ... OK
* checking whether the package can be loaded with stated dependencies ... OK
* checking whether the package can be unloaded cleanly ... OK
* checking whether the namespace can be loaded with stated dependencies ... OK
* checking whether the namespace can be unloaded cleanly ... OK
* checking loading without being on the library search path ... OK
* checking dependencies in R code ... OK
* checking S3 generic/method consistency ... OK
* checking replacement functions ... OK
* checking foreign function calls ... OK
* checking R code for possible problems ... OK
* checking Rd files ... OK
* checking Rd metadata ... OK
* checking Rd cross-references ... OK
* checking for missing documentation entries ... OK
* checking for code/documentation mismatches ... OK
* checking Rd \usage sections ... OK
* checking Rd contents ... OK
* checking for unstated dependencies in examples ... OK
* checking files in ‘vignettes’ ... OK
* checking examples ... OK
* checking for unstated dependencies in ‘tests’ ... OK
* checking tests ...
Running ‘testthat.R’
OK
* checking for unstated dependencies in vignettes ... OK
* checking package vignettes ... OK
* checking re-building of vignette outputs ... OK
* checking PDF version of manual ... OK
* DONE
Status: 1 NOTE
See
‘/home/biocbuild/bbs-3.21-bioc/meat/CIMICE.Rcheck/00check.log’
for details.
CIMICE.Rcheck/00install.out
############################################################################## ############################################################################## ### ### Running command: ### ### /home/biocbuild/bbs-3.21-bioc/R/bin/R CMD INSTALL CIMICE ### ############################################################################## ############################################################################## * installing to library ‘/home/biocbuild/bbs-3.21-bioc/R/site-library’ * installing *source* package ‘CIMICE’ ... ** this is package ‘CIMICE’ version ‘1.16.0’ ** using staged installation ** R ** inst ** byte-compile and prepare package for lazy loading ** help *** installing help indices ** building package indices ** installing vignettes ** testing if installed package can be loaded from temporary location ** testing if installed package can be loaded from final location ** testing if installed package keeps a record of temporary installation path * DONE (CIMICE)
CIMICE.Rcheck/tests/testthat.Rout
R version 4.5.1 (2025-06-13) -- "Great Square Root"
Copyright (C) 2025 The R Foundation for Statistical Computing
Platform: x86_64-pc-linux-gnu
R is free software and comes with ABSOLUTELY NO WARRANTY.
You are welcome to redistribute it under certain conditions.
Type 'license()' or 'licence()' for distribution details.
R is a collaborative project with many contributors.
Type 'contributors()' for more information and
'citation()' on how to cite R or R packages in publications.
Type 'demo()' for some demos, 'help()' for on-line help, or
'help.start()' for an HTML browser interface to help.
Type 'q()' to quit R.
> library(testthat)
> library(CIMICE)
>
> test_check("CIMICE")
[ FAIL 0 | WARN 2 | SKIP 0 | PASS 1 ]
[ FAIL 0 | WARN 2 | SKIP 0 | PASS 1 ]
>
> proc.time()
user system elapsed
3.230 0.210 3.428
CIMICE.Rcheck/CIMICE-Ex.timings
| name | user | system | elapsed | |
| annotate_mutational_matrix | 0.017 | 0.002 | 0.020 | |
| binary_radix_sort | 0.016 | 0.000 | 0.016 | |
| build_subset_graph | 0.052 | 0.001 | 0.053 | |
| build_topology_subset | 0.023 | 0.001 | 0.024 | |
| chunk_reader | 0.007 | 0.001 | 0.008 | |
| compact_dataset | 0.009 | 0.000 | 0.008 | |
| computeDWNW | 0.209 | 0.030 | 0.238 | |
| computeUPW | 0.252 | 0.012 | 0.264 | |
| compute_weights_default | 0.053 | 0.001 | 0.054 | |
| corrplot_from_mutational_matrix | 0.431 | 0.059 | 0.490 | |
| corrplot_genes | 0.384 | 0.001 | 0.384 | |
| corrplot_samples | 0.254 | 0.000 | 0.254 | |
| dataset_preprocessing | 0.018 | 0.000 | 0.018 | |
| dataset_preprocessing_population | 0.014 | 0.000 | 0.013 | |
| draw_ggraph | 0.286 | 0.002 | 0.292 | |
| draw_networkD3 | 0.131 | 0.004 | 0.135 | |
| draw_visNetwork | 0.068 | 0.007 | 0.077 | |
| example_dataset | 0.002 | 0.001 | 0.002 | |
| example_dataset_withFreqs | 0.002 | 0.000 | 0.002 | |
| finalize_generator | 0.138 | 0.003 | 0.140 | |
| fix_clonal_genotype | 0.018 | 0.000 | 0.019 | |
| format_labels | 0.001 | 0.000 | 0.001 | |
| gene_mutations_hist | 0.162 | 0.003 | 0.164 | |
| get_no_of_children | 0.045 | 0.000 | 0.046 | |
| graph_non_transitive_subset_topology | 0.028 | 0.000 | 0.028 | |
| make_dataset | 0.003 | 0.001 | 0.003 | |
| make_generator_stub | 0.067 | 0.001 | 0.068 | |
| make_labels | 0.045 | 0.000 | 0.045 | |
| normalizeDWNW | 0.058 | 0.000 | 0.058 | |
| normalizeUPW | 0.092 | 0.002 | 0.094 | |
| perturb_dataset | 0.149 | 0.001 | 0.150 | |
| plot_generator | 0.374 | 0.000 | 0.375 | |
| prepare_generator_edge_set_command | 0.082 | 0.002 | 0.083 | |
| prepare_labels | 0.018 | 0.000 | 0.018 | |
| quick_run | 0.047 | 0.002 | 0.048 | |
| read | 0.598 | 0.609 | 1.211 | |
| read_CAPRI | 0.578 | 0.574 | 1.153 | |
| read_CAPRI_string | 0.005 | 0.000 | 0.005 | |
| read_CAPRIpop | 0.002 | 0.001 | 0.004 | |
| read_CAPRIpop_string | 0.003 | 0.001 | 0.004 | |
| read_MAF | 0.210 | 0.062 | 0.237 | |
| read_matrix | 0.003 | 0.000 | 0.003 | |
| remove_transitive_edges | 0.001 | 0.000 | 0.001 | |
| sample_mutations_hist | 0.193 | 0.003 | 0.197 | |
| select_genes_on_mutations | 0.006 | 0.000 | 0.007 | |
| select_samples_on_mutations | 0.022 | 0.000 | 0.023 | |
| set_generator_edges | 0.141 | 0.005 | 0.145 | |
| simulate_generator | 0.100 | 0.001 | 0.102 | |
| to_dot | 0.058 | 0.001 | 0.058 | |
| update_df | 0.013 | 0.001 | 0.015 | |