Back to Multiple platform build/check report for BioC 3.22:   simplified   long
AB[C]DEFGHIJKLMNOPQRSTUVWXYZ

This page was generated on 2025-11-24 12:04 -0500 (Mon, 24 Nov 2025).

HostnameOSArch (*)R versionInstalled pkgs
nebbiolo2Linux (Ubuntu 24.04.3 LTS)x86_644.5.2 (2025-10-31) -- "[Not] Part in a Rumble" 4873
merida1macOS 12.7.6 Montereyx86_644.5.2 Patched (2025-11-05 r88990) -- "[Not] Part in a Rumble" 4654
kjohnson1macOS 13.7.5 Venturaarm644.5.2 Patched (2025-11-04 r88984) -- "[Not] Part in a Rumble" 4600
taishanLinux (openEuler 24.03 LTS)aarch644.5.0 (2025-04-11) -- "How About a Twenty-Six" 4668
Click on any hostname to see more info about the system (e.g. compilers)      (*) as reported by 'uname -p', except on Windows and Mac OS X

Package 320/2361HostnameOS / ArchINSTALLBUILDCHECKBUILD BIN
CEMiTool 1.34.0  (landing page)
Helder Nakaya
Snapshot Date: 2025-11-20 15:01 -0500 (Thu, 20 Nov 2025)
git_url: https://git.bioconductor.org/packages/CEMiTool
git_branch: RELEASE_3_22
git_last_commit: a56e804
git_last_commit_date: 2025-10-29 10:40:00 -0500 (Wed, 29 Oct 2025)
nebbiolo2Linux (Ubuntu 24.04.3 LTS) / x86_64  OK    OK    OK  UNNEEDED, same version is already published
merida1macOS 12.7.6 Monterey / x86_64  OK    OK    OK    OK  UNNEEDED, same version is already published
kjohnson1macOS 13.7.5 Ventura / arm64  OK    OK    OK    OK  UNNEEDED, same version is already published
taishanLinux (openEuler 24.03 LTS) / aarch64  OK    OK    OK  


CHECK results for CEMiTool on merida1

To the developers/maintainers of the CEMiTool package:
- Allow up to 24 hours (and sometimes 48 hours) for your latest push to git@git.bioconductor.org:packages/CEMiTool.git to reflect on this report. See Troubleshooting Build Report for more information.
- Use the following Renviron settings to reproduce errors and warnings.
- If 'R CMD check' started to fail recently on the Linux builder(s) over a missing dependency, add the missing dependency to 'Suggests:' in your DESCRIPTION file. See Renviron.bioc for more information.

raw results


Summary

Package: CEMiTool
Version: 1.34.0
Command: /Library/Frameworks/R.framework/Resources/bin/R CMD check --install=check:CEMiTool.install-out.txt --library=/Library/Frameworks/R.framework/Resources/library --no-vignettes --timings CEMiTool_1.34.0.tar.gz
StartedAt: 2025-11-21 02:34:28 -0500 (Fri, 21 Nov 2025)
EndedAt: 2025-11-21 02:43:49 -0500 (Fri, 21 Nov 2025)
EllapsedTime: 560.7 seconds
RetCode: 0
Status:   OK  
CheckDir: CEMiTool.Rcheck
Warnings: 0

Command output

##############################################################################
##############################################################################
###
### Running command:
###
###   /Library/Frameworks/R.framework/Resources/bin/R CMD check --install=check:CEMiTool.install-out.txt --library=/Library/Frameworks/R.framework/Resources/library --no-vignettes --timings CEMiTool_1.34.0.tar.gz
###
##############################################################################
##############################################################################


* using log directory ‘/Users/biocbuild/bbs-3.22-bioc/meat/CEMiTool.Rcheck’
* using R version 4.5.2 Patched (2025-11-05 r88990)
* using platform: x86_64-apple-darwin20
* R was compiled by
    Apple clang version 14.0.0 (clang-1400.0.29.202)
    GNU Fortran (GCC) 14.2.0
* running under: macOS Monterey 12.7.6
* using session charset: UTF-8
* using option ‘--no-vignettes’
* checking for file ‘CEMiTool/DESCRIPTION’ ... OK
* this is package ‘CEMiTool’ version ‘1.34.0’
* package encoding: UTF-8
* checking package namespace information ... OK
* checking package dependencies ... INFO
Imports includes 25 non-default packages.
Importing from so many packages makes the package vulnerable to any of
them becoming unavailable.  Move as many as possible to Suggests and
use conditionally.
* checking if this is a source package ... OK
* checking if there is a namespace ... OK
* checking for hidden files and directories ... OK
* checking for portable file names ... OK
* checking for sufficient/correct file permissions ... OK
* checking whether package ‘CEMiTool’ can be installed ... OK
* checking installed package size ... INFO
  installed size is  6.5Mb
  sub-directories of 1Mb or more:
    data      3.1Mb
    extdata   2.8Mb
* checking package directory ... OK
* checking ‘build’ directory ... OK
* checking DESCRIPTION meta-information ... OK
* checking top-level files ... OK
* checking for left-over files ... OK
* checking index information ... OK
* checking package subdirectories ... OK
* checking code files for non-ASCII characters ... OK
* checking R files for syntax errors ... OK
* checking whether the package can be loaded ... OK
* checking whether the package can be loaded with stated dependencies ... OK
* checking whether the package can be unloaded cleanly ... OK
* checking whether the namespace can be loaded with stated dependencies ... OK
* checking whether the namespace can be unloaded cleanly ... OK
* checking dependencies in R code ... OK
* checking S3 generic/method consistency ... OK
* checking replacement functions ... OK
* checking foreign function calls ... OK
* checking R code for possible problems ... NOTE
flip_vector: no visible global function definition for ‘setNames’
get_args: no visible global function definition for ‘is’
select_genes: no visible global function definition for ‘var’
get_hubs,CEMiTool : <anonymous>: no visible global function definition
  for ‘head’
get_merged_mods,CEMiTool: no visible global function definition for
  ‘as.dist’
get_mods,CEMiTool: no visible global function definition for ‘as.dist’
get_phi,CEMiTool: no visible global function definition for ‘tail’
get_phi,CEMiTool: no visible global function definition for ‘head’
mod_gene_num,CEMiTool: no visible binding for global variable ‘modules’
mod_gene_num,CEMiTool: no visible binding for global variable
  ‘num_genes’
mod_summary,CEMiTool: no visible global function definition for ‘:=’
plot_gsea,CEMiTool: no visible global function definition for ‘dist’
plot_mean_var,CEMiTool: no visible binding for global variable ‘var’
plot_mean_var,CEMiTool: no visible binding for global variable ‘Mean’
plot_mean_var,CEMiTool: no visible binding for global variable
  ‘Variance’
plot_mean_var,CEMiTool: no visible binding for global variable
  ‘..eq.label..’
plot_mean_var,CEMiTool: no visible binding for global variable
  ‘..rr.label..’
plot_ora,CEMiTool : <anonymous>: no visible global function definition
  for ‘head’
plot_qq,CEMiTool: no visible binding for global variable ‘data’
plot_sample_tree,CEMiTool: no visible global function definition for
  ‘dist’
plot_sample_tree,CEMiTool: no visible global function definition for
  ‘dev.off’
save_plots,CEMiTool : <anonymous>: no visible global function
  definition for ‘dev.off’
save_plots,CEMiTool: no visible global function definition for
  ‘dev.off’
Undefined global functions or variables:
  ..eq.label.. ..rr.label.. := Mean Variance as.dist data dev.off dist
  head is modules num_genes setNames tail var
Consider adding
  importFrom("grDevices", "dev.off")
  importFrom("methods", "is")
  importFrom("stats", "as.dist", "dist", "setNames", "var")
  importFrom("utils", "data", "head", "tail")
to your NAMESPACE file (and ensure that your DESCRIPTION Imports field
contains 'methods').
* checking Rd files ... OK
* checking Rd metadata ... OK
* checking Rd cross-references ... OK
* checking for missing documentation entries ... OK
* checking for code/documentation mismatches ... OK
* checking Rd \usage sections ... OK
* checking Rd contents ... OK
* checking for unstated dependencies in examples ... OK
* checking contents of ‘data’ directory ... OK
* checking data for non-ASCII characters ... OK
* checking LazyData ... OK
* checking data for ASCII and uncompressed saves ... OK
* checking files in ‘vignettes’ ... OK
* checking examples ... OK
Examples with CPU (user + system) or elapsed time > 5s
                    user system elapsed
cemitool          21.582  0.530  23.140
plot_interactions 20.018  0.284  21.278
plot_ora           9.342  0.214   9.883
ora_data           6.253  0.096   6.646
mod_ora            5.587  0.093   5.944
gsea_data          5.485  0.039   5.795
plot_profile       4.926  0.043   5.052
* checking for unstated dependencies in ‘tests’ ... OK
* checking tests ...
  Running ‘testthat.R’
 OK
* checking for unstated dependencies in vignettes ... OK
* checking package vignettes ... OK
* checking running R code from vignettes ... SKIPPED
* checking re-building of vignette outputs ... SKIPPED
* checking PDF version of manual ... OK
* DONE

Status: 1 NOTE
See
  ‘/Users/biocbuild/bbs-3.22-bioc/meat/CEMiTool.Rcheck/00check.log’
for details.


Installation output

CEMiTool.Rcheck/00install.out

##############################################################################
##############################################################################
###
### Running command:
###
###   /Library/Frameworks/R.framework/Resources/bin/R CMD INSTALL CEMiTool
###
##############################################################################
##############################################################################


* installing to library ‘/Library/Frameworks/R.framework/Versions/4.5-x86_64/Resources/library’
* installing *source* package ‘CEMiTool’ ...
** this is package ‘CEMiTool’ version ‘1.34.0’
** using staged installation
** R
** data
*** moving datasets to lazyload DB
** exec
** inst
** byte-compile and prepare package for lazy loading
** help
*** installing help indices
** building package indices
** installing vignettes
** testing if installed package can be loaded from temporary location
** testing if installed package can be loaded from final location
** testing if installed package keeps a record of temporary installation path
* DONE (CEMiTool)

Tests output

CEMiTool.Rcheck/tests/testthat.Rout


R version 4.5.2 Patched (2025-11-05 r88990) -- "[Not] Part in a Rumble"
Copyright (C) 2025 The R Foundation for Statistical Computing
Platform: x86_64-apple-darwin20

R is free software and comes with ABSOLUTELY NO WARRANTY.
You are welcome to redistribute it under certain conditions.
Type 'license()' or 'licence()' for distribution details.

R is a collaborative project with many contributors.
Type 'contributors()' for more information and
'citation()' on how to cite R or R packages in publications.

Type 'demo()' for some demos, 'help()' for on-line help, or
'help.start()' for an HTML browser interface to help.
Type 'q()' to quit R.

> library(testthat)
> library(CEMiTool)

> test_check('CEMiTool')
[ FAIL 0 | WARN 13 | SKIP 0 | PASS 105 ]

[ FAIL 0 | WARN 13 | SKIP 0 | PASS 105 ]
> 
> proc.time()
   user  system elapsed 
 53.202   2.085  58.162 

Example timings

CEMiTool.Rcheck/CEMiTool-Ex.timings

nameusersystemelapsed
CEMiTool-class0.0210.0080.034
adj_data1.2780.0401.432
cem0.0370.0090.052
cemitool21.582 0.53023.140
expr00.0010.0030.004
expr_data0.2940.0170.328
filter_expr0.3590.0100.383
find_modules2.9680.0383.130
fit_data3.0170.0353.208
generate_report0.0000.0010.001
get_adj0.2530.0060.280
get_beta_data1.1700.0211.251
get_cemitool_r2_beta2.9930.0253.159
get_connectivity2.9710.0283.141
get_hubs0.0200.0030.024
get_merged_mods1.6590.0191.770
get_mods1.2620.0141.332
get_phi3.0140.0233.180
gsea_data5.4850.0395.795
interactions_data0.4360.0290.512
mod_colors0.0200.0030.024
mod_gene_num0.1140.0080.123
mod_gsea2.7470.0272.890
mod_names0.0200.0030.024
mod_ora5.5870.0935.944
mod_summary0.3160.0090.334
module_genes0.0290.0180.052
new_cem0.0180.0050.025
nmodules0.0790.0130.102
ora_data6.2530.0966.646
plot_beta_r20.4960.0050.525
plot_gsea3.3250.0263.674
plot_hist0.9980.0121.101
plot_interactions20.018 0.28421.278
plot_mean_k0.5490.0070.589
plot_mean_var1.2150.0311.310
plot_ora9.3420.2149.883
plot_profile4.9260.0435.052
plot_qq1.1060.0441.177
plot_sample_tree1.5220.0191.593
read_gmt1.3910.0161.521
sample_annot0.0030.0050.126
sample_annotation0.0190.0070.038
save_plots0.0700.0040.075
select_genes0.3970.0160.443
show_plot0.4750.0070.590
write_files1.6960.0653.021