Back to Multiple platform build/check report for BioC 3.20:   simplified   long
AB[C]DEFGHIJKLMNOPQRSTUVWXYZ

This page was generated on 2025-02-03 12:11 -0500 (Mon, 03 Feb 2025).

HostnameOSArch (*)R versionInstalled pkgs
nebbiolo2Linux (Ubuntu 24.04.1 LTS)x86_644.4.2 (2024-10-31) -- "Pile of Leaves" 4746
palomino8Windows Server 2022 Datacenterx644.4.2 (2024-10-31 ucrt) -- "Pile of Leaves" 4494
merida1macOS 12.7.5 Montereyx86_644.4.2 (2024-10-31) -- "Pile of Leaves" 4517
kjohnson1macOS 13.6.6 Venturaarm644.4.2 (2024-10-31) -- "Pile of Leaves" 4469
taishanLinux (openEuler 24.03 LTS)aarch644.4.2 (2024-10-31) -- "Pile of Leaves" 4400
Click on any hostname to see more info about the system (e.g. compilers)      (*) as reported by 'uname -p', except on Windows and Mac OS X

Package 264/2289HostnameOS / ArchINSTALLBUILDCHECKBUILD BIN
CAGEfightR 1.26.0  (landing page)
Malte Thodberg
Snapshot Date: 2025-01-30 13:00 -0500 (Thu, 30 Jan 2025)
git_url: https://git.bioconductor.org/packages/CAGEfightR
git_branch: RELEASE_3_20
git_last_commit: 3f0d403
git_last_commit_date: 2024-10-29 10:28:27 -0500 (Tue, 29 Oct 2024)
nebbiolo2Linux (Ubuntu 24.04.1 LTS) / x86_64  OK    OK    OK  UNNEEDED, same version is already published
palomino8Windows Server 2022 Datacenter / x64  OK    OK    OK    OK  UNNEEDED, same version is already published
merida1macOS 12.7.5 Monterey / x86_64  OK    OK    OK    OK  UNNEEDED, same version is already published
kjohnson1macOS 13.6.6 Ventura / arm64  OK    OK    OK    OK  UNNEEDED, same version is already published
taishanLinux (openEuler 24.03 LTS) / aarch64  OK    OK    OK  


CHECK results for CAGEfightR on taishan

To the developers/maintainers of the CAGEfightR package:
- Allow up to 24 hours (and sometimes 48 hours) for your latest push to git@git.bioconductor.org:packages/CAGEfightR.git to reflect on this report. See Troubleshooting Build Report for more information.
- Use the following Renviron settings to reproduce errors and warnings.
- If 'R CMD check' started to fail recently on the Linux builder(s) over a missing dependency, add the missing dependency to 'Suggests:' in your DESCRIPTION file. See Renviron.bioc for more information.
- See Martin Grigorov's blog post for how to debug Linux ARM64 related issues on a x86_64 host.

raw results


Summary

Package: CAGEfightR
Version: 1.26.0
Command: /home/biocbuild/R/R/bin/R CMD check --install=check:CAGEfightR.install-out.txt --library=/home/biocbuild/R/R/site-library --no-vignettes --timings CAGEfightR_1.26.0.tar.gz
StartedAt: 2025-01-31 04:35:19 -0000 (Fri, 31 Jan 2025)
EndedAt: 2025-01-31 04:42:54 -0000 (Fri, 31 Jan 2025)
EllapsedTime: 454.4 seconds
RetCode: 0
Status:   OK  
CheckDir: CAGEfightR.Rcheck
Warnings: 0

Command output

##############################################################################
##############################################################################
###
### Running command:
###
###   /home/biocbuild/R/R/bin/R CMD check --install=check:CAGEfightR.install-out.txt --library=/home/biocbuild/R/R/site-library --no-vignettes --timings CAGEfightR_1.26.0.tar.gz
###
##############################################################################
##############################################################################


* using log directory ‘/home/biocbuild/bbs-3.20-bioc/meat/CAGEfightR.Rcheck’
* using R version 4.4.2 (2024-10-31)
* using platform: aarch64-unknown-linux-gnu
* R was compiled by
    aarch64-unknown-linux-gnu-gcc (GCC) 14.2.0
    GNU Fortran (GCC) 12.3.1 (openEuler 12.3.1-36.oe2403)
* running under: openEuler 24.03 (LTS)
* using session charset: UTF-8
* using option ‘--no-vignettes’
* checking for file ‘CAGEfightR/DESCRIPTION’ ... OK
* checking extension type ... Package
* this is package ‘CAGEfightR’ version ‘1.26.0’
* package encoding: UTF-8
* checking package namespace information ... OK
* checking package dependencies ... OK
* checking if this is a source package ... OK
* checking if there is a namespace ... OK
* checking for hidden files and directories ... OK
* checking for portable file names ... OK
* checking for sufficient/correct file permissions ... OK
* checking whether package ‘CAGEfightR’ can be installed ... OK
* checking installed package size ... OK
* checking package directory ... OK
* checking ‘build’ directory ... OK
* checking DESCRIPTION meta-information ... OK
* checking top-level files ... OK
* checking for left-over files ... OK
* checking index information ... OK
* checking package subdirectories ... OK
* checking code files for non-ASCII characters ... OK
* checking R files for syntax errors ... OK
* checking whether the package can be loaded ... OK
* checking whether the package can be loaded with stated dependencies ... OK
* checking whether the package can be unloaded cleanly ... OK
* checking whether the namespace can be loaded with stated dependencies ... OK
* checking whether the namespace can be unloaded cleanly ... OK
* checking loading without being on the library search path ... OK
* checking whether startup messages can be suppressed ... OK
* checking dependencies in R code ... OK
* checking S3 generic/method consistency ... OK
* checking replacement functions ... OK
* checking foreign function calls ... OK
* checking R code for possible problems ... OK
* checking Rd files ... OK
* checking Rd metadata ... OK
* checking Rd cross-references ... OK
* checking for missing documentation entries ... OK
* checking for code/documentation mismatches ... OK
* checking Rd \usage sections ... OK
* checking Rd contents ... OK
* checking for unstated dependencies in examples ... OK
* checking contents of ‘data’ directory ... OK
* checking data for non-ASCII characters ... OK
* checking LazyData ... OK
* checking data for ASCII and uncompressed saves ... OK
* checking files in ‘vignettes’ ... OK
* checking examples ... OK
Examples with CPU (user + system) or elapsed time > 5s
          user system elapsed
findLinks 6.01      1   6.383
* checking for unstated dependencies in vignettes ... OK
* checking package vignettes ... OK
* checking running R code from vignettes ... SKIPPED
* checking re-building of vignette outputs ... SKIPPED
* checking PDF version of manual ... OK
* DONE

Status: OK


Installation output

CAGEfightR.Rcheck/00install.out

##############################################################################
##############################################################################
###
### Running command:
###
###   /home/biocbuild/R/R/bin/R CMD INSTALL CAGEfightR
###
##############################################################################
##############################################################################


* installing to library ‘/home/biocbuild/R/R-4.4.2/site-library’
* installing *source* package ‘CAGEfightR’ ...
** using staged installation
** R
** data
*** moving datasets to lazyload DB
** inst
** byte-compile and prepare package for lazy loading
** help
*** installing help indices
** building package indices
** installing vignettes
** testing if installed package can be loaded from temporary location
** testing if installed package can be loaded from final location
** testing if installed package keeps a record of temporary installation path
* DONE (CAGEfightR)

Tests output


Example timings

CAGEfightR.Rcheck/CAGEfightR-Ex.timings

nameusersystemelapsed
assignGeneID4.1450.0914.271
assignMissingID1.2970.0121.314
assignTxID1.1140.0521.169
assignTxType000
balanceBC0.0010.0000.001
balanceD0.0010.0000.001
bwCommonGenome0.0550.0000.059
bwGenomeCompatibility0.0170.0080.025
bwValid0.0120.0000.011
calcBidirectionality0.5920.0080.602
calcComposition1.7120.0081.726
calcPooled0.1270.0100.137
calcShape4.1350.2394.387
calcSupport0.1280.0080.136
calcTPM0.1560.0000.156
calcTotalTags0.0680.0000.068
checkCTSSs0.3150.0040.323
checkPeaked0.0760.0080.084
checkPooled0.0580.0240.083
clusterBidirectionally000
clusterUnidirectionally1.8340.0481.887
combineClusters0.9830.0361.022
convertBAM2BigWig0.0010.0000.000
convertBED2BigWig000
convertGRanges2GPos0.0950.0080.103
exampleDesign0.0000.0050.005
findLinks6.0101.0006.383
findStretches0.4750.1120.589
quantifyCTSSs000
quantifyCTSSs2000
quantifyClusters0.5140.1150.632
quantifyGenes1.5440.4512.001
quickEnhancers000
quickGenes000
quickTSSs0.0000.0000.001
shapeEntropy0.0010.0000.001
shapeIQR0.0000.0000.001
shapeMean0.0010.0000.001
shapeMultimodality000
subsetByBidirectionality0.5760.1830.762
subsetByComposition1.6050.1401.750
subsetBySupport0.0800.0280.108
swapRanges0.2010.0270.230
swapScores0.1180.0280.147
trackBalance000
trackCTSS3.6730.7484.436
trackClusters2.3580.1432.509
trackLinks1.1090.5421.332
trimToPeak0.9310.2511.186
trimToPercentiles2.4710.2112.692
tuneTagClustering000
utilsAggregateRows0.3050.1180.424
utilsDeStrand0.1430.0170.160
utilsScoreOverlaps0.0800.0070.088
utilsSimplifyTxDb0.0000.0010.000