Back to Multiple platform build/check report for BioC 3.22:   simplified   long
A[B]CDEFGHIJKLMNOPQRSTUVWXYZ

This page was generated on 2025-11-24 12:07 -0500 (Mon, 24 Nov 2025).

HostnameOSArch (*)R versionInstalled pkgs
nebbiolo2Linux (Ubuntu 24.04.3 LTS)x86_644.5.2 (2025-10-31) -- "[Not] Part in a Rumble" 4873
merida1macOS 12.7.6 Montereyx86_644.5.2 Patched (2025-11-05 r88990) -- "[Not] Part in a Rumble" 4654
kjohnson1macOS 13.7.5 Venturaarm644.5.2 Patched (2025-11-04 r88984) -- "[Not] Part in a Rumble" 4600
taishanLinux (openEuler 24.03 LTS)aarch644.5.0 (2025-04-11) -- "How About a Twenty-Six" 4668
Click on any hostname to see more info about the system (e.g. compilers)      (*) as reported by 'uname -p', except on Windows and Mac OS X

Package 260/2361HostnameOS / ArchINSTALLBUILDCHECKBUILD BIN
BulkSignalR 1.2.1  (landing page)
Jean-Philippe Villemin
Snapshot Date: 2025-11-20 15:01 -0500 (Thu, 20 Nov 2025)
git_url: https://git.bioconductor.org/packages/BulkSignalR
git_branch: RELEASE_3_22
git_last_commit: 68e85a5
git_last_commit_date: 2025-11-08 17:25:11 -0500 (Sat, 08 Nov 2025)
nebbiolo2Linux (Ubuntu 24.04.3 LTS) / x86_64  OK    OK    OK  UNNEEDED, same version is already published
merida1macOS 12.7.6 Monterey / x86_64  OK    OK    OK    OK  UNNEEDED, same version is already published
kjohnson1macOS 13.7.5 Ventura / arm64  OK    OK    OK    OK  UNNEEDED, same version is already published
taishanLinux (openEuler 24.03 LTS) / aarch64  OK    OK    OK  


CHECK results for BulkSignalR on taishan

To the developers/maintainers of the BulkSignalR package:
- Allow up to 24 hours (and sometimes 48 hours) for your latest push to git@git.bioconductor.org:packages/BulkSignalR.git to reflect on this report. See Troubleshooting Build Report for more information.
- Use the following Renviron settings to reproduce errors and warnings.
- If 'R CMD check' started to fail recently on the Linux builder(s) over a missing dependency, add the missing dependency to 'Suggests:' in your DESCRIPTION file. See Renviron.bioc for more information.
- See Martin Grigorov's blog post for how to debug Linux ARM64 related issues on a x86_64 host.

raw results


Summary

Package: BulkSignalR
Version: 1.2.1
Command: /home/biocbuild/R/R/bin/R CMD check --install=check:BulkSignalR.install-out.txt --library=/home/biocbuild/R/R/site-library --no-vignettes --timings BulkSignalR_1.2.1.tar.gz
StartedAt: 2025-11-21 08:36:20 -0000 (Fri, 21 Nov 2025)
EndedAt: 2025-11-21 08:46:03 -0000 (Fri, 21 Nov 2025)
EllapsedTime: 582.4 seconds
RetCode: 0
Status:   OK  
CheckDir: BulkSignalR.Rcheck
Warnings: 0

Command output

##############################################################################
##############################################################################
###
### Running command:
###
###   /home/biocbuild/R/R/bin/R CMD check --install=check:BulkSignalR.install-out.txt --library=/home/biocbuild/R/R/site-library --no-vignettes --timings BulkSignalR_1.2.1.tar.gz
###
##############################################################################
##############################################################################


* using log directory ‘/home/biocbuild/bbs-3.22-bioc/meat/BulkSignalR.Rcheck’
* using R version 4.5.0 (2025-04-11)
* using platform: aarch64-unknown-linux-gnu
* R was compiled by
    aarch64-unknown-linux-gnu-gcc (GCC) 14.2.0
    GNU Fortran (GCC) 14.2.0
* running under: openEuler 24.03 (LTS)
* using session charset: UTF-8
* using option ‘--no-vignettes’
* checking for file ‘BulkSignalR/DESCRIPTION’ ... OK
* checking extension type ... Package
* this is package ‘BulkSignalR’ version ‘1.2.1’
* package encoding: UTF-8
* checking package namespace information ... OK
* checking package dependencies ... INFO
Imports includes 26 non-default packages.
Importing from so many packages makes the package vulnerable to any of
them becoming unavailable.  Move as many as possible to Suggests and
use conditionally.
* checking if this is a source package ... OK
* checking if there is a namespace ... OK
* checking for hidden files and directories ... OK
* checking for portable file names ... OK
* checking for sufficient/correct file permissions ... OK
* checking whether package ‘BulkSignalR’ can be installed ... OK
* checking installed package size ... OK
* checking package directory ... OK
* checking ‘build’ directory ... OK
* checking DESCRIPTION meta-information ... OK
* checking top-level files ... OK
* checking for left-over files ... OK
* checking index information ... OK
* checking package subdirectories ... OK
* checking code files for non-ASCII characters ... OK
* checking R files for syntax errors ... OK
* checking whether the package can be loaded ... OK
* checking whether the package can be loaded with stated dependencies ... OK
* checking whether the package can be unloaded cleanly ... OK
* checking whether the namespace can be loaded with stated dependencies ... OK
* checking whether the namespace can be unloaded cleanly ... OK
* checking loading without being on the library search path ... OK
* checking whether startup messages can be suppressed ... OK
* checking dependencies in R code ... OK
* checking S3 generic/method consistency ... OK
* checking replacement functions ... OK
* checking foreign function calls ... OK
* checking R code for possible problems ... OK
* checking Rd files ... OK
* checking Rd metadata ... OK
* checking Rd cross-references ... OK
* checking for missing documentation entries ... OK
* checking for code/documentation mismatches ... OK
* checking Rd \usage sections ... OK
* checking Rd contents ... OK
* checking for unstated dependencies in examples ... OK
* checking contents of ‘data’ directory ... OK
* checking data for non-ASCII characters ... OK
* checking data for ASCII and uncompressed saves ... OK
* checking files in ‘vignettes’ ... OK
* checking examples ... OK
Examples with CPU (user + system) or elapsed time > 5s
                        user system elapsed
simpleHeatmap          6.905  0.147   7.070
spatialAssociationPlot 5.766  0.347   6.131
cacheClear             4.168  0.527  19.337
* checking for unstated dependencies in ‘tests’ ... OK
* checking tests ...
  Running ‘testthat.R’
 OK
* checking for unstated dependencies in vignettes ... OK
* checking package vignettes ... OK
* checking running R code from vignettes ... SKIPPED
* checking re-building of vignette outputs ... SKIPPED
* checking PDF version of manual ... OK
* DONE

Status: OK


Installation output

BulkSignalR.Rcheck/00install.out

##############################################################################
##############################################################################
###
### Running command:
###
###   /home/biocbuild/R/R/bin/R CMD INSTALL BulkSignalR
###
##############################################################################
##############################################################################


* installing to library ‘/home/biocbuild/R/R-4.5.0/site-library’
* installing *source* package ‘BulkSignalR’ ...
** this is package ‘BulkSignalR’ version ‘1.2.1’
** using staged installation
** R
** data
** inst
** byte-compile and prepare package for lazy loading
** help
*** installing help indices
*** copying figures
** building package indices
** installing vignettes
** testing if installed package can be loaded from temporary location
** testing if installed package can be loaded from final location
** testing if installed package keeps a record of temporary installation path
* DONE (BulkSignalR)

Tests output

BulkSignalR.Rcheck/tests/testthat.Rout


R version 4.5.0 (2025-04-11) -- "How About a Twenty-Six"
Copyright (C) 2025 The R Foundation for Statistical Computing
Platform: aarch64-unknown-linux-gnu

R is free software and comes with ABSOLUTELY NO WARRANTY.
You are welcome to redistribute it under certain conditions.
Type 'license()' or 'licence()' for distribution details.

R is a collaborative project with many contributors.
Type 'contributors()' for more information and
'citation()' on how to cite R or R packages in publications.

Type 'demo()' for some demos, 'help()' for on-line help, or
'help.start()' for an HTML browser interface to help.
Type 'q()' to quit R.

> library(testthat)
> library(BulkSignalR)
Local "resources" are up to date.

> test_check("BulkSignalR")
[ FAIL 0 | WARN 0 | SKIP 0 | PASS 1 ]
> 
> proc.time()
   user  system elapsed 
 17.731   0.795  21.507 

Example timings

BulkSignalR.Rcheck/BulkSignalR-Ex.timings

nameusersystemelapsed
BSRClusterComp-class0.0030.0000.003
BSRClusterComp0.3020.0350.340
BSRDataModel-class0.0440.0040.049
BSRDataModel0.1870.0000.188
BSRDataModelComp-class0.0070.0000.007
BSRDataModelComp0.2070.0000.208
BSRInference-class0.0060.0000.007
BSRInference4.2420.2794.536
BSRInferenceComp-class0.0090.0000.009
BSRInferenceComp1.8860.1112.004
BSRSignature-class0.0030.0000.003
BSRSignature0.0400.0040.044
BSRSignatureComp-class0.0040.0000.005
BSRSignatureComp0.0190.0000.019
LRinter0.0030.0000.002
LRinterScore0.0050.0000.004
LRinterShort0.0050.0000.004
addClusterComp0.3140.0040.319
alluvialPlot0.7960.0280.828
assignCellTypesToInteractions0.9790.0040.991
bubblePlotPathwaysLR0.6970.0120.711
cacheClear 4.168 0.52719.337
cacheInfo0.1510.0320.184
cacheVersion0.4290.0401.499
cellTypeFrequency1.0530.1481.205
cellularNetwork0.9320.1591.094
cellularNetworkTable0.8700.0000.872
chordDiagramLR1.8040.0001.810
coerce0.0010.0010.001
colClusterA000
colClusterB0.0000.0000.001
comparison000
comparisonName000
convertToHuman0.2220.0152.723
createResources0.3910.0362.235
differentialStats0.0010.0000.001
findOrthoGenes0.1800.0472.176
generateSpatialPlots2.8440.6863.539
getLRIntracellNetwork2.5350.0122.555
getLRNetwork0.0500.0000.051
getPathwayStats0.0170.0040.020
getResource0.3420.0000.343
inferenceParameters000
initialOrganism0.0010.0000.002
initialOrthologs0.0010.0000.001
learnParameters3.6280.0133.652
ligands000
logTransformed0.0020.0000.001
maxLigandSpatialCounts0.0730.0000.073
mu000
ncounts0.0010.0000.001
normalization0.0010.0000.001
parameters0.0020.0000.002
pathways000
receptors000
reduceToBestPathway0.1190.0190.140
reduceToLigand0.0520.0120.065
reduceToPathway0.1380.0280.166
reduceToReceptor0.0230.0000.023
relateToGeneSet0.0950.0080.103
removeClusterComp0.3300.0200.351
rescoreInference0.0330.0040.037
resetLRdb0.0330.0040.038
resetNetwork0.010.000.01
resetPathways0.3330.0200.354
resetToInitialOrganism0.2030.0320.236
scoreLRGeneSignatures1.5180.1161.638
scoreSignatures0.4130.0000.414
separatedLRPlot2.6410.0082.656
signatureHeatmaps0.0220.0000.022
simpleHeatmap6.9050.1477.070
smoothSpatialCounts0.0730.0000.074
sourceComparisonName0.0000.0000.001
spatialAssociation0.0590.0000.059
spatialAssociationPlot5.7660.3476.131
spatialDiversityPlot1.5740.3071.888
spatialIndexPlot2.1990.1562.362
spatialPlot1.7640.0911.862
summarizedCellularNetwork0.9220.0400.966
tgCorr0.0000.0000.001
tgExpr000
tgGenes0.0010.0000.000
tgLogFC000
tgPval000
updateInference0.0980.0120.110