Back to Multiple platform build/check report for BioC 3.21:   simplified   long
A[B]CDEFGHIJKLMNOPQRSTUVWXYZ

This page was generated on 2025-10-02 11:37 -0400 (Thu, 02 Oct 2025).

HostnameOSArch (*)R versionInstalled pkgs
nebbiolo1Linux (Ubuntu 24.04.3 LTS)x86_644.5.1 (2025-06-13) -- "Great Square Root" 4831
merida1macOS 12.7.5 Montereyx86_644.5.1 RC (2025-06-05 r88288) -- "Great Square Root" 4612
kjohnson1macOS 13.6.6 Venturaarm644.5.1 Patched (2025-06-14 r88325) -- "Great Square Root" 4553
kunpeng2Linux (openEuler 24.03 LTS)aarch64R Under development (unstable) (2025-02-19 r87757) -- "Unsuffered Consequences" 4584
Click on any hostname to see more info about the system (e.g. compilers)      (*) as reported by 'uname -p', except on Windows and Mac OS X

Package 255/2341HostnameOS / ArchINSTALLBUILDCHECKBUILD BIN
BulkSignalR 1.0.5  (landing page)
Jean-Philippe Villemin
Snapshot Date: 2025-09-29 13:40 -0400 (Mon, 29 Sep 2025)
git_url: https://git.bioconductor.org/packages/BulkSignalR
git_branch: RELEASE_3_21
git_last_commit: 84707b3
git_last_commit_date: 2025-09-27 05:41:27 -0400 (Sat, 27 Sep 2025)
nebbiolo1Linux (Ubuntu 24.04.3 LTS) / x86_64  OK    OK    OK  YES
merida1macOS 12.7.5 Monterey / x86_64  OK    OK    OK    OK  YES
kjohnson1macOS 13.6.6 Ventura / arm64  OK    OK    OK    OK  YES
kunpeng2Linux (openEuler 24.03 LTS) / aarch64  OK    OK    OK  


CHECK results for BulkSignalR on nebbiolo1

To the developers/maintainers of the BulkSignalR package:
- Allow up to 24 hours (and sometimes 48 hours) for your latest push to git@git.bioconductor.org:packages/BulkSignalR.git to reflect on this report. See Troubleshooting Build Report for more information.
- Use the following Renviron settings to reproduce errors and warnings.
- If 'R CMD check' started to fail recently on the Linux builder(s) over a missing dependency, add the missing dependency to 'Suggests:' in your DESCRIPTION file. See Renviron.bioc for more information.

raw results


Summary

Package: BulkSignalR
Version: 1.0.5
Command: /home/biocbuild/bbs-3.21-bioc/R/bin/R CMD check --install=check:BulkSignalR.install-out.txt --library=/home/biocbuild/bbs-3.21-bioc/R/site-library --timings BulkSignalR_1.0.5.tar.gz
StartedAt: 2025-10-01 21:26:34 -0400 (Wed, 01 Oct 2025)
EndedAt: 2025-10-01 21:37:05 -0400 (Wed, 01 Oct 2025)
EllapsedTime: 631.8 seconds
RetCode: 0
Status:   OK  
CheckDir: BulkSignalR.Rcheck
Warnings: 0

Command output

##############################################################################
##############################################################################
###
### Running command:
###
###   /home/biocbuild/bbs-3.21-bioc/R/bin/R CMD check --install=check:BulkSignalR.install-out.txt --library=/home/biocbuild/bbs-3.21-bioc/R/site-library --timings BulkSignalR_1.0.5.tar.gz
###
##############################################################################
##############################################################################


* using log directory ‘/home/biocbuild/bbs-3.21-bioc/meat/BulkSignalR.Rcheck’
* using R version 4.5.1 (2025-06-13)
* using platform: x86_64-pc-linux-gnu
* R was compiled by
    gcc (Ubuntu 13.3.0-6ubuntu2~24.04) 13.3.0
    GNU Fortran (Ubuntu 13.3.0-6ubuntu2~24.04) 13.3.0
* running under: Ubuntu 24.04.3 LTS
* using session charset: UTF-8
* checking for file ‘BulkSignalR/DESCRIPTION’ ... OK
* checking extension type ... Package
* this is package ‘BulkSignalR’ version ‘1.0.5’
* package encoding: UTF-8
* checking package namespace information ... OK
* checking package dependencies ... INFO
Imports includes 26 non-default packages.
Importing from so many packages makes the package vulnerable to any of
them becoming unavailable.  Move as many as possible to Suggests and
use conditionally.
* checking if this is a source package ... OK
* checking if there is a namespace ... OK
* checking for hidden files and directories ... OK
* checking for portable file names ... OK
* checking for sufficient/correct file permissions ... OK
* checking whether package ‘BulkSignalR’ can be installed ... OK
* checking installed package size ... OK
* checking package directory ... OK
* checking ‘build’ directory ... OK
* checking DESCRIPTION meta-information ... OK
* checking top-level files ... OK
* checking for left-over files ... OK
* checking index information ... OK
* checking package subdirectories ... OK
* checking code files for non-ASCII characters ... OK
* checking R files for syntax errors ... OK
* checking whether the package can be loaded ... OK
* checking whether the package can be loaded with stated dependencies ... OK
* checking whether the package can be unloaded cleanly ... OK
* checking whether the namespace can be loaded with stated dependencies ... OK
* checking whether the namespace can be unloaded cleanly ... OK
* checking loading without being on the library search path ... OK
* checking whether startup messages can be suppressed ... OK
* checking dependencies in R code ... OK
* checking S3 generic/method consistency ... OK
* checking replacement functions ... OK
* checking foreign function calls ... OK
* checking R code for possible problems ... OK
* checking Rd files ... OK
* checking Rd metadata ... OK
* checking Rd cross-references ... OK
* checking for missing documentation entries ... OK
* checking for code/documentation mismatches ... OK
* checking Rd \usage sections ... OK
* checking Rd contents ... OK
* checking for unstated dependencies in examples ... OK
* checking contents of ‘data’ directory ... OK
* checking data for non-ASCII characters ... OK
* checking data for ASCII and uncompressed saves ... OK
* checking files in ‘vignettes’ ... OK
* checking examples ... OK
Examples with CPU (user + system) or elapsed time > 5s
               user system elapsed
simpleHeatmap 6.525  0.663   7.189
cacheClear    3.180  0.075   5.372
* checking for unstated dependencies in ‘tests’ ... OK
* checking tests ...
  Running ‘testthat.R’
 OK
* checking for unstated dependencies in vignettes ... OK
* checking package vignettes ... OK
* checking re-building of vignette outputs ... OK
* checking PDF version of manual ... OK
* DONE

Status: OK


Installation output

BulkSignalR.Rcheck/00install.out

##############################################################################
##############################################################################
###
### Running command:
###
###   /home/biocbuild/bbs-3.21-bioc/R/bin/R CMD INSTALL BulkSignalR
###
##############################################################################
##############################################################################


* installing to library ‘/home/biocbuild/bbs-3.21-bioc/R/site-library’
* installing *source* package ‘BulkSignalR’ ...
** this is package ‘BulkSignalR’ version ‘1.0.5’
** using staged installation
** R
** data
** inst
** byte-compile and prepare package for lazy loading
** help
*** installing help indices
*** copying figures
** building package indices
** installing vignettes
** testing if installed package can be loaded from temporary location
** testing if installed package can be loaded from final location
** testing if installed package keeps a record of temporary installation path
* DONE (BulkSignalR)

Tests output

BulkSignalR.Rcheck/tests/testthat.Rout


R version 4.5.1 (2025-06-13) -- "Great Square Root"
Copyright (C) 2025 The R Foundation for Statistical Computing
Platform: x86_64-pc-linux-gnu

R is free software and comes with ABSOLUTELY NO WARRANTY.
You are welcome to redistribute it under certain conditions.
Type 'license()' or 'licence()' for distribution details.

R is a collaborative project with many contributors.
Type 'contributors()' for more information and
'citation()' on how to cite R or R packages in publications.

Type 'demo()' for some demos, 'help()' for on-line help, or
'help.start()' for an HTML browser interface to help.
Type 'q()' to quit R.

> library(testthat)
> library(BulkSignalR)
Local "resources" are up to date.

> test_check("BulkSignalR")
[ FAIL 0 | WARN 0 | SKIP 0 | PASS 1 ]
> 
> proc.time()
   user  system elapsed 
 13.949   0.678  15.575 

Example timings

BulkSignalR.Rcheck/BulkSignalR-Ex.timings

nameusersystemelapsed
BSRClusterComp-class0.0030.0000.002
BSRClusterComp0.2240.0190.243
BSRDataModel-class0.0360.0030.039
BSRDataModel0.1480.0030.150
BSRDataModelComp-class0.0040.0010.005
BSRDataModelComp0.1500.0030.153
BSRInference-class0.0040.0000.004
BSRInference3.0290.1183.146
BSRInferenceComp-class0.0070.0000.007
BSRInferenceComp1.0440.0811.124
BSRSignature-class0.0020.0000.002
BSRSignature0.0250.0020.028
BSRSignatureComp-class0.0030.0000.003
BSRSignatureComp0.0110.0010.012
LRinter0.0010.0000.002
LRinterScore0.0030.0000.003
LRinterShort0.0030.0000.003
addClusterComp0.1970.0020.198
alluvialPlot0.5280.0010.529
assignCellTypesToInteractions0.6140.0020.616
bubblePlotPathwaysLR0.4580.0000.458
cacheClear3.1800.0755.372
cacheInfo0.0860.0030.089
cacheVersion0.2330.0110.585
cellTypeFrequency0.6150.0030.619
cellularNetwork0.5470.0130.560
cellularNetworkTable0.5410.0080.549
chordDiagramLR1.1420.0021.143
coerce0.0010.0000.001
colClusterA000
colClusterB0.0000.0000.001
comparison0.0010.0000.000
comparisonName000
convertToHuman0.2250.0052.969
createResources0.2680.0150.889
differentialStats0.0020.0000.001
findOrthoGenes0.1250.0000.387
generateSpatialPlots1.6500.0501.698
getLRIntracellNetwork1.6550.0171.673
getLRNetwork0.0310.0000.031
getPathwayStats0.0140.0000.014
getResource0.2640.0030.266
inferenceParameters0.0000.0010.000
initialOrganism0.0010.0010.001
initialOrthologs0.0020.0000.002
learnParameters2.4320.0412.474
ligands0.0000.0000.001
logTransformed0.0000.0010.002
maxLigandSpatialCounts0.0480.0020.049
mu000
ncounts0.0010.0010.001
normalization0.0000.0010.001
parameters0.0000.0010.002
pathways000
receptors0.0010.0000.000
reduceToBestPathway0.0780.0020.081
reduceToLigand0.0330.0000.034
reduceToPathway0.0700.0010.070
reduceToReceptor0.0130.0020.014
relateToGeneSet0.0690.0030.071
removeClusterComp0.1990.0050.204
rescoreInference0.0300.0010.031
resetLRdb0.0110.0000.011
resetNetwork0.0050.0010.006
resetPathways0.2720.0050.276
resetToInitialOrganism1.1430.0821.225
scoreLRGeneSignatures0.3580.0000.357
scoreSignatures0.2610.0020.263
separatedLRPlot1.6540.0031.657
signatureHeatmaps0.0220.0010.022
simpleHeatmap6.5250.6637.189
smoothSpatialCounts0.0470.0010.048
sourceComparisonName0.0010.0000.000
spatialAssociation0.0510.0010.053
spatialAssociationPlot3.4660.0493.516
spatialDiversityPlot0.9090.0150.924
spatialIndexPlot1.3670.0031.369
spatialPlot1.1000.0031.103
summarizedCellularNetwork0.5610.0020.563
tgCorr000
tgExpr000
tgGenes000
tgLogFC000
tgPval000
updateInference0.0780.0010.079