| Back to Multiple platform build/check report for BioC 3.22: simplified long |
|
This page was generated on 2025-10-31 12:02 -0400 (Fri, 31 Oct 2025).
| Hostname | OS | Arch (*) | R version | Installed pkgs |
|---|---|---|---|---|
| nebbiolo2 | Linux (Ubuntu 24.04.3 LTS) | x86_64 | 4.5.1 Patched (2025-08-23 r88802) -- "Great Square Root" | 4901 |
| lconway | macOS 12.7.6 Monterey | x86_64 | 4.5.1 Patched (2025-09-10 r88807) -- "Great Square Root" | 4691 |
| kjohnson3 | macOS 13.7.7 Ventura | arm64 | 4.5.1 Patched (2025-09-10 r88807) -- "Great Square Root" | 4637 |
| Click on any hostname to see more info about the system (e.g. compilers) (*) as reported by 'uname -p', except on Windows and Mac OS X | ||||
| Package 247/2361 | Hostname | OS / Arch | INSTALL | BUILD | CHECK | BUILD BIN | ||||||||
| BreastSubtypeR 1.2.0 (landing page) Qiao Yang
| nebbiolo2 | Linux (Ubuntu 24.04.3 LTS) / x86_64 | OK | OK | OK | |||||||||
| lconway | macOS 12.7.6 Monterey / x86_64 | OK | OK | OK | OK | |||||||||
| kjohnson3 | macOS 13.7.7 Ventura / arm64 | OK | OK | OK | OK | |||||||||
|
To the developers/maintainers of the BreastSubtypeR package: - Allow up to 24 hours (and sometimes 48 hours) for your latest push to git@git.bioconductor.org:packages/BreastSubtypeR.git to reflect on this report. See Troubleshooting Build Report for more information. - Use the following Renviron settings to reproduce errors and warnings. - If 'R CMD check' started to fail recently on the Linux builder(s) over a missing dependency, add the missing dependency to 'Suggests:' in your DESCRIPTION file. See Renviron.bioc for more information. |
| Package: BreastSubtypeR |
| Version: 1.2.0 |
| Command: /home/biocbuild/bbs-3.22-bioc/R/bin/R CMD check --install=check:BreastSubtypeR.install-out.txt --library=/home/biocbuild/bbs-3.22-bioc/R/site-library --timings BreastSubtypeR_1.2.0.tar.gz |
| StartedAt: 2025-10-30 21:39:29 -0400 (Thu, 30 Oct 2025) |
| EndedAt: 2025-10-30 21:43:25 -0400 (Thu, 30 Oct 2025) |
| EllapsedTime: 235.4 seconds |
| RetCode: 0 |
| Status: OK |
| CheckDir: BreastSubtypeR.Rcheck |
| Warnings: 0 |
##############################################################################
##############################################################################
###
### Running command:
###
### /home/biocbuild/bbs-3.22-bioc/R/bin/R CMD check --install=check:BreastSubtypeR.install-out.txt --library=/home/biocbuild/bbs-3.22-bioc/R/site-library --timings BreastSubtypeR_1.2.0.tar.gz
###
##############################################################################
##############################################################################
* using log directory ‘/home/biocbuild/bbs-3.22-bioc/meat/BreastSubtypeR.Rcheck’
* using R version 4.5.1 Patched (2025-08-23 r88802)
* using platform: x86_64-pc-linux-gnu
* R was compiled by
gcc (Ubuntu 13.3.0-6ubuntu2~24.04) 13.3.0
GNU Fortran (Ubuntu 13.3.0-6ubuntu2~24.04) 13.3.0
* running under: Ubuntu 24.04.3 LTS
* using session charset: UTF-8
* checking for file ‘BreastSubtypeR/DESCRIPTION’ ... OK
* checking extension type ... Package
* this is package ‘BreastSubtypeR’ version ‘1.2.0’
* package encoding: UTF-8
* checking package namespace information ... OK
* checking package dependencies ... OK
* checking if this is a source package ... OK
* checking if there is a namespace ... OK
* checking for hidden files and directories ... OK
* checking for portable file names ... OK
* checking for sufficient/correct file permissions ... OK
* checking whether package ‘BreastSubtypeR’ can be installed ... OK
* checking installed package size ... INFO
installed size is 9.3Mb
sub-directories of 1Mb or more:
RshinyTest 4.8Mb
data 4.0Mb
* checking package directory ... OK
* checking ‘build’ directory ... OK
* checking DESCRIPTION meta-information ... OK
* checking top-level files ... OK
* checking for left-over files ... OK
* checking index information ... OK
* checking package subdirectories ... OK
* checking code files for non-ASCII characters ... OK
* checking R files for syntax errors ... OK
* checking whether the package can be loaded ... OK
* checking whether the package can be loaded with stated dependencies ... OK
* checking whether the package can be unloaded cleanly ... OK
* checking whether the namespace can be loaded with stated dependencies ... OK
* checking whether the namespace can be unloaded cleanly ... OK
* checking loading without being on the library search path ... OK
* checking dependencies in R code ... OK
* checking S3 generic/method consistency ... OK
* checking replacement functions ... OK
* checking foreign function calls ... OK
* checking R code for possible problems ... OK
* checking Rd files ... OK
* checking Rd metadata ... OK
* checking Rd cross-references ... OK
* checking for missing documentation entries ... OK
* checking for code/documentation mismatches ... OK
* checking Rd \usage sections ... OK
* checking Rd contents ... OK
* checking for unstated dependencies in examples ... OK
* checking contents of ‘data’ directory ... OK
* checking data for non-ASCII characters ... OK
* checking data for ASCII and uncompressed saves ... OK
* checking files in ‘vignettes’ ... OK
* checking examples ... OK
* checking for unstated dependencies in ‘tests’ ... OK
* checking tests ...
Running ‘testthat.R’
OK
* checking for unstated dependencies in vignettes ... OK
* checking package vignettes ... OK
* checking re-building of vignette outputs ... OK
* checking PDF version of manual ... OK
* DONE
Status: OK
BreastSubtypeR.Rcheck/00install.out
############################################################################## ############################################################################## ### ### Running command: ### ### /home/biocbuild/bbs-3.22-bioc/R/bin/R CMD INSTALL BreastSubtypeR ### ############################################################################## ############################################################################## * installing to library ‘/home/biocbuild/bbs-3.22-bioc/R/site-library’ * installing *source* package ‘BreastSubtypeR’ ... ** this is package ‘BreastSubtypeR’ version ‘1.2.0’ ** using staged installation ** R ** data ** inst ** byte-compile and prepare package for lazy loading ** help *** installing help indices ** building package indices ** installing vignettes ** testing if installed package can be loaded from temporary location ** testing if installed package can be loaded from final location ** testing if installed package keeps a record of temporary installation path * DONE (BreastSubtypeR)
BreastSubtypeR.Rcheck/tests/testthat.Rout
R version 4.5.1 Patched (2025-08-23 r88802) -- "Great Square Root"
Copyright (C) 2025 The R Foundation for Statistical Computing
Platform: x86_64-pc-linux-gnu
R is free software and comes with ABSOLUTELY NO WARRANTY.
You are welcome to redistribute it under certain conditions.
Type 'license()' or 'licence()' for distribution details.
R is a collaborative project with many contributors.
Type 'contributors()' for more information and
'citation()' on how to cite R or R packages in publications.
Type 'demo()' for some demos, 'help()' for on-line help, or
'help.start()' for an HTML browser interface to help.
Type 'q()' to quit R.
> library(testthat)
> library(BreastSubtypeR)
>
> test_that("BS_Multi performs subtyping correctly", {
+ # Load required dataset
+ data("OSLO2EMIT0obj")
+
+ # Define methods to use for subtyping
+ methods <- c("genefu.robust", "PCAPAM50", "ssBC", "AIMS")
+
+ # Perform subtyping
+ res.test <- BS_Multi(
+ data_input = OSLO2EMIT0obj$data_input,
+ methods = methods,
+ Subtype = FALSE,
+ hasClinical = FALSE
+ )
+
+ # Validate results
+ expect_true(identical(res.test$res_subtypes[, methods], OSLO2EMIT0obj$res$res_subtypes[, methods])) # Validate results
+ })
Test passed 😸
>
> proc.time()
user system elapsed
10.501 0.775 11.265
BreastSubtypeR.Rcheck/BreastSubtypeR-Ex.timings
| name | user | system | elapsed | |
| AIMSmodel | 0.002 | 0.001 | 0.003 | |
| BS_AIMS | 0.230 | 0.022 | 0.252 | |
| BS_Multi | 1.108 | 0.026 | 1.134 | |
| BS_PCAPAM50 | 0.349 | 0.041 | 0.390 | |
| BS_cIHC | 0.151 | 0.000 | 0.151 | |
| BS_cIHC.itr | 1.318 | 0.003 | 1.321 | |
| BS_parker | 0.152 | 0.001 | 0.152 | |
| BS_ssBC | 0.319 | 0.011 | 0.330 | |
| BS_sspbc | 0.490 | 0.037 | 0.527 | |
| BreastSubtypeRobj | 0.003 | 0.000 | 0.003 | |
| Gene.ID.ann | 0.155 | 0.004 | 0.160 | |
| Mapping | 0.541 | 0.017 | 0.559 | |
| OSLO2EMIT0obj | 0.018 | 0.002 | 0.020 | |
| TCGABRCAobj | 0.079 | 0.001 | 0.080 | |
| Vis_Multi | 0.852 | 0.002 | 0.854 | |
| Vis_PCA | 0.857 | 0.044 | 0.901 | |
| Vis_boxplot | 0.344 | 0.000 | 0.344 | |
| Vis_heatmap | 3.550 | 0.047 | 3.598 | |
| Vis_pie | 0.529 | 0.001 | 0.530 | |
| iBreastSubtypeR | 0.000 | 0.000 | 0.001 | |
| sspbc.models | 0.015 | 0.000 | 0.015 | |
| sspbc.models.fullname | 0.014 | 0.000 | 0.014 | |