| Back to Multiple platform build/check report for BioC 3.21: simplified long |
|
This page was generated on 2025-10-16 11:40 -0400 (Thu, 16 Oct 2025).
| Hostname | OS | Arch (*) | R version | Installed pkgs |
|---|---|---|---|---|
| nebbiolo1 | Linux (Ubuntu 24.04.3 LTS) | x86_64 | 4.5.1 (2025-06-13) -- "Great Square Root" | 4833 |
| merida1 | macOS 12.7.6 Monterey | x86_64 | 4.5.1 RC (2025-06-05 r88288) -- "Great Square Root" | 4614 |
| kjohnson1 | macOS 13.7.5 Ventura | arm64 | 4.5.1 Patched (2025-06-14 r88325) -- "Great Square Root" | 4555 |
| kunpeng2 | Linux (openEuler 24.03 LTS) | aarch64 | R Under development (unstable) (2025-02-19 r87757) -- "Unsuffered Consequences" | 4586 |
| Click on any hostname to see more info about the system (e.g. compilers) (*) as reported by 'uname -p', except on Windows and Mac OS X | ||||
| Package 200/2341 | Hostname | OS / Arch | INSTALL | BUILD | CHECK | BUILD BIN | ||||||||
| BiocStyle 2.36.0 (landing page) Bioconductor Package Maintainer
| nebbiolo1 | Linux (Ubuntu 24.04.3 LTS) / x86_64 | OK | OK | OK | |||||||||
| merida1 | macOS 12.7.6 Monterey / x86_64 | OK | OK | OK | OK | |||||||||
| kjohnson1 | macOS 13.7.5 Ventura / arm64 | OK | OK | OK | OK | |||||||||
| kunpeng2 | Linux (openEuler 24.03 LTS) / aarch64 | OK | OK | OK | ||||||||||
|
To the developers/maintainers of the BiocStyle package: - Allow up to 24 hours (and sometimes 48 hours) for your latest push to git@git.bioconductor.org:packages/BiocStyle.git to reflect on this report. See Troubleshooting Build Report for more information. - Use the following Renviron settings to reproduce errors and warnings. - If 'R CMD check' started to fail recently on the Linux builder(s) over a missing dependency, add the missing dependency to 'Suggests:' in your DESCRIPTION file. See Renviron.bioc for more information. |
| Package: BiocStyle |
| Version: 2.36.0 |
| Command: /Library/Frameworks/R.framework/Resources/bin/R CMD check --install=check:BiocStyle.install-out.txt --library=/Library/Frameworks/R.framework/Resources/library --no-vignettes --timings BiocStyle_2.36.0.tar.gz |
| StartedAt: 2025-10-14 14:19:29 -0400 (Tue, 14 Oct 2025) |
| EndedAt: 2025-10-14 14:20:42 -0400 (Tue, 14 Oct 2025) |
| EllapsedTime: 72.7 seconds |
| RetCode: 0 |
| Status: OK |
| CheckDir: BiocStyle.Rcheck |
| Warnings: 0 |
##############################################################################
##############################################################################
###
### Running command:
###
### /Library/Frameworks/R.framework/Resources/bin/R CMD check --install=check:BiocStyle.install-out.txt --library=/Library/Frameworks/R.framework/Resources/library --no-vignettes --timings BiocStyle_2.36.0.tar.gz
###
##############################################################################
##############################################################################
* using log directory ‘/Users/biocbuild/bbs-3.21-bioc/meat/BiocStyle.Rcheck’
* using R version 4.5.1 Patched (2025-06-14 r88325)
* using platform: aarch64-apple-darwin20
* R was compiled by
Apple clang version 16.0.0 (clang-1600.0.26.6)
GNU Fortran (GCC) 14.2.0
* running under: macOS Ventura 13.7.5
* using session charset: UTF-8
* using option ‘--no-vignettes’
* checking for file ‘BiocStyle/DESCRIPTION’ ... OK
* this is package ‘BiocStyle’ version ‘2.36.0’
* package encoding: UTF-8
* checking package namespace information ... OK
* checking package dependencies ... OK
* checking if this is a source package ... OK
* checking if there is a namespace ... OK
* checking for hidden files and directories ... OK
* checking for portable file names ... OK
* checking for sufficient/correct file permissions ... OK
* checking whether package ‘BiocStyle’ can be installed ... OK
* checking installed package size ... OK
* checking package directory ... OK
* checking ‘build’ directory ... OK
* checking DESCRIPTION meta-information ... OK
* checking top-level files ... OK
* checking for left-over files ... OK
* checking index information ... OK
* checking package subdirectories ... OK
* checking code files for non-ASCII characters ... OK
* checking R files for syntax errors ... OK
* checking whether the package can be loaded ... OK
* checking whether the package can be loaded with stated dependencies ... OK
* checking whether the package can be unloaded cleanly ... OK
* checking whether the namespace can be loaded with stated dependencies ... OK
* checking whether the namespace can be unloaded cleanly ... OK
* checking whether startup messages can be suppressed ... OK
* checking dependencies in R code ... NOTE
Unexported object imported by a ':::' call: ‘rmarkdown:::partition_yaml_front_matter’
See the note in ?`:::` about the use of this operator.
* checking S3 generic/method consistency ... OK
* checking replacement functions ... OK
* checking foreign function calls ... OK
* checking R code for possible problems ... OK
* checking Rd files ... OK
* checking Rd metadata ... OK
* checking Rd cross-references ... NOTE
Found the following Rd file(s) with Rd \link{} targets missing package
anchors:
pdf_document.Rd: includes
Please provide package anchors for all Rd \link{} targets not in the
package itself and the base packages.
* checking for missing documentation entries ... OK
* checking for code/documentation mismatches ... OK
* checking Rd \usage sections ... OK
* checking Rd contents ... OK
* checking for unstated dependencies in examples ... OK
* checking sizes of PDF files under ‘inst/doc’ ... OK
* checking files in ‘vignettes’ ... OK
* checking examples ... OK
* checking for unstated dependencies in ‘tests’ ... OK
* checking tests ...
Running ‘run_tests.R’
OK
* checking for unstated dependencies in vignettes ... OK
* checking package vignettes ... OK
* checking running R code from vignettes ... SKIPPED
* checking re-building of vignette outputs ... SKIPPED
* checking PDF version of manual ... OK
* DONE
Status: 2 NOTEs
See
‘/Users/biocbuild/bbs-3.21-bioc/meat/BiocStyle.Rcheck/00check.log’
for details.
BiocStyle.Rcheck/00install.out
############################################################################## ############################################################################## ### ### Running command: ### ### /Library/Frameworks/R.framework/Resources/bin/R CMD INSTALL BiocStyle ### ############################################################################## ############################################################################## * installing to library ‘/Library/Frameworks/R.framework/Versions/4.5-arm64/Resources/library’ * installing *source* package ‘BiocStyle’ ... ** this is package ‘BiocStyle’ version ‘2.36.0’ ** using staged installation ** R ** inst ** byte-compile and prepare package for lazy loading ** help *** installing help indices ** building package indices ** installing vignettes ** testing if installed package can be loaded from temporary location ** testing if installed package can be loaded from final location ** testing if installed package keeps a record of temporary installation path * DONE (BiocStyle)
BiocStyle.Rcheck/tests/run_tests.Rout
R version 4.5.1 Patched (2025-06-14 r88325) -- "Great Square Root"
Copyright (C) 2025 The R Foundation for Statistical Computing
Platform: aarch64-apple-darwin20
R is free software and comes with ABSOLUTELY NO WARRANTY.
You are welcome to redistribute it under certain conditions.
Type 'license()' or 'licence()' for distribution details.
R is a collaborative project with many contributors.
Type 'contributors()' for more information and
'citation()' on how to cite R or R packages in publications.
Type 'demo()' for some demos, 'help()' for on-line help, or
'help.start()' for an HTML browser interface to help.
Type 'q()' to quit R.
> BiocGenerics:::testPackage("BiocStyle")
2025-10-14 14:19:51.362 R[93425:455894235] XType: Using static font registry.
Writing to file maketitle_test_1.tex
Processing code chunks with options ...
1 : keep.source term tex (label = style, maketitle_test_1.Rnw:5)
You can now run (pdf)latex on 'maketitle_test_1.tex'
Writing to file maketitle_test_2.tex
Processing code chunks with options ...
1 : keep.source term tex (label = style, maketitle_test_2.Rnw:5)
You can now run (pdf)latex on 'maketitle_test_2.tex'
Writing to file maketitle_test_3.tex
Processing code chunks with options ...
1 : keep.source term tex (label = style, maketitle_test_3.Rnw:5)
You can now run (pdf)latex on 'maketitle_test_3.tex'
Writing to file maketitle_test_4.tex
Processing code chunks with options ...
1 : keep.source term tex (label = style, maketitle_test_4.Rnw:5)
You can now run (pdf)latex on 'maketitle_test_4.tex'
Writing to file maketitle_test_5.tex
Processing code chunks with options ...
1 : keep.source term tex (label = style, maketitle_test_5.Rnw:5)
You can now run (pdf)latex on 'maketitle_test_5.tex'
processing file: file16cf1352b894d.Rmd
output file: file16cf1352b894d.knit.md
/opt/homebrew/bin/pandoc +RTS -K512m -RTS file16cf1352b894d.knit.md --to latex --from markdown+autolink_bare_uris+tex_math_single_backslash --output file16cf1352b894d.tex --lua-filter /Library/Frameworks/R.framework/Versions/4.5-arm64/Resources/library/bookdown/rmarkdown/lua/custom-environment.lua --lua-filter /Library/Frameworks/R.framework/Versions/4.5-arm64/Resources/library/rmarkdown/rmarkdown/lua/pagebreak.lua --lua-filter /Library/Frameworks/R.framework/Versions/4.5-arm64/Resources/library/rmarkdown/rmarkdown/lua/latex-div.lua --embed-resources --standalone --table-of-contents --toc-depth 2 --number-sections --highlight-style tango --pdf-engine pdflatex --include-in-header /tmp/Rtmpc0FYCq/16cf13d433980.tex --variable graphics --wrap preserve --variable subparagraph --template /tmp/Rtmpc0FYCq/BiocStyle/template.tex --variable tables=yes --standalone --variable 'compact-title:yes'
Warning: LaTeX Warning: You have requested package `/Library/Frameworks/R.framework/Vers
Warning: ions/4.5-arm64/Resources/library/BiocStyle/resources/tex/Bioconductor',
Warning: but the package provides `Bioconductor'.
Output created: file16cf1352b894d.pdf
RUNIT TEST PROTOCOL -- Tue Oct 14 14:20:32 2025
***********************************************
Number of test functions: 3
Number of errors: 0
Number of failures: 0
1 Test Suite :
BiocStyle RUnit Tests - 3 test functions, 0 errors, 0 failures
Number of test functions: 3
Number of errors: 0
Number of failures: 0
>
> proc.time()
user system elapsed
28.260 12.856 42.814
BiocStyle.Rcheck/BiocStyle-Ex.timings
| name | user | system | elapsed | |
| helpers | 0.003 | 0.001 | 0.003 | |
| html_document | 0.000 | 0.000 | 0.001 | |
| latex | 0 | 0 | 0 | |
| macros | 0.005 | 0.002 | 0.006 | |
| markdown | 0 | 0 | 0 | |
| md_document | 0.000 | 0.001 | 0.000 | |
| output | 0 | 0 | 0 | |
| pdf_document | 0.000 | 0.000 | 0.001 | |
| use_vignette | 0.002 | 0.001 | 0.005 | |