Back to Multiple platform build/check report for BioC 3.21:   simplified   long
A[B]CDEFGHIJKLMNOPQRSTUVWXYZ

This page was generated on 2025-04-22 13:19 -0400 (Tue, 22 Apr 2025).

HostnameOSArch (*)R versionInstalled pkgs
nebbiolo1Linux (Ubuntu 24.04.1 LTS)x86_644.5.0 RC (2025-04-04 r88126) -- "How About a Twenty-Six" 4831
palomino7Windows Server 2022 Datacenterx644.5.0 RC (2025-04-04 r88126 ucrt) -- "How About a Twenty-Six" 4573
lconwaymacOS 12.7.1 Montereyx86_644.5.0 RC (2025-04-04 r88126) -- "How About a Twenty-Six" 4599
kjohnson3macOS 13.7.1 Venturaarm644.5.0 RC (2025-04-04 r88126) -- "How About a Twenty-Six" 4553
kunpeng2Linux (openEuler 24.03 LTS)aarch64R Under development (unstable) (2025-02-19 r87757) -- "Unsuffered Consequences" 4570
Click on any hostname to see more info about the system (e.g. compilers)      (*) as reported by 'uname -p', except on Windows and Mac OS X

Package 219/2341HostnameOS / ArchINSTALLBUILDCHECKBUILD BIN
BioNet 1.68.0  (landing page)
Marcus Dittrich
Snapshot Date: 2025-04-21 13:40 -0400 (Mon, 21 Apr 2025)
git_url: https://git.bioconductor.org/packages/BioNet
git_branch: RELEASE_3_21
git_last_commit: 72d0881
git_last_commit_date: 2025-04-15 10:00:12 -0400 (Tue, 15 Apr 2025)
nebbiolo1Linux (Ubuntu 24.04.1 LTS) / x86_64  OK    OK    OK  YES
palomino7Windows Server 2022 Datacenter / x64  OK    ERROR  skippedskipped
lconwaymacOS 12.7.1 Monterey / x86_64  OK    OK    OK    OK  YES
kjohnson3macOS 13.7.1 Ventura / arm64  OK    OK    OK    OK  YES
kunpeng2Linux (openEuler 24.03 LTS) / aarch64  OK    OK    OK  


CHECK results for BioNet on kunpeng2

To the developers/maintainers of the BioNet package:
- Allow up to 24 hours (and sometimes 48 hours) for your latest push to git@git.bioconductor.org:packages/BioNet.git to reflect on this report. See Troubleshooting Build Report for more information.
- Use the following Renviron settings to reproduce errors and warnings.
- If 'R CMD check' started to fail recently on the Linux builder(s) over a missing dependency, add the missing dependency to 'Suggests:' in your DESCRIPTION file. See Renviron.bioc for more information.
- See Martin Grigorov's blog post for how to debug Linux ARM64 related issues on a x86_64 host.

raw results


Summary

Package: BioNet
Version: 1.68.0
Command: /home/biocbuild/R/R/bin/R CMD check --install=check:BioNet.install-out.txt --library=/home/biocbuild/R/R/site-library --no-vignettes --timings BioNet_1.68.0.tar.gz
StartedAt: 2025-04-22 06:50:12 -0000 (Tue, 22 Apr 2025)
EndedAt: 2025-04-22 06:53:35 -0000 (Tue, 22 Apr 2025)
EllapsedTime: 203.2 seconds
RetCode: 0
Status:   OK  
CheckDir: BioNet.Rcheck
Warnings: 0

Command output

##############################################################################
##############################################################################
###
### Running command:
###
###   /home/biocbuild/R/R/bin/R CMD check --install=check:BioNet.install-out.txt --library=/home/biocbuild/R/R/site-library --no-vignettes --timings BioNet_1.68.0.tar.gz
###
##############################################################################
##############################################################################


* using log directory ‘/home/biocbuild/bbs-3.21-bioc/meat/BioNet.Rcheck’
* using R Under development (unstable) (2025-02-19 r87757)
* using platform: aarch64-unknown-linux-gnu
* R was compiled by
    aarch64-unknown-linux-gnu-gcc (GCC) 14.2.0
    GNU Fortran (GCC) 14.2.0
* running under: openEuler 24.03 (LTS-SP1)
* using session charset: UTF-8
* using option ‘--no-vignettes’
* checking for file ‘BioNet/DESCRIPTION’ ... OK
* checking extension type ... Package
* this is package ‘BioNet’ version ‘1.68.0’
* checking package namespace information ... OK
* checking package dependencies ... OK
* checking if this is a source package ... OK
* checking if there is a namespace ... OK
* checking for hidden files and directories ... OK
* checking for portable file names ... OK
* checking for sufficient/correct file permissions ... OK
* checking whether package ‘BioNet’ can be installed ... OK
* checking installed package size ... OK
* checking package directory ... OK
* checking ‘build’ directory ... OK
* checking DESCRIPTION meta-information ... OK
* checking top-level files ... OK
* checking for left-over files ... OK
* checking index information ... OK
* checking package subdirectories ... OK
* checking code files for non-ASCII characters ... OK
* checking R files for syntax errors ... OK
* checking whether the package can be loaded ... OK
* checking whether the package can be loaded with stated dependencies ... OK
* checking whether the package can be unloaded cleanly ... OK
* checking whether the namespace can be loaded with stated dependencies ... OK
* checking whether the namespace can be unloaded cleanly ... OK
* checking loading without being on the library search path ... OK
* checking dependencies in R code ... NOTE
Packages in Depends field not imported from:
  ‘RBGL’ ‘graph’
  These packages need to be imported from (in the NAMESPACE file)
  for when this namespace is loaded but not attached.
* checking S3 generic/method consistency ... OK
* checking replacement functions ... OK
* checking foreign function calls ... OK
* checking R code for possible problems ... NOTE
.XGMML.edges: no visible global function definition for ‘is’
.XGMML.nodes: no visible global function definition for ‘is’
.add.edge.attrs: no visible global function definition for ‘read.table’
.add.node.attrs: no visible global function definition for ‘read.table’
.affyID2ppiID: no visible global function definition for ‘is’
.affyID2ppiID: no visible global function definition for ‘nodeData’
.graph.eda: no visible global function definition for ‘is’
.graph.eda: no visible global function definition for ‘write.table’
.graph.noa: no visible global function definition for ‘is’
.graph.noa: no visible global function definition for ‘write.table’
.graph.sif: no visible global function definition for ‘write.table’
.graph.table: no visible global function definition for ‘write.table’
.node.color: no visible global function definition for
  ‘colorRampPalette’
.saveGraph.net: no visible global function definition for ‘nodes’
.saveGraph.net: no visible global function definition for ‘write.table’
.saveGraph.net: no visible global function definition for ‘isDirected’
.saveGraph.net: no visible global function definition for ‘eWV’
.saveGraph.net: no visible global function definition for ‘edgeMatrix’
.saveGraph.tab: no visible global function definition for ‘edgeNames’
.saveGraph.tgf: no visible global function definition for ‘write.table’
.saveGraph.tgf: no visible global function definition for ‘nodes’
.saveGraph.tgf: no visible global function definition for ‘eWV’
.saveGraph.tgf: no visible global function definition for ‘edgeMatrix’
.subNetwork0: no visible global function definition for ‘is’
.subNetwork0: no visible global function definition for ‘na.omit’
.subNetwork0: no visible global function definition for ‘subGraph’
.subNetwork0: no visible global function definition for ‘nodes’
.subNetwork1: no visible global function definition for ‘is’
.subNetwork1: no visible global function definition for ‘na.omit’
.subNetwork1: no visible global function definition for ‘adj’
.subNetwork1: no visible global function definition for ‘subGraph’
.subNetwork1: no visible global function definition for ‘nodes’
aggrPvals: no visible global function definition for ‘pbeta’
aggrPvals: no visible global function definition for ‘hist’
aggrPvals: no visible global function definition for ‘par’
bumOptim: no visible global function definition for ‘runif’
bumOptim: no visible global function definition for ‘optim’
compareNetworks: no visible global function definition for ‘is’
compareNetworks: no visible global function definition for ‘hist’
compareNetworks: no visible global function definition for ‘points’
compareNetworks: no visible global function definition for ‘legend’
consensusScores: no visible global function definition for ‘is’
consensusScores : <anonymous>: no visible global function definition
  for ‘nodes’
consensusScores: no visible global function definition for ‘numNodes’
consensusScores: no visible global function definition for ‘nodes’
consensusScores: no visible global function definition for ‘numEdges’
fitBumModel: no visible global function definition for ‘par’
fitBumModel: no visible global function definition for ‘hist’
getCompScores: no visible global function definition for ‘is’
getCompScores: no visible global function definition for ‘connComp’
getEdgeList: no visible global function definition for ‘is’
getEdgeList: no visible global function definition for ‘edgeMatrix’
getEdgeList: no visible global function definition for ‘nodes’
hist.bum: no visible global function definition for ‘hist’
hist.bum: no visible global function definition for ‘lines’
hist.bum: no visible global function definition for ‘abline’
hist.bum: no visible global function definition for ‘axis’
largestComp: no visible global function definition for ‘is’
largestComp: no visible global function definition for ‘connectedComp’
largestComp: no visible global function definition for ‘subGraph’
largestScoreComp: no visible global function definition for ‘is’
largestScoreComp: no visible global function definition for ‘na.omit’
largestScoreComp: no visible global function definition for ‘nodes’
largestScoreComp: no visible global function definition for ‘subGraph’
loadNetwork.sif: no visible global function definition for ‘read.table’
loadNetwork.tab: no visible global function definition for ‘new’
loadNetwork.tab: no visible global function definition for ‘addEdge’
makeNetwork: no visible global function definition for ‘new’
makeNetwork: no visible global function definition for ‘addEdge’
permutateNodes: no visible global function definition for ‘is’
permutateNodes: no visible global function definition for ‘nodes<-’
permutateNodes: no visible global function definition for ‘nodes’
plot.bum: no visible binding for global variable ‘uniroot’
plot.bum: no visible global function definition for ‘lines’
plot3dModule: no visible global function definition for ‘is’
plot3dModule: no visible global function definition for ‘rgl.open’
plot3dModule: no visible global function definition for ‘par3d’
plot3dModule: no visible global function definition for ‘rgl.texts’
plot3dModule: no visible global function definition for ‘rgl.bg’
plotLLSurface: no visible binding for global variable ‘heat.colors’
plotLLSurface: no visible global function definition for
  ‘filled.contour’
plotLLSurface: no visible global function definition for ‘axis’
plotLLSurface: no visible global function definition for ‘abline’
plotLLSurface: no visible global function definition for ‘strheight’
plotLLSurface: no visible global function definition for ‘points’
plotLLSurface: no visible global function definition for ‘text’
plotModule: no visible global function definition for ‘is’
readHeinzGraph: no visible global function definition for ‘is’
readHeinzGraph: no visible global function definition for ‘read.table’
readHeinzTree: no visible global function definition for ‘read.table’
readHeinzTree: no visible global function definition for ‘is’
readHeinzTree: no visible global function definition for ‘edgeNames’
readHeinzTree: no visible global function definition for ‘removeEdge’
resamplingPvalues: no visible global function definition for
  ‘rowttests’
resamplingPvalues: no visible binding for global variable ‘var’
resamplingPvalues: no visible global function definition for ‘pt’
rmSelfLoops: no visible global function definition for ‘is’
rmSelfLoops: no visible global function definition for ‘edgeNames’
rmSelfLoops: no visible global function definition for ‘numEdges’
rmSelfLoops: no visible global function definition for ‘removeEdge’
runFastHeinz: no visible global function definition for ‘is’
save3dModule: no visible global function definition for ‘rgl.bg’
save3dModule: no visible global function definition for
  ‘rgl.postscript’
saveNetwork: no visible global function definition for ‘is’
scoreNodes: no visible global function definition for ‘is’
scoreNodes: no visible global function definition for ‘nodes’
sortedEdgeList: no visible global function definition for ‘is’
sortedEdgeList: no visible global function definition for ‘isDirected’
writeHeinz: no visible global function definition for ‘is’
writeHeinzEdges: no visible global function definition for ‘is’
writeHeinzEdges: no visible global function definition for
  ‘write.table’
writeHeinzNodes: no visible global function definition for ‘is’
writeHeinzNodes: no visible global function definition for
  ‘write.table’
Undefined global functions or variables:
  abline addEdge adj axis colorRampPalette connComp connectedComp eWV
  edgeMatrix edgeNames filled.contour heat.colors hist is isDirected
  legend lines na.omit new nodeData nodes nodes<- numEdges numNodes
  optim par par3d pbeta points pt read.table removeEdge rgl.bg rgl.open
  rgl.postscript rgl.texts rowttests runif strheight subGraph text
  uniroot var write.table
Consider adding
  importFrom("grDevices", "colorRampPalette", "heat.colors")
  importFrom("graphics", "abline", "axis", "filled.contour", "hist",
             "legend", "lines", "par", "points", "strheight", "text")
  importFrom("methods", "is", "new")
  importFrom("stats", "na.omit", "optim", "pbeta", "pt", "runif",
             "uniroot", "var")
  importFrom("utils", "read.table", "write.table")
to your NAMESPACE file (and ensure that your DESCRIPTION Imports field
contains 'methods').
* checking Rd files ... NOTE
checkRd: (-1) writeHeinz.Rd:29: Escaped LaTeX specials: \$
checkRd: (-1) writeHeinzEdges.Rd:23: Escaped LaTeX specials: \$
* checking Rd metadata ... OK
* checking Rd cross-references ... OK
* checking for missing documentation entries ... OK
* checking for code/documentation mismatches ... OK
* checking Rd \usage sections ... OK
* checking Rd contents ... OK
* checking for unstated dependencies in examples ... OK
* checking contents of ‘data’ directory ... OK
* checking data for non-ASCII characters ... OK
* checking data for ASCII and uncompressed saves ... OK
* checking files in ‘vignettes’ ... OK
* checking examples ... OK
Examples with CPU (user + system) or elapsed time > 5s
                 user system elapsed
runFastHeinz   29.027  0.176   29.28
permutateNodes  5.761  0.028    5.80
* checking for unstated dependencies in vignettes ... OK
* checking package vignettes ... OK
* checking running R code from vignettes ... SKIPPED
* checking re-building of vignette outputs ... SKIPPED
* checking PDF version of manual ... OK
* DONE

Status: 3 NOTEs
See
  ‘/home/biocbuild/bbs-3.21-bioc/meat/BioNet.Rcheck/00check.log’
for details.


Installation output

BioNet.Rcheck/00install.out

##############################################################################
##############################################################################
###
### Running command:
###
###   /home/biocbuild/R/R/bin/R CMD INSTALL BioNet
###
##############################################################################
##############################################################################


* installing to library ‘/home/biocbuild/R/R-devel_2025-02-19/site-library’
* installing *source* package ‘BioNet’ ...
** this is package ‘BioNet’ version ‘1.68.0’
** using staged installation
** R
** data
** inst
** byte-compile and prepare package for lazy loading
** help
*** installing help indices
** building package indices
** installing vignettes
** testing if installed package can be loaded from temporary location
** testing if installed package can be loaded from final location
** testing if installed package keeps a record of temporary installation path
* DONE (BioNet)

Tests output


Example timings

BioNet.Rcheck/BioNet-Ex.timings

nameusersystemelapsed
aggrPvals0.6150.0240.640
bumOptim0.2740.0080.282
compareNetworks1.1390.0161.163
consensusScores0.2660.0120.278
fbum000
fbumLL0.2840.0040.288
fdrThreshold0.2660.0000.266
fitBumModel0.8430.0230.869
getCompScores1.8300.0321.869
getEdgeList0.5420.0080.551
hist.bum0.7520.0000.754
largestComp1.2410.0321.275
largestScoreComp4.7890.0244.823
loadNetwork.sif000
makeNetwork0.0100.0000.011
mapByVar000
permutateNodes5.7610.0285.800
piUpper0.3070.0000.307
plot.bum0.8280.0040.834
plot3dModule1.8150.0081.827
plotLLSurface0.2660.0040.270
plotModule1.6330.0121.648
print.bum0.2770.0040.281
pvaluesExample0.0070.0000.007
readHeinzGraph0.2860.0000.286
readHeinzTree0.2840.0040.288
resamplingPvalues3.4810.0393.536
rmSelfLoops0.0420.0000.042
runFastHeinz29.027 0.17629.280
save3dModule1.1870.0161.205
saveNetwork1.0200.0001.022
scanFDR0.2560.0000.256
scoreFunction0.2720.0120.283
scoreNodes1.7270.0041.735
scoreOffset0.3010.0000.302
sortedEdgeList3.1250.0003.132
subNetwork0.0960.0000.096
summary.bum0.2540.0000.255
writeHeinz1.2320.0401.275
writeHeinzEdges2.4250.0202.450
writeHeinzNodes1.7760.0241.804