Back to Multiple platform build/check report for BioC 3.22:   simplified   long
A[B]CDEFGHIJKLMNOPQRSTUVWXYZ

This page was generated on 2025-10-31 12:03 -0400 (Fri, 31 Oct 2025).

HostnameOSArch (*)R versionInstalled pkgs
nebbiolo2Linux (Ubuntu 24.04.3 LTS)x86_644.5.1 Patched (2025-08-23 r88802) -- "Great Square Root" 4901
lconwaymacOS 12.7.6 Montereyx86_644.5.1 Patched (2025-09-10 r88807) -- "Great Square Root" 4691
kjohnson3macOS 13.7.7 Venturaarm644.5.1 Patched (2025-09-10 r88807) -- "Great Square Root" 4637
Click on any hostname to see more info about the system (e.g. compilers)      (*) as reported by 'uname -p', except on Windows and Mac OS X

Package 221/2361HostnameOS / ArchINSTALLBUILDCHECKBUILD BIN
BioNAR 1.12.0  (landing page)
Anatoly Sorokin
Snapshot Date: 2025-10-30 13:45 -0400 (Thu, 30 Oct 2025)
git_url: https://git.bioconductor.org/packages/BioNAR
git_branch: RELEASE_3_22
git_last_commit: a683d4b
git_last_commit_date: 2025-10-29 11:19:29 -0400 (Wed, 29 Oct 2025)
nebbiolo2Linux (Ubuntu 24.04.3 LTS) / x86_64  OK    OK    ERROR  
lconwaymacOS 12.7.6 Monterey / x86_64  OK    OK    ERROR    OK  
kjohnson3macOS 13.7.7 Ventura / arm64  OK    OK    ERROR    OK  


CHECK results for BioNAR on lconway

To the developers/maintainers of the BioNAR package:
- Allow up to 24 hours (and sometimes 48 hours) for your latest push to git@git.bioconductor.org:packages/BioNAR.git to reflect on this report. See Troubleshooting Build Report for more information.
- Use the following Renviron settings to reproduce errors and warnings.
- If 'R CMD check' started to fail recently on the Linux builder(s) over a missing dependency, add the missing dependency to 'Suggests:' in your DESCRIPTION file. See Renviron.bioc for more information.

raw results


Summary

Package: BioNAR
Version: 1.12.0
Command: /Library/Frameworks/R.framework/Resources/bin/R CMD check --install=check:BioNAR.install-out.txt --library=/Library/Frameworks/R.framework/Resources/library --no-vignettes --timings BioNAR_1.12.0.tar.gz
StartedAt: 2025-10-30 19:39:50 -0400 (Thu, 30 Oct 2025)
EndedAt: 2025-10-30 19:49:34 -0400 (Thu, 30 Oct 2025)
EllapsedTime: 583.9 seconds
RetCode: 1
Status:   ERROR  
CheckDir: BioNAR.Rcheck
Warnings: NA

Command output

##############################################################################
##############################################################################
###
### Running command:
###
###   /Library/Frameworks/R.framework/Resources/bin/R CMD check --install=check:BioNAR.install-out.txt --library=/Library/Frameworks/R.framework/Resources/library --no-vignettes --timings BioNAR_1.12.0.tar.gz
###
##############################################################################
##############################################################################


* using log directory ‘/Users/biocbuild/bbs-3.22-bioc/meat/BioNAR.Rcheck’
* using R version 4.5.1 Patched (2025-09-10 r88807)
* using platform: x86_64-apple-darwin20
* R was compiled by
    Apple clang version 14.0.0 (clang-1400.0.29.202)
    GNU Fortran (GCC) 14.2.0
* running under: macOS Monterey 12.7.6
* using session charset: UTF-8
* using option ‘--no-vignettes’
* checking for file ‘BioNAR/DESCRIPTION’ ... OK
* this is package ‘BioNAR’ version ‘1.12.0’
* package encoding: UTF-8
* checking package namespace information ... OK
* checking package dependencies ... OK
* checking if this is a source package ... OK
* checking if there is a namespace ... OK
* checking for hidden files and directories ... OK
* checking for portable file names ... OK
* checking for sufficient/correct file permissions ... OK
* checking whether package ‘BioNAR’ can be installed ... OK
* checking installed package size ... INFO
  installed size is  6.8Mb
  sub-directories of 1Mb or more:
    extdata   6.1Mb
* checking package directory ... OK
* checking ‘build’ directory ... OK
* checking DESCRIPTION meta-information ... OK
* checking top-level files ... OK
* checking for left-over files ... OK
* checking index information ... OK
* checking package subdirectories ... OK
* checking code files for non-ASCII characters ... OK
* checking R files for syntax errors ... OK
* checking whether the package can be loaded ... OK
* checking whether the package can be loaded with stated dependencies ... OK
* checking whether the package can be unloaded cleanly ... OK
* checking whether the namespace can be loaded with stated dependencies ... OK
* checking whether the namespace can be unloaded cleanly ... OK
* checking dependencies in R code ... NOTE
Package in Depends field not imported from: ‘Rdpack’
  These packages need to be imported from (in the NAMESPACE file)
  for when this namespace is loaded but not attached.
There are ::: calls to the package's namespace in its code. A package
  almost never needs to use ::: for its own objects:
  ‘addNoise’ ‘gofs’ ‘highlightRate’ ‘plotSigmoid’
* checking S3 generic/method consistency ... OK
* checking replacement functions ... OK
* checking foreign function calls ... OK
* checking R code for possible problems ... OK
* checking Rd files ... OK
* checking Rd metadata ... OK
* checking Rd cross-references ... NOTE
Unknown package ‘clusterCons’ in Rd xrefs
* checking for missing documentation entries ... OK
* checking for code/documentation mismatches ... OK
* checking Rd \usage sections ... OK
* checking Rd contents ... OK
* checking for unstated dependencies in examples ... OK
* checking contents of ‘data’ directory ... OK
* checking data for non-ASCII characters ... OK
* checking LazyData ... OK
* checking data for ASCII and uncompressed saves ... OK
* checking files in ‘vignettes’ ... OK
* checking examples ... OK
Examples with CPU (user + system) or elapsed time > 5s
                           user system elapsed
addEdgeAtts              10.441  3.850  17.394
calcEntropy              11.661  1.338  13.429
plotEntropy              11.846  1.110  13.050
getEntropy               10.862  1.154  12.127
getCentralityMatrix       9.282  1.127  10.894
annotateTopOntoOVG        9.346  0.855  10.324
getGraphCentralityECDF    8.999  0.842   9.900
clusteringSummary         8.836  0.261   9.211
annotateGOont             5.677  1.626   8.932
annotateSCHanno           6.447  0.792   7.894
normModularity            5.634  0.791   6.475
runPermDisease            6.015  0.168   6.210
annotateGoBP              4.908  0.801   6.678
calcSparsness             4.235  1.232   5.693
annotateGoMF              4.423  0.524   5.135
FitDegree                 1.046  0.048   8.447
getRandomGraphCentrality  0.588  0.024  12.630
* checking for unstated dependencies in ‘tests’ ... OK
* checking tests ...
  Running ‘testthat.R’
 ERROR
Running the tests in ‘tests/testthat.R’ failed.
Last 13 lines of output:
  [ FAIL 1 | WARN 0 | SKIP 2 | PASS 124 ]
  
  ══ Skipped tests (2) ═══════════════════════════════════════════════════════════
  • On CRAN (2): 'test_bridgeness.R:38:5', 'test_bridgeness.R:81:5'
  
  ══ Failed tests ════════════════════════════════════════════════════════════════
  ── Failure ('test_bridgeness.R:101:5'): Norm Modularity ────────────────────────
  `nm` (`actual`) not equal to 0.009390085 (`expected`).
  
    `actual`: 0.0070
  `expected`: 0.0094
  
  [ FAIL 1 | WARN 0 | SKIP 2 | PASS 124 ]
  Error: Test failures
  Execution halted
* checking for unstated dependencies in vignettes ... OK
* checking package vignettes ... OK
* checking running R code from vignettes ... SKIPPED
* checking re-building of vignette outputs ... SKIPPED
* checking PDF version of manual ... OK
* DONE

Status: 1 ERROR, 2 NOTEs
See
  ‘/Users/biocbuild/bbs-3.22-bioc/meat/BioNAR.Rcheck/00check.log’
for details.


Installation output

BioNAR.Rcheck/00install.out

##############################################################################
##############################################################################
###
### Running command:
###
###   /Library/Frameworks/R.framework/Resources/bin/R CMD INSTALL BioNAR
###
##############################################################################
##############################################################################


* installing to library ‘/Library/Frameworks/R.framework/Versions/4.5-x86_64/Resources/library’
* installing *source* package ‘BioNAR’ ...
** this is package ‘BioNAR’ version ‘1.12.0’
** using staged installation
** R
** data
*** moving datasets to lazyload DB
** inst
** byte-compile and prepare package for lazy loading
** help
*** installing help indices
** building package indices
** installing vignettes
** testing if installed package can be loaded from temporary location
** testing if installed package can be loaded from final location
** testing if installed package keeps a record of temporary installation path
* DONE (BioNAR)

Tests output

BioNAR.Rcheck/tests/testthat.Rout.fail


R version 4.5.1 Patched (2025-09-10 r88807) -- "Great Square Root"
Copyright (C) 2025 The R Foundation for Statistical Computing
Platform: x86_64-apple-darwin20

R is free software and comes with ABSOLUTELY NO WARRANTY.
You are welcome to redistribute it under certain conditions.
Type 'license()' or 'licence()' for distribution details.

R is a collaborative project with many contributors.
Type 'contributors()' for more information and
'citation()' on how to cite R or R packages in publications.

Type 'demo()' for some demos, 'help()' for on-line help, or
'help.start()' for an HTML browser interface to help.
Type 'q()' to quit R.

> library(testthat)
> library(BioNAR)
Loading required package: igraph

Attaching package: 'igraph'

The following object is masked from 'package:testthat':

    compare

The following objects are masked from 'package:stats':

    decompose, spectrum

The following object is masked from 'package:base':

    union

Loading required package: poweRlaw
Loading required package: latex2exp
Loading required package: RSpectra
Loading required package: Rdpack



Attaching package: 'BioNAR'

The following object is masked from 'package:igraph':

    permute

> 
> test_check("BioNAR")
[ FAIL 1 | WARN 0 | SKIP 2 | PASS 124 ]

══ Skipped tests (2) ═══════════════════════════════════════════════════════════
• On CRAN (2): 'test_bridgeness.R:38:5', 'test_bridgeness.R:81:5'

══ Failed tests ════════════════════════════════════════════════════════════════
── Failure ('test_bridgeness.R:101:5'): Norm Modularity ────────────────────────
`nm` (`actual`) not equal to 0.009390085 (`expected`).

  `actual`: 0.0070
`expected`: 0.0094

[ FAIL 1 | WARN 0 | SKIP 2 | PASS 124 ]
Error: Test failures
Execution halted

Example timings

BioNAR.Rcheck/BioNAR-Ex.timings

nameusersystemelapsed
FitDegree1.0460.0488.447
addEdgeAtts10.441 3.85017.394
annotateGOont5.6771.6268.932
annotateGeneNames0.2510.0230.402
annotateGoBP4.9080.8016.678
annotateGoCC3.7360.5154.684
annotateGoMF4.4230.5245.135
annotatePresynaptic1.6240.2382.074
annotateSCHanno6.4470.7927.894
annotateTopOntoOVG 9.346 0.85510.324
annotateVertex0.0040.0010.011
applpMatrixToGraph0.0020.0000.004
buildNetwork0.0050.0010.006
calcAllClustering3.2210.0133.239
calcBridgeness0.0960.0180.116
calcCentrality0.1020.0040.112
calcCentralityExternalDistances0.5790.0150.595
calcCentralityInternalDistances0.5290.0130.543
calcClustering0.0040.0000.004
calcDiseasePairs0.5270.0300.564
calcEntropy11.661 1.33813.429
calcMembership0.0060.0030.009
calcReclusterMatrix0.0310.0050.037
calcSparsness4.2351.2325.693
clusterORA0.2840.0260.315
clusteringSummary8.8360.2619.211
degreeBinnedGDAs0.2360.0260.266
escapeAnnotation0.0010.0010.001
evalCentralitySignificance0.4610.0420.508
findLCC0.0040.0010.015
getAnnotationList0.0510.0040.062
getAnnotationVertexList0.0590.0130.084
getBridgeness0.0540.0050.184
getCentralityMatrix 9.282 1.12710.894
getClusterSubgraphByID0.0200.0010.021
getClustering0.0180.0010.019
getCommunityGraph0.0190.0010.019
getDType000
getDYNAMO0.0350.0020.036
getDiseases000
getEntropy10.862 1.15412.127
getEntropyRate0.0060.0000.006
getGNP0.0210.0010.022
getGraphCentralityECDF8.9990.8429.900
getPA0.0170.0010.018
getRandomGraphCentrality 0.588 0.02412.630
getRobustness0.5100.0340.546
layoutByCluster0.0980.0050.102
layoutByRecluster0.1090.0070.116
makeConsensusMatrix0.5430.0350.580
makeMembership0.0030.0010.003
metlMatrix0.0100.0020.012
normModularity5.6340.7916.475
permute0.0000.0000.001
plotBridgeness0.5010.0120.515
plotEntropy11.846 1.11013.050
prepareGDA0.2970.0130.323
recluster0.0400.0020.043
removeVertexTerm0.0050.0010.006
runPermDisease6.0150.1686.210
sampleDegBinnedGDA0.4400.0180.459
sampleGraphClust0.0310.0020.032
unescapeAnnotation0.0010.0010.001
zeroNA000