Back to Multiple platform build/check report for BioC 3.21:   simplified   long
A[B]CDEFGHIJKLMNOPQRSTUVWXYZ

This page was generated on 2025-05-22 11:44 -0400 (Thu, 22 May 2025).

HostnameOSArch (*)R versionInstalled pkgs
nebbiolo1Linux (Ubuntu 24.04.1 LTS)x86_644.5.0 RC (2025-04-04 r88126) -- "How About a Twenty-Six" 4835
palomino7Windows Server 2022 Datacenterx644.5.0 RC (2025-04-04 r88126 ucrt) -- "How About a Twenty-Six" 4575
merida1macOS 12.7.5 Montereyx86_644.5.0 RC (2025-04-04 r88126) -- "How About a Twenty-Six" 4600
kjohnson1macOS 13.6.6 Venturaarm644.5.0 RC (2025-04-04 r88129) -- "How About a Twenty-Six" 4554
kunpeng2Linux (openEuler 24.03 LTS)aarch64R Under development (unstable) (2025-02-19 r87757) -- "Unsuffered Consequences" 4573
Click on any hostname to see more info about the system (e.g. compilers)      (*) as reported by 'uname -p', except on Windows and Mac OS X

Package 174/2341HostnameOS / ArchINSTALLBUILDCHECKBUILD BIN
BindingSiteFinder 2.6.0  (landing page)
Mirko Brüggemann
Snapshot Date: 2025-05-19 13:40 -0400 (Mon, 19 May 2025)
git_url: https://git.bioconductor.org/packages/BindingSiteFinder
git_branch: RELEASE_3_21
git_last_commit: efff5d6
git_last_commit_date: 2025-04-15 12:35:25 -0400 (Tue, 15 Apr 2025)
nebbiolo1Linux (Ubuntu 24.04.1 LTS) / x86_64  OK    OK    OK  UNNEEDED, same version is already published
palomino7Windows Server 2022 Datacenter / x64  OK    OK    OK    OK  UNNEEDED, same version is already published
merida1macOS 12.7.5 Monterey / x86_64  OK    OK    OK    OK  UNNEEDED, same version is already published
kjohnson1macOS 13.6.6 Ventura / arm64  OK    OK    OK    OK  UNNEEDED, same version is already published
kunpeng2Linux (openEuler 24.03 LTS) / aarch64  OK    OK    ERROR  


CHECK results for BindingSiteFinder on merida1

To the developers/maintainers of the BindingSiteFinder package:
- Allow up to 24 hours (and sometimes 48 hours) for your latest push to git@git.bioconductor.org:packages/BindingSiteFinder.git to reflect on this report. See Troubleshooting Build Report for more information.
- Use the following Renviron settings to reproduce errors and warnings.
- If 'R CMD check' started to fail recently on the Linux builder(s) over a missing dependency, add the missing dependency to 'Suggests:' in your DESCRIPTION file. See Renviron.bioc for more information.

raw results


Summary

Package: BindingSiteFinder
Version: 2.6.0
Command: /Library/Frameworks/R.framework/Resources/bin/R CMD check --install=check:BindingSiteFinder.install-out.txt --library=/Library/Frameworks/R.framework/Resources/library --no-vignettes --timings BindingSiteFinder_2.6.0.tar.gz
StartedAt: 2025-05-20 00:13:02 -0400 (Tue, 20 May 2025)
EndedAt: 2025-05-20 00:46:51 -0400 (Tue, 20 May 2025)
EllapsedTime: 2028.3 seconds
RetCode: 0
Status:   OK  
CheckDir: BindingSiteFinder.Rcheck
Warnings: 0

Command output

##############################################################################
##############################################################################
###
### Running command:
###
###   /Library/Frameworks/R.framework/Resources/bin/R CMD check --install=check:BindingSiteFinder.install-out.txt --library=/Library/Frameworks/R.framework/Resources/library --no-vignettes --timings BindingSiteFinder_2.6.0.tar.gz
###
##############################################################################
##############################################################################


* using log directory ‘/Users/biocbuild/bbs-3.21-bioc/meat/BindingSiteFinder.Rcheck’
* using R version 4.5.0 RC (2025-04-04 r88126)
* using platform: x86_64-apple-darwin20
* R was compiled by
    Apple clang version 14.0.0 (clang-1400.0.29.202)
    GNU Fortran (GCC) 14.2.0
* running under: macOS Monterey 12.7.6
* using session charset: UTF-8
* using option ‘--no-vignettes’
* checking for file ‘BindingSiteFinder/DESCRIPTION’ ... OK
* checking extension type ... Package
* this is package ‘BindingSiteFinder’ version ‘2.6.0’
* package encoding: UTF-8
* checking package namespace information ... OK
* checking package dependencies ... OK
* checking if this is a source package ... OK
* checking if there is a namespace ... OK
* checking for hidden files and directories ... OK
* checking for portable file names ... OK
* checking for sufficient/correct file permissions ... OK
* checking whether package ‘BindingSiteFinder’ can be installed ... OK
* checking installed package size ... OK
* checking package directory ... OK
* checking ‘build’ directory ... OK
* checking DESCRIPTION meta-information ... OK
* checking top-level files ... OK
* checking for left-over files ... OK
* checking index information ... OK
* checking package subdirectories ... OK
* checking code files for non-ASCII characters ... OK
* checking R files for syntax errors ... OK
* checking whether the package can be loaded ... OK
* checking whether the package can be loaded with stated dependencies ... OK
* checking whether the package can be unloaded cleanly ... OK
* checking whether the namespace can be loaded with stated dependencies ... OK
* checking whether the namespace can be unloaded cleanly ... OK
* checking dependencies in R code ... OK
* checking S3 generic/method consistency ... OK
* checking replacement functions ... OK
* checking foreign function calls ... OK
* checking R code for possible problems ... OK
* checking Rd files ... OK
* checking Rd metadata ... OK
* checking Rd cross-references ... NOTE
Found the following Rd file(s) with Rd \link{} targets missing package
anchors:
  BSFind.Rd: GenomicRanges, CompressedGRangesList
  annotateWithScore.Rd: GenomicRanges
  assignToGenes.Rd: GenomicRanges, overlaps
  assignToTranscriptRegions.Rd: CompressedGRangesList, overlaps
  bindingSiteDefinednessPlot.Rd: ggplot
  calculateBsBackground.Rd: GenomicRanges
  duplicatedSitesPlot.Rd: ggplot
  estimateBsWidth.Rd: GenomicRanges
  estimateBsWidthPlot.Rd: ggplot
  geneOverlapsPlot.Rd: ggplot
  geneRegulationPlot.Rd: GenomicRanges
  globalScorePlot.Rd: ggplot
  makeBsSummaryPlot.Rd: ggplot
  mergeCrosslinkDiagnosticsPlot.Rd: ggplot
  plotBsBackgroundFilter.Rd: ggplot
  plotBsMA.Rd: ggplot
  plotBsVolcano.Rd: ggplot
  processingStepsFlowChart.Rd: ggplot
  pureClipGeneWiseFilter.Rd: GenomicRanges, overlaps
  pureClipGlobalFilter.Rd: GenomicRanges
  pureClipGlobalFilterPlot.Rd: ggplot
  reproducibilityFilterPlot.Rd: ggplot
  reproducibilitySamplesPlot.Rd: ggplot
  targetGeneSpectrumPlot.Rd: ggplot
  transcriptRegionOverlapsPlot.Rd: ggplot
  transcriptRegionSpectrumPlot.Rd: ggplot
Please provide package anchors for all Rd \link{} targets not in the
package itself and the base packages.
* checking for missing documentation entries ... OK
* checking for code/documentation mismatches ... OK
* checking Rd \usage sections ... OK
* checking Rd contents ... OK
* checking for unstated dependencies in examples ... OK
* checking files in ‘vignettes’ ... OK
* checking examples ... OK
Examples with CPU (user + system) or elapsed time > 5s
                                 user system elapsed
quickFigure                    74.720  0.557  82.549
BSFind                         63.784  1.189  81.060
processingStepsFlowChart       63.891  0.613  69.433
bindingSiteDefinednessPlot     60.146  2.312 108.404
calculateBsFoldChange          42.401  2.701  47.332
plotBsMA                       26.352  0.265  26.926
plotBsVolcano                  25.352  0.245  25.825
geneRegulationPlot             24.810  0.511  26.475
estimateBsWidthPlot            18.798  0.372  19.870
estimateBsWidth                18.737  0.407  19.858
bindingSiteCoveragePlot        14.872  0.712  28.744
mergeSummaryPlot               11.145  2.683  18.843
rangeCoveragePlot              13.341  0.131  13.814
plotBsBackgroundFilter         11.371  0.620  13.037
calculateBsBackground          11.324  0.275  11.770
supportRatioPlot                9.684  0.097   9.922
reproducibilityScatterPlot      9.037  0.110   9.323
filterBsBackground              8.460  0.103   8.699
supportRatio                    7.987  0.039   8.419
makeBindingSites                6.329  1.308  10.061
geneOverlapsPlot                6.611  0.163   8.307
assignToGenes                   6.461  0.081  13.285
combineBSF                      6.366  0.148   6.781
transcriptRegionOverlapsPlot    6.378  0.083   6.561
transcriptRegionSpectrumPlot    6.399  0.038   6.509
reproducibilityCutoffPlot       6.198  0.029   6.273
assignToTranscriptRegions       5.827  0.098  11.080
imputeBsDifferencesForTestdata  5.518  0.343   6.267
targetGeneSpectrumPlot          5.545  0.042   5.614
add-BSFDataSet                  5.066  0.083  10.167
clipCoverage                    4.958  0.118   5.355
mergeCrosslinkDiagnosticsPlot   3.341  0.671   5.146
annotateWithScore               3.668  0.055   7.641
* checking for unstated dependencies in ‘tests’ ... OK
* checking tests ...
  Running ‘testthat.R’
 OK
* checking for unstated dependencies in vignettes ... OK
* checking package vignettes ... OK
* checking running R code from vignettes ... SKIPPED
* checking re-building of vignette outputs ... SKIPPED
* checking PDF version of manual ... OK
* DONE

Status: 1 NOTE
See
  ‘/Users/biocbuild/bbs-3.21-bioc/meat/BindingSiteFinder.Rcheck/00check.log’
for details.


Installation output

BindingSiteFinder.Rcheck/00install.out

##############################################################################
##############################################################################
###
### Running command:
###
###   /Library/Frameworks/R.framework/Resources/bin/R CMD INSTALL BindingSiteFinder
###
##############################################################################
##############################################################################


* installing to library ‘/Library/Frameworks/R.framework/Versions/4.5-x86_64/Resources/library’
* installing *source* package ‘BindingSiteFinder’ ...
** this is package ‘BindingSiteFinder’ version ‘2.6.0’
** using staged installation
** R
** inst
** byte-compile and prepare package for lazy loading
** help
*** installing help indices
** building package indices
** installing vignettes
** testing if installed package can be loaded from temporary location
** testing if installed package can be loaded from final location
** testing if installed package keeps a record of temporary installation path
* DONE (BindingSiteFinder)

Tests output

BindingSiteFinder.Rcheck/tests/testthat.Rout


R version 4.5.0 RC (2025-04-04 r88126) -- "How About a Twenty-Six"
Copyright (C) 2025 The R Foundation for Statistical Computing
Platform: x86_64-apple-darwin20

R is free software and comes with ABSOLUTELY NO WARRANTY.
You are welcome to redistribute it under certain conditions.
Type 'license()' or 'licence()' for distribution details.

R is a collaborative project with many contributors.
Type 'contributors()' for more information and
'citation()' on how to cite R or R packages in publications.

Type 'demo()' for some demos, 'help()' for on-line help, or
'help.start()' for an HTML browser interface to help.
Type 'q()' to quit R.

> library("testthat")
> library("BindingSiteFinder")
Loading required package: GenomicRanges
Loading required package: stats4
Loading required package: BiocGenerics
Loading required package: generics

Attaching package: 'generics'

The following objects are masked from 'package:base':

    as.difftime, as.factor, as.ordered, intersect, is.element, setdiff,
    setequal, union


Attaching package: 'BiocGenerics'

The following objects are masked from 'package:stats':

    IQR, mad, sd, var, xtabs

The following objects are masked from 'package:base':

    Filter, Find, Map, Position, Reduce, anyDuplicated, aperm, append,
    as.data.frame, basename, cbind, colnames, dirname, do.call,
    duplicated, eval, evalq, get, grep, grepl, is.unsorted, lapply,
    mapply, match, mget, order, paste, pmax, pmax.int, pmin, pmin.int,
    rank, rbind, rownames, sapply, saveRDS, table, tapply, unique,
    unsplit, which.max, which.min

Loading required package: S4Vectors

Attaching package: 'S4Vectors'

The following object is masked from 'package:utils':

    findMatches

The following objects are masked from 'package:base':

    I, expand.grid, unname

Loading required package: IRanges
Loading required package: GenomeInfoDb
> test_check("BindingSiteFinder")
[1] "make bs"
[1] "calc ratio"
[1] "make bs"
[1] "calc ratio"
[ FAIL 0 | WARN 0 | SKIP 0 | PASS 240 ]
> 
> proc.time()
   user  system elapsed 
641.883   6.491 672.274 

Example timings

BindingSiteFinder.Rcheck/BindingSiteFinder-Ex.timings

nameusersystemelapsed
BSFDataSet0.3450.0080.390
BSFind63.784 1.18981.060
add-BSFDataSet 5.066 0.08310.167
annotateWithScore3.6680.0557.641
assignToGenes 6.461 0.08113.285
assignToTranscriptRegions 5.827 0.09811.080
bindingSiteCoveragePlot14.872 0.71228.744
bindingSiteDefinednessPlot 60.146 2.312108.404
calculateBsBackground11.324 0.27511.770
calculateBsFoldChange42.401 2.70147.332
calculateSignalToFlankScore3.0220.0483.151
clipCoverage4.9580.1185.355
collapseReplicates0.2720.0230.333
combineBSF6.3660.1486.781
coverageOverRanges2.1270.0752.301
duplicatedSitesPlot1.1900.0321.399
estimateBsWidth18.737 0.40719.858
estimateBsWidthPlot18.798 0.37219.870
exportTargetGenes0.0360.0040.079
exportToBED0.0350.0030.054
filterBsBackground8.4600.1038.699
geneOverlapsPlot6.6110.1638.307
geneRegulationPlot24.810 0.51126.475
getMeta0.0440.0060.055
getName0.0380.0040.046
getRanges0.0800.0090.097
getSignal0.1410.0090.158
getSummary2.6520.0462.754
globalScorePlot3.3740.0483.502
imputeBsDifferencesForTestdata5.5180.3436.267
makeBindingSites 6.329 1.30810.061
makeBsSummaryPlot3.2500.6244.831
mergeCrosslinkDiagnosticsPlot3.3410.6715.146
mergeSummaryPlot11.145 2.68318.843
plotBsBackgroundFilter11.371 0.62013.037
plotBsMA26.352 0.26526.926
plotBsVolcano25.352 0.24525.825
processingStepsFlowChart63.891 0.61369.433
processingStepsTable0.1480.0100.159
pureClipGeneWiseFilter0.8060.0080.844
pureClipGlobalFilter0.1070.0030.110
pureClipGlobalFilterPlot0.6490.0070.698
quickFigure74.720 0.55782.549
rangeCoveragePlot13.341 0.13113.814
reproducibilityCutoffPlot6.1980.0296.273
reproducibilityFilter3.7850.0193.825
reproducibilityFilterPlot4.8370.0264.893
reproducibilitySamplesPlot4.1780.0184.210
reproducibilityScatterPlot9.0370.1109.323
setMeta0.0500.0030.053
setName0.0400.0020.042
setRanges0.1060.0030.114
setSignal0.1070.0030.113
setSummary0.0410.0020.043
show0.0430.0040.047
subset-BSFDataSet0.0680.0030.073
summary0.0850.0040.089
supportRatio7.9870.0398.419
supportRatioPlot9.6840.0979.922
targetGeneSpectrumPlot5.5450.0425.614
transcriptRegionOverlapsPlot6.3780.0836.561
transcriptRegionSpectrumPlot6.3990.0386.509