| Back to Multiple platform build/check report for BioC 3.21: simplified long |
|
This page was generated on 2025-04-22 13:17 -0400 (Tue, 22 Apr 2025).
| Hostname | OS | Arch (*) | R version | Installed pkgs |
|---|---|---|---|---|
| nebbiolo1 | Linux (Ubuntu 24.04.1 LTS) | x86_64 | 4.5.0 RC (2025-04-04 r88126) -- "How About a Twenty-Six" | 4831 |
| palomino7 | Windows Server 2022 Datacenter | x64 | 4.5.0 RC (2025-04-04 r88126 ucrt) -- "How About a Twenty-Six" | 4573 |
| lconway | macOS 12.7.1 Monterey | x86_64 | 4.5.0 RC (2025-04-04 r88126) -- "How About a Twenty-Six" | 4599 |
| kjohnson3 | macOS 13.7.1 Ventura | arm64 | 4.5.0 RC (2025-04-04 r88126) -- "How About a Twenty-Six" | 4553 |
| kunpeng2 | Linux (openEuler 24.03 LTS) | aarch64 | R Under development (unstable) (2025-02-19 r87757) -- "Unsuffered Consequences" | 4570 |
| Click on any hostname to see more info about the system (e.g. compilers) (*) as reported by 'uname -p', except on Windows and Mac OS X | ||||
| Package 174/2341 | Hostname | OS / Arch | INSTALL | BUILD | CHECK | BUILD BIN | ||||||||
| BindingSiteFinder 2.6.0 (landing page) Mirko Brüggemann
| nebbiolo1 | Linux (Ubuntu 24.04.1 LTS) / x86_64 | OK | OK | OK | |||||||||
| palomino7 | Windows Server 2022 Datacenter / x64 | OK | OK | OK | OK | |||||||||
| lconway | macOS 12.7.1 Monterey / x86_64 | OK | OK | OK | OK | |||||||||
| kjohnson3 | macOS 13.7.1 Ventura / arm64 | OK | OK | OK | OK | |||||||||
| kunpeng2 | Linux (openEuler 24.03 LTS) / aarch64 | OK | OK | ERROR | ||||||||||
|
To the developers/maintainers of the BindingSiteFinder package: - Allow up to 24 hours (and sometimes 48 hours) for your latest push to git@git.bioconductor.org:packages/BindingSiteFinder.git to reflect on this report. See Troubleshooting Build Report for more information. - Use the following Renviron settings to reproduce errors and warnings. - If 'R CMD check' started to fail recently on the Linux builder(s) over a missing dependency, add the missing dependency to 'Suggests:' in your DESCRIPTION file. See Renviron.bioc for more information. |
| Package: BindingSiteFinder |
| Version: 2.6.0 |
| Command: /Library/Frameworks/R.framework/Resources/bin/R CMD check --install=check:BindingSiteFinder.install-out.txt --library=/Library/Frameworks/R.framework/Resources/library --no-vignettes --timings BindingSiteFinder_2.6.0.tar.gz |
| StartedAt: 2025-04-21 18:19:07 -0400 (Mon, 21 Apr 2025) |
| EndedAt: 2025-04-21 18:24:24 -0400 (Mon, 21 Apr 2025) |
| EllapsedTime: 317.5 seconds |
| RetCode: 0 |
| Status: OK |
| CheckDir: BindingSiteFinder.Rcheck |
| Warnings: 0 |
##############################################################################
##############################################################################
###
### Running command:
###
### /Library/Frameworks/R.framework/Resources/bin/R CMD check --install=check:BindingSiteFinder.install-out.txt --library=/Library/Frameworks/R.framework/Resources/library --no-vignettes --timings BindingSiteFinder_2.6.0.tar.gz
###
##############################################################################
##############################################################################
* using log directory ‘/Users/biocbuild/bbs-3.21-bioc/meat/BindingSiteFinder.Rcheck’
* using R version 4.5.0 RC (2025-04-04 r88126)
* using platform: aarch64-apple-darwin20
* R was compiled by
Apple clang version 14.0.0 (clang-1400.0.29.202)
GNU Fortran (GCC) 14.2.0
* running under: macOS Ventura 13.7.1
* using session charset: UTF-8
* using option ‘--no-vignettes’
* checking for file ‘BindingSiteFinder/DESCRIPTION’ ... OK
* checking extension type ... Package
* this is package ‘BindingSiteFinder’ version ‘2.6.0’
* package encoding: UTF-8
* checking package namespace information ... OK
* checking package dependencies ... OK
* checking if this is a source package ... OK
* checking if there is a namespace ... OK
* checking for hidden files and directories ... OK
* checking for portable file names ... OK
* checking for sufficient/correct file permissions ... OK
* checking whether package ‘BindingSiteFinder’ can be installed ... OK
* checking installed package size ... OK
* checking package directory ... OK
* checking ‘build’ directory ... OK
* checking DESCRIPTION meta-information ... OK
* checking top-level files ... OK
* checking for left-over files ... OK
* checking index information ... OK
* checking package subdirectories ... OK
* checking code files for non-ASCII characters ... OK
* checking R files for syntax errors ... OK
* checking whether the package can be loaded ... OK
* checking whether the package can be loaded with stated dependencies ... OK
* checking whether the package can be unloaded cleanly ... OK
* checking whether the namespace can be loaded with stated dependencies ... OK
* checking whether the namespace can be unloaded cleanly ... OK
* checking dependencies in R code ... OK
* checking S3 generic/method consistency ... OK
* checking replacement functions ... OK
* checking foreign function calls ... OK
* checking R code for possible problems ... OK
* checking Rd files ... OK
* checking Rd metadata ... OK
* checking Rd cross-references ... NOTE
Found the following Rd file(s) with Rd \link{} targets missing package
anchors:
BSFind.Rd: GenomicRanges, CompressedGRangesList
annotateWithScore.Rd: GenomicRanges
assignToGenes.Rd: GenomicRanges, overlaps
assignToTranscriptRegions.Rd: CompressedGRangesList, overlaps
bindingSiteDefinednessPlot.Rd: ggplot
calculateBsBackground.Rd: GenomicRanges
duplicatedSitesPlot.Rd: ggplot
estimateBsWidth.Rd: GenomicRanges
estimateBsWidthPlot.Rd: ggplot
geneOverlapsPlot.Rd: ggplot
geneRegulationPlot.Rd: GenomicRanges
globalScorePlot.Rd: ggplot
makeBsSummaryPlot.Rd: ggplot
mergeCrosslinkDiagnosticsPlot.Rd: ggplot
plotBsBackgroundFilter.Rd: ggplot
plotBsMA.Rd: ggplot
plotBsVolcano.Rd: ggplot
processingStepsFlowChart.Rd: ggplot
pureClipGeneWiseFilter.Rd: GenomicRanges, overlaps
pureClipGlobalFilter.Rd: GenomicRanges
pureClipGlobalFilterPlot.Rd: ggplot
reproducibilityFilterPlot.Rd: ggplot
reproducibilitySamplesPlot.Rd: ggplot
targetGeneSpectrumPlot.Rd: ggplot
transcriptRegionOverlapsPlot.Rd: ggplot
transcriptRegionSpectrumPlot.Rd: ggplot
Please provide package anchors for all Rd \link{} targets not in the
package itself and the base packages.
* checking for missing documentation entries ... OK
* checking for code/documentation mismatches ... OK
* checking Rd \usage sections ... OK
* checking Rd contents ... OK
* checking for unstated dependencies in examples ... OK
* checking files in ‘vignettes’ ... OK
* checking examples ... OK
Examples with CPU (user + system) or elapsed time > 5s
user system elapsed
quickFigure 9.651 0.188 9.879
BSFind 9.132 0.265 9.667
bindingSiteDefinednessPlot 8.397 0.288 8.857
processingStepsFlowChart 8.271 0.184 8.521
calculateBsFoldChange 7.303 1.096 10.469
plotBsMA 4.908 0.092 5.014
* checking for unstated dependencies in ‘tests’ ... OK
* checking tests ...
Running ‘testthat.R’
OK
* checking for unstated dependencies in vignettes ... OK
* checking package vignettes ... OK
* checking running R code from vignettes ... SKIPPED
* checking re-building of vignette outputs ... SKIPPED
* checking PDF version of manual ... OK
* DONE
Status: 1 NOTE
See
‘/Users/biocbuild/bbs-3.21-bioc/meat/BindingSiteFinder.Rcheck/00check.log’
for details.
BindingSiteFinder.Rcheck/00install.out
############################################################################## ############################################################################## ### ### Running command: ### ### /Library/Frameworks/R.framework/Resources/bin/R CMD INSTALL BindingSiteFinder ### ############################################################################## ############################################################################## * installing to library ‘/Library/Frameworks/R.framework/Versions/4.5-arm64/Resources/library’ * installing *source* package ‘BindingSiteFinder’ ... ** this is package ‘BindingSiteFinder’ version ‘2.6.0’ ** using staged installation ** R ** inst ** byte-compile and prepare package for lazy loading ** help *** installing help indices ** building package indices ** installing vignettes ** testing if installed package can be loaded from temporary location ** testing if installed package can be loaded from final location ** testing if installed package keeps a record of temporary installation path * DONE (BindingSiteFinder)
BindingSiteFinder.Rcheck/tests/testthat.Rout
R version 4.5.0 RC (2025-04-04 r88126) -- "How About a Twenty-Six"
Copyright (C) 2025 The R Foundation for Statistical Computing
Platform: aarch64-apple-darwin20
R is free software and comes with ABSOLUTELY NO WARRANTY.
You are welcome to redistribute it under certain conditions.
Type 'license()' or 'licence()' for distribution details.
R is a collaborative project with many contributors.
Type 'contributors()' for more information and
'citation()' on how to cite R or R packages in publications.
Type 'demo()' for some demos, 'help()' for on-line help, or
'help.start()' for an HTML browser interface to help.
Type 'q()' to quit R.
> library("testthat")
> library("BindingSiteFinder")
Loading required package: GenomicRanges
Loading required package: stats4
Loading required package: BiocGenerics
Loading required package: generics
Attaching package: 'generics'
The following objects are masked from 'package:base':
as.difftime, as.factor, as.ordered, intersect, is.element, setdiff,
setequal, union
Attaching package: 'BiocGenerics'
The following objects are masked from 'package:stats':
IQR, mad, sd, var, xtabs
The following objects are masked from 'package:base':
Filter, Find, Map, Position, Reduce, anyDuplicated, aperm, append,
as.data.frame, basename, cbind, colnames, dirname, do.call,
duplicated, eval, evalq, get, grep, grepl, is.unsorted, lapply,
mapply, match, mget, order, paste, pmax, pmax.int, pmin, pmin.int,
rank, rbind, rownames, sapply, saveRDS, table, tapply, unique,
unsplit, which.max, which.min
Loading required package: S4Vectors
Attaching package: 'S4Vectors'
The following object is masked from 'package:utils':
findMatches
The following objects are masked from 'package:base':
I, expand.grid, unname
Loading required package: IRanges
Loading required package: GenomeInfoDb
> test_check("BindingSiteFinder")
[1] "make bs"
[1] "calc ratio"
[1] "make bs"
[1] "calc ratio"
[ FAIL 0 | WARN 0 | SKIP 0 | PASS 240 ]
>
> proc.time()
user system elapsed
84.175 1.826 86.150
BindingSiteFinder.Rcheck/BindingSiteFinder-Ex.timings
| name | user | system | elapsed | |
| BSFDataSet | 0.060 | 0.003 | 0.064 | |
| BSFind | 9.132 | 0.265 | 9.667 | |
| add-BSFDataSet | 1.155 | 0.036 | 1.208 | |
| annotateWithScore | 0.454 | 0.018 | 0.478 | |
| assignToGenes | 0.620 | 0.017 | 0.640 | |
| assignToTranscriptRegions | 0.747 | 0.012 | 0.761 | |
| bindingSiteCoveragePlot | 4.140 | 0.136 | 4.605 | |
| bindingSiteDefinednessPlot | 8.397 | 0.288 | 8.857 | |
| calculateBsBackground | 1.398 | 0.034 | 1.432 | |
| calculateBsFoldChange | 7.303 | 1.096 | 10.469 | |
| calculateSignalToFlankScore | 0.435 | 0.019 | 0.454 | |
| clipCoverage | 0.557 | 0.017 | 0.575 | |
| collapseReplicates | 0.062 | 0.008 | 0.070 | |
| combineBSF | 0.947 | 0.027 | 0.977 | |
| coverageOverRanges | 0.370 | 0.036 | 0.407 | |
| duplicatedSitesPlot | 0.197 | 0.015 | 0.212 | |
| estimateBsWidth | 2.890 | 0.089 | 3.025 | |
| estimateBsWidthPlot | 2.996 | 0.087 | 3.100 | |
| exportTargetGenes | 0.009 | 0.001 | 0.011 | |
| exportToBED | 0.009 | 0.001 | 0.011 | |
| filterBsBackground | 1.164 | 0.028 | 1.197 | |
| geneOverlapsPlot | 0.841 | 0.022 | 0.893 | |
| geneRegulationPlot | 3.723 | 0.082 | 3.815 | |
| getMeta | 0.011 | 0.001 | 0.012 | |
| getName | 0.010 | 0.002 | 0.011 | |
| getRanges | 0.016 | 0.001 | 0.018 | |
| getSignal | 0.023 | 0.002 | 0.025 | |
| getSummary | 0.395 | 0.014 | 0.409 | |
| globalScorePlot | 0.449 | 0.004 | 0.466 | |
| imputeBsDifferencesForTestdata | 0.700 | 0.014 | 0.725 | |
| makeBindingSites | 0.798 | 0.019 | 0.826 | |
| makeBsSummaryPlot | 0.421 | 0.015 | 0.459 | |
| mergeCrosslinkDiagnosticsPlot | 0.427 | 0.007 | 0.438 | |
| mergeSummaryPlot | 1.216 | 0.018 | 1.247 | |
| plotBsBackgroundFilter | 1.648 | 0.064 | 1.753 | |
| plotBsMA | 4.908 | 0.092 | 5.014 | |
| plotBsVolcano | 3.890 | 0.061 | 3.956 | |
| processingStepsFlowChart | 8.271 | 0.184 | 8.521 | |
| processingStepsTable | 0.024 | 0.001 | 0.025 | |
| pureClipGeneWiseFilter | 0.113 | 0.004 | 0.117 | |
| pureClipGlobalFilter | 0.020 | 0.002 | 0.022 | |
| pureClipGlobalFilterPlot | 0.087 | 0.002 | 0.090 | |
| quickFigure | 9.651 | 0.188 | 9.879 | |
| rangeCoveragePlot | 1.841 | 0.077 | 1.933 | |
| reproducibilityCutoffPlot | 1.385 | 0.027 | 1.428 | |
| reproducibilityFilter | 0.511 | 0.018 | 0.536 | |
| reproducibilityFilterPlot | 0.605 | 0.011 | 0.618 | |
| reproducibilitySamplesPlot | 0.531 | 0.012 | 0.543 | |
| reproducibilityScatterPlot | 1.153 | 0.037 | 1.198 | |
| setMeta | 0.011 | 0.001 | 0.013 | |
| setName | 0.010 | 0.001 | 0.011 | |
| setRanges | 0.019 | 0.001 | 0.019 | |
| setSignal | 0.019 | 0.002 | 0.020 | |
| setSummary | 0.011 | 0.001 | 0.012 | |
| show | 0.010 | 0.001 | 0.012 | |
| subset-BSFDataSet | 0.014 | 0.000 | 0.015 | |
| summary | 0.019 | 0.001 | 0.025 | |
| supportRatio | 1.052 | 0.021 | 1.076 | |
| supportRatioPlot | 1.153 | 0.029 | 1.185 | |
| targetGeneSpectrumPlot | 0.694 | 0.015 | 0.716 | |
| transcriptRegionOverlapsPlot | 0.793 | 0.011 | 0.805 | |
| transcriptRegionSpectrumPlot | 0.815 | 0.013 | 0.836 | |