| Back to Multiple platform build/check report for BioC 3.22: simplified long |
|
This page was generated on 2025-11-20 12:03 -0500 (Thu, 20 Nov 2025).
| Hostname | OS | Arch (*) | R version | Installed pkgs |
|---|---|---|---|---|
| nebbiolo2 | Linux (Ubuntu 24.04.3 LTS) | x86_64 | 4.5.2 (2025-10-31) -- "[Not] Part in a Rumble" | 4615 |
| merida1 | macOS 12.7.6 Monterey | x86_64 | 4.5.2 Patched (2025-11-05 r88990) -- "[Not] Part in a Rumble" | 4610 |
| kjohnson1 | macOS 13.7.5 Ventura | arm64 | 4.5.2 Patched (2025-11-04 r88984) -- "[Not] Part in a Rumble" | 4598 |
| taishan | Linux (openEuler 24.03 LTS) | aarch64 | 4.5.0 (2025-04-11) -- "How About a Twenty-Six" | 4668 |
| Click on any hostname to see more info about the system (e.g. compilers) (*) as reported by 'uname -p', except on Windows and Mac OS X | ||||
| Package 147/2361 | Hostname | OS / Arch | INSTALL | BUILD | CHECK | BUILD BIN | ||||||||
| BatchQC 2.6.0 (landing page) Jessica Anderson
| nebbiolo2 | Linux (Ubuntu 24.04.3 LTS) / x86_64 | OK | OK | OK | |||||||||
| merida1 | macOS 12.7.6 Monterey / x86_64 | OK | OK | OK | OK | |||||||||
| kjohnson1 | macOS 13.7.5 Ventura / arm64 | OK | OK | OK | OK | |||||||||
| taishan | Linux (openEuler 24.03 LTS) / aarch64 | OK | OK | OK | ||||||||||
|
To the developers/maintainers of the BatchQC package: - Allow up to 24 hours (and sometimes 48 hours) for your latest push to git@git.bioconductor.org:packages/BatchQC.git to reflect on this report. See Troubleshooting Build Report for more information. - Use the following Renviron settings to reproduce errors and warnings. - If 'R CMD check' started to fail recently on the Linux builder(s) over a missing dependency, add the missing dependency to 'Suggests:' in your DESCRIPTION file. See Renviron.bioc for more information. |
| Package: BatchQC |
| Version: 2.6.0 |
| Command: /home/biocbuild/bbs-3.22-bioc/R/bin/R CMD check --install=check:BatchQC.install-out.txt --library=/home/biocbuild/bbs-3.22-bioc/R/site-library --timings BatchQC_2.6.0.tar.gz |
| StartedAt: 2025-11-18 00:48:31 -0500 (Tue, 18 Nov 2025) |
| EndedAt: 2025-11-18 01:03:03 -0500 (Tue, 18 Nov 2025) |
| EllapsedTime: 872.6 seconds |
| RetCode: 0 |
| Status: OK |
| CheckDir: BatchQC.Rcheck |
| Warnings: 0 |
##############################################################################
##############################################################################
###
### Running command:
###
### /home/biocbuild/bbs-3.22-bioc/R/bin/R CMD check --install=check:BatchQC.install-out.txt --library=/home/biocbuild/bbs-3.22-bioc/R/site-library --timings BatchQC_2.6.0.tar.gz
###
##############################################################################
##############################################################################
* using log directory ‘/home/biocbuild/bbs-3.22-bioc/meat/BatchQC.Rcheck’
* using R version 4.5.2 (2025-10-31)
* using platform: x86_64-pc-linux-gnu
* R was compiled by
gcc (Ubuntu 13.3.0-6ubuntu2~24.04) 13.3.0
GNU Fortran (Ubuntu 13.3.0-6ubuntu2~24.04) 13.3.0
* running under: Ubuntu 24.04.3 LTS
* using session charset: UTF-8
* checking for file ‘BatchQC/DESCRIPTION’ ... OK
* checking extension type ... Package
* this is package ‘BatchQC’ version ‘2.6.0’
* package encoding: UTF-8
* checking package namespace information ... OK
* checking package dependencies ... INFO
Imports includes 27 non-default packages.
Importing from so many packages makes the package vulnerable to any of
them becoming unavailable. Move as many as possible to Suggests and
use conditionally.
* checking if this is a source package ... OK
* checking if there is a namespace ... OK
* checking for hidden files and directories ... OK
* checking for portable file names ... OK
* checking for sufficient/correct file permissions ... OK
* checking whether package ‘BatchQC’ can be installed ... OK
* checking installed package size ... OK
* checking package directory ... OK
* checking ‘build’ directory ... OK
* checking DESCRIPTION meta-information ... OK
* checking top-level files ... OK
* checking for left-over files ... OK
* checking index information ... OK
* checking package subdirectories ... OK
* checking code files for non-ASCII characters ... OK
* checking R files for syntax errors ... OK
* checking whether the package can be loaded ... OK
* checking whether the package can be loaded with stated dependencies ... OK
* checking whether the package can be unloaded cleanly ... OK
* checking whether the namespace can be loaded with stated dependencies ... OK
* checking whether the namespace can be unloaded cleanly ... OK
* checking loading without being on the library search path ... OK
* checking dependencies in R code ... OK
* checking S3 generic/method consistency ... OK
* checking replacement functions ... OK
* checking foreign function calls ... OK
* checking R code for possible problems ... OK
* checking Rd files ... OK
* checking Rd metadata ... OK
* checking Rd cross-references ... OK
* checking for missing documentation entries ... OK
* checking for code/documentation mismatches ... OK
* checking Rd \usage sections ... OK
* checking Rd contents ... OK
* checking for unstated dependencies in examples ... OK
* checking contents of ‘data’ directory ... OK
* checking data for non-ASCII characters ... OK
* checking data for ASCII and uncompressed saves ... OK
* checking files in ‘vignettes’ ... OK
* checking examples ... OK
Examples with CPU (user + system) or elapsed time > 5s
user system elapsed
compute_aic 37.287 0.072 37.380
volcano_plot 28.174 0.632 28.820
tb_data_upload 20.549 2.838 24.540
DE_analyze 21.707 0.367 22.086
pval_plotter 20.491 0.162 20.653
pval_summary 18.586 0.114 18.702
PCA_plotter 15.173 0.101 15.275
batch_correct 14.536 0.102 14.639
compute_lambda 5.526 0.056 5.582
goodness_of_fit_DESeq2 5.023 0.080 5.103
* checking for unstated dependencies in ‘tests’ ... OK
* checking tests ...
Running ‘spelling.R’
Running ‘testthat.R’
OK
* checking for unstated dependencies in vignettes ... OK
* checking package vignettes ... OK
* checking re-building of vignette outputs ... OK
* checking PDF version of manual ... OK
* DONE
Status: OK
BatchQC.Rcheck/00install.out
############################################################################## ############################################################################## ### ### Running command: ### ### /home/biocbuild/bbs-3.22-bioc/R/bin/R CMD INSTALL BatchQC ### ############################################################################## ############################################################################## * installing to library ‘/home/biocbuild/bbs-3.22-bioc/R/site-library’ * installing *source* package ‘BatchQC’ ... ** this is package ‘BatchQC’ version ‘2.6.0’ ** using staged installation ** R ** data ** inst ** byte-compile and prepare package for lazy loading ** help *** installing help indices ** building package indices ** installing vignettes ** testing if installed package can be loaded from temporary location ** testing if installed package can be loaded from final location ** testing if installed package keeps a record of temporary installation path * DONE (BatchQC)
BatchQC.Rcheck/tests/spelling.Rout
R version 4.5.2 (2025-10-31) -- "[Not] Part in a Rumble"
Copyright (C) 2025 The R Foundation for Statistical Computing
Platform: x86_64-pc-linux-gnu
R is free software and comes with ABSOLUTELY NO WARRANTY.
You are welcome to redistribute it under certain conditions.
Type 'license()' or 'licence()' for distribution details.
R is a collaborative project with many contributors.
Type 'contributors()' for more information and
'citation()' on how to cite R or R packages in publications.
Type 'demo()' for some demos, 'help()' for on-line help, or
'help.start()' for an HTML browser interface to help.
Type 'q()' to quit R.
> if (requireNamespace('spelling', quietly = TRUE))
+ spelling::spell_check_test(vignettes = TRUE, error = FALSE,
+ skip_on_cran = TRUE)
All Done!
>
> proc.time()
user system elapsed
0.161 0.042 0.187
BatchQC.Rcheck/tests/testthat.Rout
R version 4.5.2 (2025-10-31) -- "[Not] Part in a Rumble"
Copyright (C) 2025 The R Foundation for Statistical Computing
Platform: x86_64-pc-linux-gnu
R is free software and comes with ABSOLUTELY NO WARRANTY.
You are welcome to redistribute it under certain conditions.
Type 'license()' or 'licence()' for distribution details.
R is a collaborative project with many contributors.
Type 'contributors()' for more information and
'citation()' on how to cite R or R packages in publications.
Type 'demo()' for some demos, 'help()' for on-line help, or
'help.start()' for an HTML browser interface to help.
Type 'q()' to quit R.
> library(testthat)
> library(BatchQC)
>
> test_check("BatchQC")
[ FAIL 0 | WARN 0 | SKIP 1 | PASS 0 ]
══ Skipped tests (1) ═══════════════════════════════════════════════════════════
• On CRAN (1): 'test-lintr.R:3:5'
[ FAIL 0 | WARN 0 | SKIP 1 | PASS 0 ]
>
> proc.time()
user system elapsed
13.869 0.701 14.562
BatchQC.Rcheck/BatchQC-Ex.timings
| name | user | system | elapsed | |
| BatchQC | 0 | 0 | 0 | |
| DE_analyze | 21.707 | 0.367 | 22.086 | |
| EV_plotter | 1.220 | 0.017 | 1.238 | |
| EV_table | 1.024 | 0.026 | 1.049 | |
| PCA_plotter | 15.173 | 0.101 | 15.275 | |
| batch_correct | 14.536 | 0.102 | 14.639 | |
| batch_design | 0.531 | 0.005 | 0.535 | |
| batchqc_explained_variation | 0.911 | 0.012 | 0.922 | |
| bisect | 0.004 | 0.000 | 0.003 | |
| bladder_data_upload | 0.236 | 0.019 | 0.255 | |
| color_palette | 0.210 | 0.005 | 0.216 | |
| compute_aic | 37.287 | 0.072 | 37.380 | |
| compute_lambda | 5.526 | 0.056 | 5.582 | |
| confound_metrics | 0.562 | 0.008 | 0.571 | |
| cor_props | 0.461 | 0.006 | 0.467 | |
| covariates_not_confounded | 0.650 | 0.004 | 0.654 | |
| cramers_v | 0.539 | 0.002 | 0.541 | |
| dendrogram_alpha_numeric_check | 0.478 | 0.005 | 0.483 | |
| dendrogram_color_palette | 0.823 | 0.004 | 0.827 | |
| dendrogram_plotter | 1.948 | 0.002 | 1.950 | |
| goodness_of_fit_DESeq2 | 5.023 | 0.080 | 5.103 | |
| heatmap_num_to_char_converter | 0.618 | 0.003 | 0.621 | |
| heatmap_plotter | 1.473 | 0.041 | 1.514 | |
| is_design_balanced | 0.786 | 0.006 | 0.792 | |
| kBET | 3.203 | 0.013 | 3.216 | |
| normalize_SE | 0.881 | 0.002 | 0.883 | |
| plot_kBET | 3.132 | 0.017 | 3.148 | |
| process_dendrogram | 0.736 | 0.011 | 0.746 | |
| pval_plotter | 20.491 | 0.162 | 20.653 | |
| pval_summary | 18.586 | 0.114 | 18.702 | |
| ratio_plotter | 1.154 | 0.010 | 1.165 | |
| run_kBET | 2.790 | 0.007 | 2.796 | |
| run_lambda | 0.458 | 0.004 | 0.462 | |
| std_pearson_corr_coef | 0.475 | 0.008 | 0.483 | |
| summarized_experiment | 0.016 | 0.001 | 0.017 | |
| tb_data_upload | 20.549 | 2.838 | 24.540 | |
| umap | 2.875 | 0.129 | 3.004 | |
| variation_ratios | 0.876 | 0.052 | 0.928 | |
| volcano_plot | 28.174 | 0.632 | 28.820 | |