Back to Multiple platform build/check report for BioC 3.22:   simplified   long
A[B]CDEFGHIJKLMNOPQRSTUVWXYZ

This page was generated on 2025-11-03 12:02 -0500 (Mon, 03 Nov 2025).

HostnameOSArch (*)R versionInstalled pkgs
nebbiolo2Linux (Ubuntu 24.04.3 LTS)x86_644.5.1 Patched (2025-08-23 r88802) -- "Great Square Root" 4902
lconwaymacOS 12.7.6 Montereyx86_644.5.1 Patched (2025-09-10 r88807) -- "Great Square Root" 4692
kjohnson3macOS 13.7.7 Venturaarm644.5.1 Patched (2025-09-10 r88807) -- "Great Square Root" 4638
Click on any hostname to see more info about the system (e.g. compilers)      (*) as reported by 'uname -p', except on Windows and Mac OS X

Package 126/2361HostnameOS / ArchINSTALLBUILDCHECKBUILD BIN
BadRegionFinder 1.38.0  (landing page)
Sarah Sandmann
Snapshot Date: 2025-11-02 13:45 -0500 (Sun, 02 Nov 2025)
git_url: https://git.bioconductor.org/packages/BadRegionFinder
git_branch: RELEASE_3_22
git_last_commit: 6395c38
git_last_commit_date: 2025-10-29 10:31:21 -0500 (Wed, 29 Oct 2025)
nebbiolo2Linux (Ubuntu 24.04.3 LTS) / x86_64  OK    OK    OK  UNNEEDED, same version is already published
lconwaymacOS 12.7.6 Monterey / x86_64  OK    OK    OK    OK  UNNEEDED, same version is already published
kjohnson3macOS 13.7.7 Ventura / arm64  OK    OK    OK    OK  UNNEEDED, same version is already published


BUILD results for BadRegionFinder on nebbiolo2

To the developers/maintainers of the BadRegionFinder package:
- Allow up to 24 hours (and sometimes 48 hours) for your latest push to git@git.bioconductor.org:packages/BadRegionFinder.git to reflect on this report. See Troubleshooting Build Report for more information.
- Use the following Renviron settings to reproduce errors and warnings.
- If 'R CMD check' started to fail recently on the Linux builder(s) over a missing dependency, add the missing dependency to 'Suggests:' in your DESCRIPTION file. See Renviron.bioc for more information.

raw results


Summary

Package: BadRegionFinder
Version: 1.38.0
Command: /home/biocbuild/bbs-3.22-bioc/R/bin/R CMD build --keep-empty-dirs --no-resave-data --md5 BadRegionFinder
StartedAt: 2025-11-02 16:33:05 -0500 (Sun, 02 Nov 2025)
EndedAt: 2025-11-02 16:34:23 -0500 (Sun, 02 Nov 2025)
EllapsedTime: 77.1 seconds
RetCode: 0
Status:   OK  
PackageFile: BadRegionFinder_1.38.0.tar.gz
PackageFileSize: 834.3 KiB

Command output

##############################################################################
##############################################################################
###
### Running command:
###
###   /home/biocbuild/bbs-3.22-bioc/R/bin/R CMD build --keep-empty-dirs --no-resave-data --md5 BadRegionFinder
###
##############################################################################
##############################################################################


* checking for file ‘BadRegionFinder/DESCRIPTION’ ... OK
* preparing ‘BadRegionFinder’:
* checking DESCRIPTION meta-information ... OK
* installing the package to process help pages
* saving partial Rd database
* creating vignettes ... OK
* checking for LF line-endings in source and make files and shell scripts
* checking for empty or unneeded directories
* adding MD5 file
* building ‘BadRegionFinder_1.38.0.tar.gz’