| Back to Multiple platform build/check report for BioC 3.21: simplified long |
|
This page was generated on 2025-08-18 11:41 -0400 (Mon, 18 Aug 2025).
| Hostname | OS | Arch (*) | R version | Installed pkgs |
|---|---|---|---|---|
| nebbiolo1 | Linux (Ubuntu 24.04.3 LTS) | x86_64 | 4.5.1 (2025-06-13) -- "Great Square Root" | 4824 |
| palomino7 | Windows Server 2022 Datacenter | x64 | 4.5.1 (2025-06-13 ucrt) -- "Great Square Root" | 4566 |
| merida1 | macOS 12.7.5 Monterey | x86_64 | 4.5.1 RC (2025-06-05 r88288) -- "Great Square Root" | 4604 |
| kjohnson1 | macOS 13.6.6 Ventura | arm64 | 4.5.1 Patched (2025-06-14 r88325) -- "Great Square Root" | 4545 |
| kunpeng2 | Linux (openEuler 24.03 LTS) | aarch64 | R Under development (unstable) (2025-02-19 r87757) -- "Unsuffered Consequences" | 4579 |
| Click on any hostname to see more info about the system (e.g. compilers) (*) as reported by 'uname -p', except on Windows and Mac OS X | ||||
| Package 262/2341 | Hostname | OS / Arch | INSTALL | BUILD | CHECK | BUILD BIN | ||||||||
| BUSseq 1.14.0 (landing page) Fangda Song
| nebbiolo1 | Linux (Ubuntu 24.04.3 LTS) / x86_64 | OK | OK | OK | |||||||||
| palomino7 | Windows Server 2022 Datacenter / x64 | OK | OK | OK | OK | |||||||||
| merida1 | macOS 12.7.5 Monterey / x86_64 | OK | OK | OK | OK | |||||||||
| kjohnson1 | macOS 13.6.6 Ventura / arm64 | OK | OK | OK | OK | |||||||||
| kunpeng2 | Linux (openEuler 24.03 LTS) / aarch64 | OK | OK | OK | ||||||||||
|
To the developers/maintainers of the BUSseq package: - Allow up to 24 hours (and sometimes 48 hours) for your latest push to git@git.bioconductor.org:packages/BUSseq.git to reflect on this report. See Troubleshooting Build Report for more information. - Use the following Renviron settings to reproduce errors and warnings. - If 'R CMD check' started to fail recently on the Linux builder(s) over a missing dependency, add the missing dependency to 'Suggests:' in your DESCRIPTION file. See Renviron.bioc for more information. |
| Package: BUSseq |
| Version: 1.14.0 |
| Command: rm -rf BUSseq.buildbin-libdir && mkdir BUSseq.buildbin-libdir && E:\biocbuild\bbs-3.21-bioc\R\bin\R.exe CMD INSTALL --build --library=BUSseq.buildbin-libdir BUSseq_1.14.0.tar.gz |
| StartedAt: 2025-08-15 08:54:34 -0400 (Fri, 15 Aug 2025) |
| EndedAt: 2025-08-15 08:55:08 -0400 (Fri, 15 Aug 2025) |
| EllapsedTime: 34.5 seconds |
| RetCode: 0 |
| Status: OK |
| PackageFile: BUSseq_1.14.0.zip |
| PackageFileSize: 1.282 MiB |
##############################################################################
##############################################################################
###
### Running command:
###
### rm -rf BUSseq.buildbin-libdir && mkdir BUSseq.buildbin-libdir && E:\biocbuild\bbs-3.21-bioc\R\bin\R.exe CMD INSTALL --build --library=BUSseq.buildbin-libdir BUSseq_1.14.0.tar.gz
###
##############################################################################
##############################################################################
* installing *source* package 'BUSseq' ...
** this is package 'BUSseq' version '1.14.0'
** using staged installation
** libs
using C++ compiler: 'G__~1.EXE (GCC) 14.2.0'
using C++11
E:/biocbuild/bbs-3.21-bioc/R/share/make/winshlib.mk:16: warning: overriding recipe for target 'BUSseq.dll'
Makevars.win:9: warning: ignoring old recipe for target 'BUSseq.dll'
g++ -std=gnu++11 -I"E:/biocbuild/bbs-3.21-bioc/R/include" -DNDEBUG -I"C:/rtools45/x86_64-w64-mingw32.static.posix/include" -fopenmp -O2 -Wall -mfpmath=sse -msse2 -mstackrealign -c BUSseq.cpp -o BUSseq.o
BUSseq.cpp: In function 'double postprob_DE_thr_fun(double*, double, int, int)':
BUSseq.cpp:964:69: warning: comparison of integer expressions of different signedness: 'int' and 'unsigned int' [-Wsign-compare]
964 | while((fdr <= _fdr_threshold) & (kappa <= postprob_DE_thr) & (i < (unsigned)vec_PPI.size())){
| ~~^~~~~~~~~~~~~~~~~~~~~~~~~~
BUSseq.cpp: In function 'void BUSseq_inference(int*, int*, int*, int*, char**, double*, double*, double*, double*, double*, double*, double*, double*, double*, double*, double*, double*, double*, double*, double*, double*, double*, double*, double*, int*, double*, int*, double*)':
BUSseq.cpp:2674:14: warning: variable 'All_Drop' set but not used [-Wunused-but-set-variable]
2674 | bool All_Drop = true;
| ^~~~~~~~
g++ -std=gnu++11 -I"E:/biocbuild/bbs-3.21-bioc/R/include" -DNDEBUG -I"C:/rtools45/x86_64-w64-mingw32.static.posix/include" -fopenmp -O2 -Wall -mfpmath=sse -msse2 -mstackrealign -c rngstream.cpp -o rngstream.o
g++ -shared -s -static-libgcc -o BUSseq.dll tmp.def BUSseq.o rngstream.o -fopenmp -LE:/biocbuild/bbs-3.21-bioc/R/bin/x64 -lRlapack -LE:/biocbuild/bbs-3.21-bioc/R/bin/x64 -lRblas -lgfortran -lquadmath -LC:/rtools45/x86_64-w64-mingw32.static.posix/lib/x64 -LC:/rtools45/x86_64-w64-mingw32.static.posix/lib -LE:/biocbuild/bbs-3.21-bioc/R/bin/x64 -lR
installing to E:/biocbuild/bbs-3.21-bioc/meat/BUSseq.buildbin-libdir/00LOCK-BUSseq/00new/BUSseq/libs/x64
** R
** data
*** moving datasets to lazyload DB
** inst
** byte-compile and prepare package for lazy loading
** help
*** installing help indices
** building package indices
** installing vignettes
** testing if installed package can be loaded from temporary location
** testing if installed package can be loaded from final location
** testing if installed package keeps a record of temporary installation path
* MD5 sums
packaged installation of 'BUSseq' as BUSseq_1.14.0.zip
* DONE (BUSseq)