Back to Multiple platform build/check report for BioC 3.22:   simplified   long
[A]BCDEFGHIJKLMNOPQRSTUVWXYZ

This page was generated on 2025-11-27 12:01 -0500 (Thu, 27 Nov 2025).

HostnameOSArch (*)R versionInstalled pkgs
nebbiolo2Linux (Ubuntu 24.04.3 LTS)x86_644.5.2 (2025-10-31) -- "[Not] Part in a Rumble" 4876
merida1macOS 12.7.6 Montereyx86_644.5.2 Patched (2025-11-05 r88990) -- "[Not] Part in a Rumble" 4656
kjohnson1macOS 13.7.5 Venturaarm644.5.2 Patched (2025-11-04 r88984) -- "[Not] Part in a Rumble" 4602
taishanLinux (openEuler 24.03 LTS)aarch644.5.0 (2025-04-11) -- "How About a Twenty-Six" 4668
Click on any hostname to see more info about the system (e.g. compilers)      (*) as reported by 'uname -p', except on Windows and Mac OS X

Package 58/2361HostnameOS / ArchINSTALLBUILDCHECKBUILD BIN
AlphaMissenseR 1.6.0  (landing page)
Martin Morgan
Snapshot Date: 2025-11-24 13:45 -0500 (Mon, 24 Nov 2025)
git_url: https://git.bioconductor.org/packages/AlphaMissenseR
git_branch: RELEASE_3_22
git_last_commit: 869abf7
git_last_commit_date: 2025-10-29 11:27:01 -0500 (Wed, 29 Oct 2025)
nebbiolo2Linux (Ubuntu 24.04.3 LTS) / x86_64  OK    OK    ERROR  
merida1macOS 12.7.6 Monterey / x86_64  OK    OK    ERROR    OK  
kjohnson1macOS 13.7.5 Ventura / arm64  OK    OK    OK    OK  UNNEEDED, same version is already published
taishanLinux (openEuler 24.03 LTS) / aarch64  OK    ERROR  skipped


CHECK results for AlphaMissenseR on nebbiolo2

To the developers/maintainers of the AlphaMissenseR package:
- Allow up to 24 hours (and sometimes 48 hours) for your latest push to git@git.bioconductor.org:packages/AlphaMissenseR.git to reflect on this report. See Troubleshooting Build Report for more information.
- Use the following Renviron settings to reproduce errors and warnings.
- If 'R CMD check' started to fail recently on the Linux builder(s) over a missing dependency, add the missing dependency to 'Suggests:' in your DESCRIPTION file. See Renviron.bioc for more information.

raw results


Summary

Package: AlphaMissenseR
Version: 1.6.0
Command: /home/biocbuild/bbs-3.22-bioc/R/bin/R CMD check --install=check:AlphaMissenseR.install-out.txt --library=/home/biocbuild/bbs-3.22-bioc/R/site-library --timings AlphaMissenseR_1.6.0.tar.gz
StartedAt: 2025-11-25 21:28:59 -0500 (Tue, 25 Nov 2025)
EndedAt: 2025-11-25 21:32:46 -0500 (Tue, 25 Nov 2025)
EllapsedTime: 227.2 seconds
RetCode: 1
Status:   ERROR  
CheckDir: AlphaMissenseR.Rcheck
Warnings: NA

Command output

##############################################################################
##############################################################################
###
### Running command:
###
###   /home/biocbuild/bbs-3.22-bioc/R/bin/R CMD check --install=check:AlphaMissenseR.install-out.txt --library=/home/biocbuild/bbs-3.22-bioc/R/site-library --timings AlphaMissenseR_1.6.0.tar.gz
###
##############################################################################
##############################################################################


* using log directory ‘/home/biocbuild/bbs-3.22-bioc/meat/AlphaMissenseR.Rcheck’
* using R version 4.5.2 (2025-10-31)
* using platform: x86_64-pc-linux-gnu
* R was compiled by
    gcc (Ubuntu 13.3.0-6ubuntu2~24.04) 13.3.0
    GNU Fortran (Ubuntu 13.3.0-6ubuntu2~24.04) 13.3.0
* running under: Ubuntu 24.04.3 LTS
* using session charset: UTF-8
* checking for file ‘AlphaMissenseR/DESCRIPTION’ ... OK
* this is package ‘AlphaMissenseR’ version ‘1.6.0’
* package encoding: UTF-8
* checking package namespace information ... OK
* checking package dependencies ... OK
* checking if this is a source package ... OK
* checking if there is a namespace ... OK
* checking for hidden files and directories ... OK
* checking for portable file names ... OK
* checking for sufficient/correct file permissions ... OK
* checking whether package ‘AlphaMissenseR’ can be installed ... OK
* checking installed package size ... OK
* checking package directory ... OK
* checking ‘build’ directory ... OK
* checking DESCRIPTION meta-information ... OK
* checking top-level files ... OK
* checking for left-over files ... OK
* checking index information ... OK
* checking package subdirectories ... OK
* checking code files for non-ASCII characters ... OK
* checking R files for syntax errors ... OK
* checking whether the package can be loaded ... OK
* checking whether the package can be loaded with stated dependencies ... OK
* checking whether the package can be unloaded cleanly ... OK
* checking whether the namespace can be loaded with stated dependencies ... OK
* checking whether the namespace can be unloaded cleanly ... OK
* checking loading without being on the library search path ... OK
* checking whether startup messages can be suppressed ... OK
* checking dependencies in R code ... OK
* checking S3 generic/method consistency ... OK
* checking replacement functions ... OK
* checking foreign function calls ... OK
* checking R code for possible problems ... OK
* checking Rd files ... OK
* checking Rd metadata ... OK
* checking Rd cross-references ... OK
* checking for missing documentation entries ... OK
* checking for code/documentation mismatches ... OK
* checking Rd \usage sections ... OK
* checking Rd contents ... OK
* checking for unstated dependencies in examples ... OK
* checking files in ‘vignettes’ ... OK
* checking examples ... OK
Examples with CPU (user + system) or elapsed time > 5s
           user system elapsed
db        9.796  0.890   4.533
AlphaFold 7.595  1.162   9.487
* checking for unstated dependencies in ‘tests’ ... OK
* checking tests ...
  Running ‘testthat.R’
 ERROR
Running the tests in ‘tests/testthat.R’ failed.
Last 13 lines of output:
  * [21:30:39][info] disconnecting all registered connections
  [ FAIL 1 | WARN 0 | SKIP 0 | PASS 127 ]
  
  ══ Failed tests ════════════════════════════════════════════════════════════════
  ── Failure ('test-AlphaFold.R:43:5'): af_predictions() works ───────────────────
  Expected `all(colnames %in% names(tbl))` to be TRUE.
  Differences:
  `actual`:   FALSE
  `expected`: TRUE 
  
  
  [ FAIL 1 | WARN 0 | SKIP 0 | PASS 127 ]
  Error:
  ! Test failures.
  Execution halted
* checking for unstated dependencies in vignettes ... OK
* checking package vignettes ... OK
* checking re-building of vignette outputs ... OK
* checking PDF version of manual ... OK
* DONE

Status: 1 ERROR
See
  ‘/home/biocbuild/bbs-3.22-bioc/meat/AlphaMissenseR.Rcheck/00check.log’
for details.


Installation output

AlphaMissenseR.Rcheck/00install.out

##############################################################################
##############################################################################
###
### Running command:
###
###   /home/biocbuild/bbs-3.22-bioc/R/bin/R CMD INSTALL AlphaMissenseR
###
##############################################################################
##############################################################################


* installing to library ‘/home/biocbuild/bbs-3.22-bioc/R/site-library’
* installing *source* package ‘AlphaMissenseR’ ...
** this is package ‘AlphaMissenseR’ version ‘1.6.0’
** using staged installation
** R
** inst
** byte-compile and prepare package for lazy loading
** help
*** installing help indices
** building package indices
** installing vignettes
** testing if installed package can be loaded from temporary location
** testing if installed package can be loaded from final location
** testing if installed package keeps a record of temporary installation path
* DONE (AlphaMissenseR)

Tests output

AlphaMissenseR.Rcheck/tests/testthat.Rout.fail


R version 4.5.2 (2025-10-31) -- "[Not] Part in a Rumble"
Copyright (C) 2025 The R Foundation for Statistical Computing
Platform: x86_64-pc-linux-gnu

R is free software and comes with ABSOLUTELY NO WARRANTY.
You are welcome to redistribute it under certain conditions.
Type 'license()' or 'licence()' for distribution details.

R is a collaborative project with many contributors.
Type 'contributors()' for more information and
'citation()' on how to cite R or R packages in publications.

Type 'demo()' for some demos, 'help()' for on-line help, or
'help.start()' for an HTML browser interface to help.
Type 'q()' to quit R.

> # This file is part of the standard setup for testthat.
> # It is recommended that you do not modify it.
> #
> # Where should you do additional test configuration?
> # Learn more about the roles of various files in:
> # * https://r-pkgs.org/testing-design.html#sec-tests-files-overview
> # * https://testthat.r-lib.org/articles/special-files.html
> 
> library(testthat)
> library(AlphaMissenseR)
Loading required package: dplyr

Attaching package: 'dplyr'

The following objects are masked from 'package:stats':

    filter, lag

The following objects are masked from 'package:base':

    intersect, setdiff, setequal, union

> 
> test_check("AlphaMissenseR")
Saving _problems/test-AlphaFold-43.R
* [21:30:39][info] disconnecting all registered connections
[ FAIL 1 | WARN 0 | SKIP 0 | PASS 127 ]

══ Failed tests ════════════════════════════════════════════════════════════════
── Failure ('test-AlphaFold.R:43:5'): af_predictions() works ───────────────────
Expected `all(colnames %in% names(tbl))` to be TRUE.
Differences:
`actual`:   FALSE
`expected`: TRUE 


[ FAIL 1 | WARN 0 | SKIP 0 | PASS 127 ]
Error:
! Test failures.
Execution halted

Example timings

AlphaMissenseR.Rcheck/AlphaMissenseR-Ex.timings

nameusersystemelapsed
AlphaFold7.5951.1629.487
AlphaMissense1.5750.0431.604
ClinVar4.6900.1694.764
GenomicRanges4.3310.2633.816
Gosling2.7860.3871.481
am_aa2.9550.0181.121
db9.7960.8904.533