| Back to Multiple platform build/check report for BioC 3.21: simplified long |
|
This page was generated on 2025-04-22 13:17 -0400 (Tue, 22 Apr 2025).
| Hostname | OS | Arch (*) | R version | Installed pkgs |
|---|---|---|---|---|
| nebbiolo1 | Linux (Ubuntu 24.04.1 LTS) | x86_64 | 4.5.0 RC (2025-04-04 r88126) -- "How About a Twenty-Six" | 4831 |
| palomino7 | Windows Server 2022 Datacenter | x64 | 4.5.0 RC (2025-04-04 r88126 ucrt) -- "How About a Twenty-Six" | 4573 |
| lconway | macOS 12.7.1 Monterey | x86_64 | 4.5.0 RC (2025-04-04 r88126) -- "How About a Twenty-Six" | 4599 |
| kjohnson3 | macOS 13.7.1 Ventura | arm64 | 4.5.0 RC (2025-04-04 r88126) -- "How About a Twenty-Six" | 4553 |
| kunpeng2 | Linux (openEuler 24.03 LTS) | aarch64 | R Under development (unstable) (2025-02-19 r87757) -- "Unsuffered Consequences" | 4570 |
| Click on any hostname to see more info about the system (e.g. compilers) (*) as reported by 'uname -p', except on Windows and Mac OS X | ||||
| Package 13/2341 | Hostname | OS / Arch | INSTALL | BUILD | CHECK | BUILD BIN | ||||||||
| ACME 2.64.0 (landing page) Sean Davis
| nebbiolo1 | Linux (Ubuntu 24.04.1 LTS) / x86_64 | OK | OK | WARNINGS | |||||||||
| palomino7 | Windows Server 2022 Datacenter / x64 | ERROR | ERROR | skipped | skipped | |||||||||
| lconway | macOS 12.7.1 Monterey / x86_64 | OK | OK | OK | OK | |||||||||
| kjohnson3 | macOS 13.7.1 Ventura / arm64 | OK | OK | OK | OK | |||||||||
| kunpeng2 | Linux (openEuler 24.03 LTS) / aarch64 | ERROR | ERROR | skipped | ||||||||||
|
To the developers/maintainers of the ACME package: - Allow up to 24 hours (and sometimes 48 hours) for your latest push to git@git.bioconductor.org:packages/ACME.git to reflect on this report. See Troubleshooting Build Report for more information. - Use the following Renviron settings to reproduce errors and warnings. - If 'R CMD check' started to fail recently on the Linux builder(s) over a missing dependency, add the missing dependency to 'Suggests:' in your DESCRIPTION file. See Renviron.bioc for more information. |
| Package: ACME |
| Version: 2.64.0 |
| Command: /Library/Frameworks/R.framework/Resources/bin/R CMD check --install=check:ACME.install-out.txt --library=/Library/Frameworks/R.framework/Resources/library --no-vignettes --timings ACME_2.64.0.tar.gz |
| StartedAt: 2025-04-21 18:03:29 -0400 (Mon, 21 Apr 2025) |
| EndedAt: 2025-04-21 18:03:55 -0400 (Mon, 21 Apr 2025) |
| EllapsedTime: 26.3 seconds |
| RetCode: 0 |
| Status: OK |
| CheckDir: ACME.Rcheck |
| Warnings: 0 |
##############################################################################
##############################################################################
###
### Running command:
###
### /Library/Frameworks/R.framework/Resources/bin/R CMD check --install=check:ACME.install-out.txt --library=/Library/Frameworks/R.framework/Resources/library --no-vignettes --timings ACME_2.64.0.tar.gz
###
##############################################################################
##############################################################################
* using log directory ‘/Users/biocbuild/bbs-3.21-bioc/meat/ACME.Rcheck’
* using R version 4.5.0 RC (2025-04-04 r88126)
* using platform: aarch64-apple-darwin20
* R was compiled by
Apple clang version 14.0.0 (clang-1400.0.29.202)
GNU Fortran (GCC) 14.2.0
* running under: macOS Ventura 13.7.1
* using session charset: UTF-8
* using option ‘--no-vignettes’
* checking for file ‘ACME/DESCRIPTION’ ... OK
* this is package ‘ACME’ version ‘2.64.0’
* checking package namespace information ... OK
* checking package dependencies ... OK
* checking if this is a source package ... OK
* checking if there is a namespace ... OK
* checking for hidden files and directories ... OK
* checking for portable file names ... OK
* checking for sufficient/correct file permissions ... OK
* checking whether package ‘ACME’ can be installed ... OK
* used C compiler: ‘Apple clang version 15.0.0 (clang-1500.1.0.2.5)’
* used SDK: ‘MacOSX11.3.sdk’
* checking installed package size ... INFO
installed size is 30.8Mb
sub-directories of 1Mb or more:
data 3.1Mb
extdata 27.3Mb
* checking package directory ... OK
* checking ‘build’ directory ... OK
* checking DESCRIPTION meta-information ... OK
* checking top-level files ... OK
* checking for left-over files ... OK
* checking index information ... OK
* checking package subdirectories ... OK
* checking code files for non-ASCII characters ... OK
* checking R files for syntax errors ... OK
* checking whether the package can be loaded ... OK
* checking whether the package can be loaded with stated dependencies ... OK
* checking whether the package can be unloaded cleanly ... OK
* checking whether the namespace can be loaded with stated dependencies ... OK
* checking whether the namespace can be unloaded cleanly ... OK
* checking dependencies in R code ... OK
* checking S3 generic/method consistency ... OK
* checking replacement functions ... OK
* checking foreign function calls ... OK
* checking R code for possible problems ... NOTE
.plotACMECalcSet: no visible global function definition for ‘par’
.plotACMECalcSet: no visible global function definition for ‘axis’
.plotACMECalcSet: no visible global function definition for ‘abline’
.plotACMESet: no visible global function definition for ‘par’
do.aGFF.calc: no visible global function definition for ‘quantile’
findClosestGene: no visible binding for global variable ‘refflat’
findClosestGene: no visible binding for '<<-' assignment to ‘refflat’
findRegions : <anonymous>: no visible global function definition for
‘median’
getRefflat: no visible global function definition for ‘download.file’
getRefflat: no visible global function definition for ‘read.delim’
plotgff: no visible global function definition for ‘par’
plotgffcalc: no visible global function definition for ‘par’
plotgffcalc: no visible global function definition for ‘axis’
plotgffcalc: no visible global function definition for ‘abline’
read.resultsGFF: no visible global function definition for ‘read.delim’
windowChisq: no visible global function definition for ‘pchisq’
write.bedGraph: no visible global function definition for ‘write.table’
write.sgr: no visible global function definition for ‘write.table’
plot,ACMECalcSet: no visible global function definition for ‘par’
plot,ACMECalcSet: no visible global function definition for ‘axis’
plot,ACMECalcSet: no visible global function definition for ‘abline’
plot,ACMESet: no visible global function definition for ‘par’
plot,aGFF: no visible global function definition for ‘par’
plot,aGFFCalc: no visible global function definition for ‘par’
plot,aGFFCalc: no visible global function definition for ‘axis’
plot,aGFFCalc: no visible global function definition for ‘abline’
Undefined global functions or variables:
abline axis download.file median par pchisq quantile read.delim
refflat write.table
Consider adding
importFrom("graphics", "abline", "axis", "par")
importFrom("stats", "median", "pchisq", "quantile")
importFrom("utils", "download.file", "read.delim", "write.table")
to your NAMESPACE file.
* checking Rd files ... OK
* checking Rd metadata ... OK
* checking Rd cross-references ... NOTE
Found the following Rd file(s) with Rd \link{} targets missing package
anchors:
ACMECalcSet-class.Rd: ExpressionSet-class, eSet-class,
VersionedBiobase-class, Versioned-class
ACMESet-class.Rd: ExpressionSet-class, eSet-class,
VersionedBiobase-class, Versioned-class
Please provide package anchors for all Rd \link{} targets not in the
package itself and the base packages.
* checking for missing documentation entries ... OK
* checking for code/documentation mismatches ... OK
* checking Rd \usage sections ... OK
* checking Rd contents ... OK
* checking for unstated dependencies in examples ... OK
* checking contents of ‘data’ directory ... OK
* checking data for non-ASCII characters ... OK
* checking data for ASCII and uncompressed saves ... OK
* checking line endings in C/C++/Fortran sources/headers ... OK
* checking compiled code ... NOTE
Note: information on .o files is not available
* checking sizes of PDF files under ‘inst/doc’ ... OK
* checking files in ‘vignettes’ ... OK
* checking examples ... OK
* checking for unstated dependencies in vignettes ... OK
* checking package vignettes ... OK
* checking running R code from vignettes ... SKIPPED
* checking re-building of vignette outputs ... SKIPPED
* checking PDF version of manual ... OK
* DONE
Status: 3 NOTEs
See
‘/Users/biocbuild/bbs-3.21-bioc/meat/ACME.Rcheck/00check.log’
for details.
ACME.Rcheck/00install.out
##############################################################################
##############################################################################
###
### Running command:
###
### /Library/Frameworks/R.framework/Resources/bin/R CMD INSTALL ACME
###
##############################################################################
##############################################################################
* installing to library ‘/Library/Frameworks/R.framework/Versions/4.5-arm64/Resources/library’
* installing *source* package ‘ACME’ ...
** this is package ‘ACME’ version ‘2.64.0’
** using staged installation
** libs
using C compiler: ‘Apple clang version 15.0.0 (clang-1500.1.0.2.5)’
using SDK: ‘MacOSX11.3.sdk’
clang -arch arm64 -I"/Library/Frameworks/R.framework/Resources/include" -DNDEBUG -I/opt/R/arm64/include -fPIC -falign-functions=64 -Wall -g -O2 -c windowChisq.c -o windowChisq.o
windowChisq.c:57:71: warning: & has lower precedence than >; > will be evaluated first [-Wparentheses]
while((xlocations[i]-xlocations[firstprobe-1] < (halfWindowSize)) &
^
windowChisq.c:57:71: note: place parentheses around the '>' expression to silence this warning
while((xlocations[i]-xlocations[firstprobe-1] < (halfWindowSize)) &
^
windowChisq.c:57:71: note: place parentheses around the & expression to evaluate it first
while((xlocations[i]-xlocations[firstprobe-1] < (halfWindowSize)) &
^
(
windowChisq.c:62:70: warning: & has lower precedence than <; < will be evaluated first [-Wparentheses]
while((xlocations[lastprobe+1]-xlocations[i] < (halfWindowSize)) &
^
windowChisq.c:62:70: note: place parentheses around the '<' expression to silence this warning
while((xlocations[lastprobe+1]-xlocations[i] < (halfWindowSize)) &
^
windowChisq.c:62:70: note: place parentheses around the & expression to evaluate it first
while((xlocations[lastprobe+1]-xlocations[i] < (halfWindowSize)) &
^
(
windowChisq.c:21:11: warning: unused variable 'xa' [-Wunused-variable]
double *xa,*xlocations,*xchivals;
^
windowChisq.c:86:20: warning: incompatible function pointer types initializing 'DL_FUNC' (aka 'void *(*)(void)') with an expression of type 'SEXP (*)(SEXP, SEXP, SEXP, SEXP, SEXP)' (aka 'struct SEXPREC *(*)(struct SEXPREC *, struct SEXPREC *, struct SEXPREC *, struct SEXPREC *, struct SEXPREC *)') [-Wincompatible-function-pointer-types]
{"windowChisq",&windowChisq,5},
^~~~~~~~~~~~
4 warnings generated.
clang -arch arm64 -dynamiclib -Wl,-headerpad_max_install_names -undefined dynamic_lookup -L/Library/Frameworks/R.framework/Resources/lib -L/opt/R/arm64/lib -o ACME.so windowChisq.o -F/Library/Frameworks/R.framework/.. -framework R
installing to /Library/Frameworks/R.framework/Versions/4.5-arm64/Resources/library/00LOCK-ACME/00new/ACME/libs
** R
** data
** inst
** byte-compile and prepare package for lazy loading
** help
*** installing help indices
** building package indices
** installing vignettes
** testing if installed package can be loaded from temporary location
** checking absolute paths in shared objects and dynamic libraries
** testing if installed package can be loaded from final location
** testing if installed package keeps a record of temporary installation path
* DONE (ACME)
ACME.Rcheck/ACME-Ex.timings
| name | user | system | elapsed | |
| ACMECalcSet-class | 0.514 | 0.020 | 0.534 | |
| ACMESet-class | 0.206 | 0.004 | 0.210 | |
| aGFF-class | 0.226 | 0.006 | 0.233 | |
| aGFFCalc-class | 0.472 | 0.022 | 0.493 | |
| do.aGFF.calc | 0.495 | 0.023 | 0.519 | |
| example.agff | 0.208 | 0.004 | 0.215 | |
| findClosestGene | 0.663 | 0.042 | 1.601 | |
| findRegions | 0.929 | 0.041 | 0.972 | |
| generics | 0.198 | 0.003 | 0.201 | |
| getRefflat | 0.595 | 0.039 | 1.608 | |
| read.resultsGFF | 1.393 | 0.042 | 1.441 | |
| write.bedGraph | 0.683 | 0.044 | 0.731 | |
| write.sgr | 0.528 | 0.029 | 0.560 | |