Back to Workflows build report for BioC 3.21

This page was generated on 2025-02-04 16:30 -0500 (Tue, 04 Feb 2025).

HostnameOSArch (*)R versionInstalled pkgs
nebbiolo1Linux (Ubuntu 24.04.1 LTS)x86_64R Under development (unstable) (2025-01-20 r87609) -- "Unsuffered Consequences" 4716
palomino7Windows Server 2022 Datacenterx64R Under development (unstable) (2025-01-21 r87610 ucrt) -- "Unsuffered Consequences" 4478
lconwaymacOS 12.7.1 Montereyx86_64R Under development (unstable) (2025-01-22 r87618) -- "Unsuffered Consequences" 4489
Click on any hostname to see more info about the system (e.g. compilers)      (*) as reported by 'uname -p', except on Windows and Mac OS X

Package 29/30HostnameOS / ArchINSTALLBUILD
TCGAWorkflow 1.31.0  (landing page)
Tiago Chedraoui Silva
Snapshot Date: 2025-02-04 12:45 -0500 (Tue, 04 Feb 2025)
git_url: https://git.bioconductor.org/packages/TCGAWorkflow
git_branch: devel
git_last_commit: c327921
git_last_commit_date: 2024-10-29 10:02:54 -0500 (Tue, 29 Oct 2024)
nebbiolo1Linux (Ubuntu 24.04.1 LTS) / x86_64  OK    OK  YES
palomino7Windows Server 2022 Datacenter / x64  OK    OK  
lconwaymacOS 12.7.1 Monterey / x86_64  OK    ERROR  


INSTALL results for TCGAWorkflow on palomino7

To the developers/maintainers of the TCGAWorkflow package:
- Use the following Renviron settings to reproduce errors and warnings.
- If 'R CMD check' started to fail recently on the Linux builder(s) over a missing dependency, add the missing dependency to 'Suggests:' in your DESCRIPTION file. See Renviron.bioc for more information.

raw results


Summary

Package: TCGAWorkflow
Version: 1.31.0
Command: E:\biocbuild\bbs-3.21-bioc\R\bin\R.exe CMD INSTALL TCGAWorkflow
StartedAt: 2025-02-04 13:02:05 -0500 (Tue, 04 Feb 2025)
EndedAt: 2025-02-04 13:03:14 -0500 (Tue, 04 Feb 2025)
EllapsedTime: 68.5 seconds
RetCode: 0
Status:   OK  

Command output

##############################################################################
##############################################################################
###
### Running command:
###
###   E:\biocbuild\bbs-3.21-bioc\R\bin\R.exe CMD INSTALL TCGAWorkflow
###
##############################################################################
##############################################################################


* installing to library 'E:/biocbuild/bbs-3.21-bioc/R/library'
* installing *source* package 'TCGAWorkflow' ...
** this is package 'TCGAWorkflow' version '1.31.0'
** using staged installation
** R
** byte-compile and prepare package for lazy loading
Warning: replacing previous import 'biomaRt::select' by 'dplyr::select' when loading 'TCGAWorkflow'
Warning: replacing previous import 'GenomicRanges::intersect' by 'dplyr::intersect' when loading 'TCGAWorkflow'
Warning: replacing previous import 'GenomicRanges::union' by 'dplyr::union' when loading 'TCGAWorkflow'
Warning: replacing previous import 'GenomicRanges::setdiff' by 'dplyr::setdiff' when loading 'TCGAWorkflow'
Warning: replacing previous import 'SummarizedExperiment::as.data.frame' by 'motifStack::as.data.frame' when loading 'TCGAWorkflow'
** help
*** installing help indices
** building package indices
** installing vignettes
** testing if installed package can be loaded from temporary location
Warning: replacing previous import 'biomaRt::select' by 'dplyr::select' when loading 'TCGAWorkflow'
Warning: replacing previous import 'GenomicRanges::intersect' by 'dplyr::intersect' when loading 'TCGAWorkflow'
Warning: replacing previous import 'GenomicRanges::union' by 'dplyr::union' when loading 'TCGAWorkflow'
Warning: replacing previous import 'GenomicRanges::setdiff' by 'dplyr::setdiff' when loading 'TCGAWorkflow'
Warning: replacing previous import 'SummarizedExperiment::as.data.frame' by 'motifStack::as.data.frame' when loading 'TCGAWorkflow'
** testing if installed package can be loaded from final location
Warning: replacing previous import 'biomaRt::select' by 'dplyr::select' when loading 'TCGAWorkflow'
Warning: replacing previous import 'GenomicRanges::intersect' by 'dplyr::intersect' when loading 'TCGAWorkflow'
Warning: replacing previous import 'GenomicRanges::union' by 'dplyr::union' when loading 'TCGAWorkflow'
Warning: replacing previous import 'GenomicRanges::setdiff' by 'dplyr::setdiff' when loading 'TCGAWorkflow'
Warning: replacing previous import 'SummarizedExperiment::as.data.frame' by 'motifStack::as.data.frame' when loading 'TCGAWorkflow'
** testing if installed package keeps a record of temporary installation path
* DONE (TCGAWorkflow)