Back to Workflows build report for BioC 3.21

This page was generated on 2025-02-04 16:30 -0500 (Tue, 04 Feb 2025).

HostnameOSArch (*)R versionInstalled pkgs
nebbiolo1Linux (Ubuntu 24.04.1 LTS)x86_64R Under development (unstable) (2025-01-20 r87609) -- "Unsuffered Consequences" 4716
palomino7Windows Server 2022 Datacenterx64R Under development (unstable) (2025-01-21 r87610 ucrt) -- "Unsuffered Consequences" 4478
lconwaymacOS 12.7.1 Montereyx86_64R Under development (unstable) (2025-01-22 r87618) -- "Unsuffered Consequences" 4489
Click on any hostname to see more info about the system (e.g. compilers)      (*) as reported by 'uname -p', except on Windows and Mac OS X

Package 10/30HostnameOS / ArchINSTALLBUILD
ExpHunterSuite 1.15.0  (landing page)
James Perkins
Snapshot Date: 2025-02-04 12:45 -0500 (Tue, 04 Feb 2025)
git_url: https://git.bioconductor.org/packages/ExpHunterSuite
git_branch: devel
git_last_commit: c3715c0
git_last_commit_date: 2024-10-29 10:03:26 -0500 (Tue, 29 Oct 2024)
nebbiolo1Linux (Ubuntu 24.04.1 LTS) / x86_64  OK    OK  YES
palomino7Windows Server 2022 Datacenter / x64  OK    OK  
lconwaymacOS 12.7.1 Monterey / x86_64  OK    OK  


BUILD results for ExpHunterSuite on nebbiolo1

To the developers/maintainers of the ExpHunterSuite package:
- Use the following Renviron settings to reproduce errors and warnings.
- If 'R CMD check' started to fail recently on the Linux builder(s) over a missing dependency, add the missing dependency to 'Suggests:' in your DESCRIPTION file. See Renviron.bioc for more information.

raw results


Summary

Package: ExpHunterSuite
Version: 1.15.0
Command: /home/biocbuild/bbs-3.21-bioc/R/bin/R CMD build --keep-empty-dirs --no-resave-data ExpHunterSuite
StartedAt: 2025-02-04 13:04:21 -0500 (Tue, 04 Feb 2025)
EndedAt: 2025-02-04 13:08:00 -0500 (Tue, 04 Feb 2025)
EllapsedTime: 219.1 seconds
RetCode: 0
Status:   OK  
PackageFile: ExpHunterSuite_1.15.0.tar.gz
PackageFileSize: 4.111 MiB

Command output

##############################################################################
##############################################################################
###
### Running command:
###
###   /home/biocbuild/bbs-3.21-bioc/R/bin/R CMD build --keep-empty-dirs --no-resave-data ExpHunterSuite
###
##############################################################################
##############################################################################


* checking for file ‘ExpHunterSuite/DESCRIPTION’ ... OK
* preparing ‘ExpHunterSuite’:
* checking DESCRIPTION meta-information ... OK
* installing the package to build vignettes
* creating vignettes ... OK
* checking for LF line-endings in source and make files and shell scripts
* checking for empty or unneeded directories
* building ‘ExpHunterSuite_1.15.0.tar.gz’