| Back to Build/check report for BioC 3.22 experimental data |
|
This page was generated on 2025-04-08 15:35 -0400 (Tue, 08 Apr 2025).
| Hostname | OS | Arch (*) | R version | Installed pkgs |
|---|---|---|---|---|
| nebbiolo2 | Linux (Ubuntu 24.04.1 LTS) | x86_64 | 4.5.0 beta (2025-04-02 r88102) -- "How About a Twenty-Six" | 4723 |
| Click on any hostname to see more info about the system (e.g. compilers) (*) as reported by 'uname -p', except on Windows and Mac OS X | ||||
| Package 387/432 | Hostname | OS / Arch | INSTALL | BUILD | CHECK | ||||||||
Laurent Gatto
| nebbiolo2 | Linux (Ubuntu 24.04.1 LTS) / x86_64 | OK | OK | OK | ||||||||
|
To the developers/maintainers of the synapterdata package: - Use the following Renviron settings to reproduce errors and warnings. - If 'R CMD check' started to fail recently on the Linux builder(s) over a missing dependency, add the missing dependency to 'Suggests:' in your DESCRIPTION file. See Renviron.bioc for more information. |
| Package: synapterdata |
| Version: 1.45.1 |
| Command: /home/biocbuild/bbs-3.22-bioc/R/bin/R CMD check --install=check:synapterdata.install-out.txt --library=/home/biocbuild/bbs-3.22-bioc/R/site-library --timings synapterdata_1.45.1.tar.gz |
| StartedAt: 2025-04-08 12:44:55 -0400 (Tue, 08 Apr 2025) |
| EndedAt: 2025-04-08 12:51:16 -0400 (Tue, 08 Apr 2025) |
| EllapsedTime: 381.9 seconds |
| RetCode: 0 |
| Status: OK |
| CheckDir: synapterdata.Rcheck |
| Warnings: 0 |
##############################################################################
##############################################################################
###
### Running command:
###
### /home/biocbuild/bbs-3.22-bioc/R/bin/R CMD check --install=check:synapterdata.install-out.txt --library=/home/biocbuild/bbs-3.22-bioc/R/site-library --timings synapterdata_1.45.1.tar.gz
###
##############################################################################
##############################################################################
* using log directory ‘/home/biocbuild/bbs-3.22-data-experiment/meat/synapterdata.Rcheck’
* using R version 4.5.0 beta (2025-04-02 r88102)
* using platform: x86_64-pc-linux-gnu
* R was compiled by
gcc (Ubuntu 13.3.0-6ubuntu2~24.04) 13.3.0
GNU Fortran (Ubuntu 13.3.0-6ubuntu2~24.04) 13.3.0
* running under: Ubuntu 24.04.2 LTS
* using session charset: UTF-8
* checking for file ‘synapterdata/DESCRIPTION’ ... OK
* checking extension type ... Package
* this is package ‘synapterdata’ version ‘1.45.1’
* checking package namespace information ... OK
* checking package dependencies ... OK
* checking if this is a source package ... OK
* checking if there is a namespace ... OK
* checking for hidden files and directories ... OK
* checking for portable file names ... OK
* checking for sufficient/correct file permissions ... OK
* checking whether package ‘synapterdata’ can be installed ... OK
* checking installed package size ... INFO
installed size is 422.5Mb
sub-directories of 1Mb or more:
data 28.0Mb
extdata 394.4Mb
* checking package directory ... OK
* checking DESCRIPTION meta-information ... OK
* checking top-level files ... OK
* checking for left-over files ... OK
* checking index information ... OK
* checking package subdirectories ... OK
* checking code files for non-ASCII characters ... OK
* checking R files for syntax errors ... OK
* checking whether the package can be loaded ... OK
* checking whether the package can be loaded with stated dependencies ... OK
* checking whether the package can be unloaded cleanly ... OK
* checking whether the namespace can be loaded with stated dependencies ... OK
* checking whether the namespace can be unloaded cleanly ... OK
* checking loading without being on the library search path ... OK
* checking whether startup messages can be suppressed ... OK
* checking dependencies in R code ... OK
* checking S3 generic/method consistency ... OK
* checking replacement functions ... OK
* checking foreign function calls ... OK
* checking R code for possible problems ... OK
* checking Rd files ... OK
* checking Rd metadata ... OK
* checking Rd cross-references ... OK
* checking for missing documentation entries ... OK
* checking for code/documentation mismatches ... OK
* checking Rd \usage sections ... OK
* checking Rd contents ... NOTE
Auto-generated content requiring editing in Rd file 'getMasterRds.Rd':
\details: ‘TODO If necessary, more details than the description above’
* checking for unstated dependencies in examples ... OK
* checking contents of ‘data’ directory ... OK
* checking data for non-ASCII characters ... OK
* checking data for ASCII and uncompressed saves ... OK
* checking examples ... OK
* checking PDF version of manual ... OK
* DONE
Status: 1 NOTE
See
‘/home/biocbuild/bbs-3.22-data-experiment/meat/synapterdata.Rcheck/00check.log’
for details.
synapterdata.Rcheck/00install.out
############################################################################## ############################################################################## ### ### Running command: ### ### /home/biocbuild/bbs-3.22-bioc/R/bin/R CMD INSTALL synapterdata ### ############################################################################## ############################################################################## * installing to library ‘/home/biocbuild/bbs-3.22-bioc/R/site-library’ * installing *source* package ‘synapterdata’ ... ** this is package ‘synapterdata’ version ‘1.45.1’ ** using staged installation ** R ** data ** inst ** byte-compile and prepare package for lazy loading Warning message: In fun(libname, pkgname) : Package 'synapter' is deprecated and will be removed from Bioconductor version 3.22 ** help *** installing help indices ** building package indices ** testing if installed package can be loaded from temporary location Warning in fun(libname, pkgname) : Package 'synapter' is deprecated and will be removed from Bioconductor version 3.22 Warning in fun(libname, pkgname) : Package 'synapterdata' is deprecated and will be removed from Bioconductor version 3.22 ** testing if installed package can be loaded from final location Warning in fun(libname, pkgname) : Package 'synapter' is deprecated and will be removed from Bioconductor version 3.22 Warning in fun(libname, pkgname) : Package 'synapterdata' is deprecated and will be removed from Bioconductor version 3.22 ** testing if installed package keeps a record of temporary installation path * DONE (synapterdata)
synapterdata.Rcheck/synapterdata-Ex.timings
| name | user | system | elapsed | |
| getHDMSeFinalPeptide | 0.001 | 0.000 | 0.001 | |
| getMasterRds | 0.115 | 0.001 | 0.116 | |
| synobj2 | 1.819 | 0.080 | 1.899 | |
| ups25a | 0.864 | 0.041 | 0.905 | |