| Back to Build/check report for BioC 3.22 experimental data |
|
This page was generated on 2025-10-21 15:41 -0400 (Tue, 21 Oct 2025).
| Hostname | OS | Arch (*) | R version | Installed pkgs |
|---|---|---|---|---|
| nebbiolo2 | Linux (Ubuntu 24.04.3 LTS) | x86_64 | 4.5.1 Patched (2025-08-23 r88802) -- "Great Square Root" | 4888 |
| Click on any hostname to see more info about the system (e.g. compilers) (*) as reported by 'uname -p', except on Windows and Mac OS X | ||||
| Package 386/435 | Hostname | OS / Arch | INSTALL | BUILD | CHECK | ||||||||
| spqnData 1.21.0 (landing page) Yi Wang
| nebbiolo2 | Linux (Ubuntu 24.04.3 LTS) / x86_64 | OK | OK | OK | ||||||||
|
To the developers/maintainers of the spqnData package: - Use the following Renviron settings to reproduce errors and warnings. - If 'R CMD check' started to fail recently on the Linux builder(s) over a missing dependency, add the missing dependency to 'Suggests:' in your DESCRIPTION file. See Renviron.bioc for more information. |
| Package: spqnData |
| Version: 1.21.0 |
| Command: /home/biocbuild/bbs-3.22-bioc/R/bin/R CMD build --keep-empty-dirs --no-resave-data spqnData |
| StartedAt: 2025-10-21 11:44:12 -0400 (Tue, 21 Oct 2025) |
| EndedAt: 2025-10-21 11:44:15 -0400 (Tue, 21 Oct 2025) |
| EllapsedTime: 2.9 seconds |
| RetCode: 0 |
| Status: OK |
| PackageFile: spqnData_1.21.0.tar.gz |
| PackageFileSize: 10.17 MiB |
############################################################################## ############################################################################## ### ### Running command: ### ### /home/biocbuild/bbs-3.22-bioc/R/bin/R CMD build --keep-empty-dirs --no-resave-data spqnData ### ############################################################################## ############################################################################## * checking for file ‘spqnData/DESCRIPTION’ ... OK * preparing ‘spqnData’: * checking DESCRIPTION meta-information ... OK * checking for LF line-endings in source and make files and shell scripts * checking for empty or unneeded directories * looking to see if a ‘data/datalist’ file should be added * building ‘spqnData_1.21.0.tar.gz’