| Back to Build/check report for BioC 3.22 experimental data |
|
This page was generated on 2025-10-21 15:41 -0400 (Tue, 21 Oct 2025).
| Hostname | OS | Arch (*) | R version | Installed pkgs |
|---|---|---|---|---|
| nebbiolo2 | Linux (Ubuntu 24.04.3 LTS) | x86_64 | 4.5.1 Patched (2025-08-23 r88802) -- "Great Square Root" | 4888 |
| Click on any hostname to see more info about the system (e.g. compilers) (*) as reported by 'uname -p', except on Windows and Mac OS X | ||||
| Package 360/435 | Hostname | OS / Arch | INSTALL | BUILD | CHECK | ||||||||
| scRNAseq 2.23.1 (landing page) Aaron Lun
| nebbiolo2 | Linux (Ubuntu 24.04.3 LTS) / x86_64 | OK | OK | OK | ||||||||
|
To the developers/maintainers of the scRNAseq package: - Use the following Renviron settings to reproduce errors and warnings. - If 'R CMD check' started to fail recently on the Linux builder(s) over a missing dependency, add the missing dependency to 'Suggests:' in your DESCRIPTION file. See Renviron.bioc for more information. |
| Package: scRNAseq |
| Version: 2.23.1 |
| Command: /home/biocbuild/bbs-3.22-bioc/R/bin/R CMD check --install=check:scRNAseq.install-out.txt --library=/home/biocbuild/bbs-3.22-bioc/R/site-library --timings scRNAseq_2.23.1.tar.gz |
| StartedAt: 2025-10-21 13:03:30 -0400 (Tue, 21 Oct 2025) |
| EndedAt: 2025-10-21 13:19:37 -0400 (Tue, 21 Oct 2025) |
| EllapsedTime: 966.3 seconds |
| RetCode: 0 |
| Status: OK |
| CheckDir: scRNAseq.Rcheck |
| Warnings: 0 |
##############################################################################
##############################################################################
###
### Running command:
###
### /home/biocbuild/bbs-3.22-bioc/R/bin/R CMD check --install=check:scRNAseq.install-out.txt --library=/home/biocbuild/bbs-3.22-bioc/R/site-library --timings scRNAseq_2.23.1.tar.gz
###
##############################################################################
##############################################################################
* using log directory ‘/home/biocbuild/bbs-3.22-data-experiment/meat/scRNAseq.Rcheck’
* using R version 4.5.1 Patched (2025-08-23 r88802)
* using platform: x86_64-pc-linux-gnu
* R was compiled by
gcc (Ubuntu 13.3.0-6ubuntu2~24.04) 13.3.0
GNU Fortran (Ubuntu 13.3.0-6ubuntu2~24.04) 13.3.0
* running under: Ubuntu 24.04.3 LTS
* using session charset: UTF-8
* checking for file ‘scRNAseq/DESCRIPTION’ ... OK
* this is package ‘scRNAseq’ version ‘2.23.1’
* package encoding: UTF-8
* checking package namespace information ... OK
* checking package dependencies ... OK
* checking if this is a source package ... OK
* checking if there is a namespace ... OK
* checking for hidden files and directories ... NOTE
Found the following hidden files and directories:
.BBSoptions
These were most likely included in error. See section ‘Package
structure’ in the ‘Writing R Extensions’ manual.
* checking for portable file names ... OK
* checking for sufficient/correct file permissions ... OK
* checking whether package ‘scRNAseq’ can be installed ... OK
* checking installed package size ... OK
* checking package directory ... OK
* checking ‘build’ directory ... OK
* checking DESCRIPTION meta-information ... OK
* checking top-level files ... OK
* checking for left-over files ... OK
* checking index information ... OK
* checking package subdirectories ... OK
* checking code files for non-ASCII characters ... OK
* checking R files for syntax errors ... OK
* checking whether the package can be loaded ... OK
* checking whether the package can be loaded with stated dependencies ... OK
* checking whether the package can be unloaded cleanly ... OK
* checking whether the namespace can be loaded with stated dependencies ... OK
* checking whether the namespace can be unloaded cleanly ... OK
* checking loading without being on the library search path ... OK
* checking dependencies in R code ... OK
* checking S3 generic/method consistency ... OK
* checking replacement functions ... OK
* checking foreign function calls ... OK
* checking R code for possible problems ... OK
* checking Rd files ... OK
* checking Rd metadata ... OK
* checking Rd cross-references ... OK
* checking for missing documentation entries ... OK
* checking for code/documentation mismatches ... OK
* checking Rd \usage sections ... OK
* checking Rd contents ... OK
* checking for unstated dependencies in examples ... OK
* checking files in ‘vignettes’ ... OK
* checking examples ... OK
Examples with CPU (user + system) or elapsed time > 5s
user system elapsed
BhaduriOrganoidData 25.455 9.285 35.768
BacherTCellData 18.929 5.129 24.212
ZeiselNervousData 15.103 5.475 21.149
HeOrganAtlasData 12.749 7.031 19.934
JessaBrainData 12.291 4.891 18.510
ErnstSpermatogenesisData 11.076 4.298 15.795
StoeckiusHashingData 10.092 1.576 12.552
ZhaoImmuneLiverData 6.929 2.923 9.959
AztekinTailData 8.007 0.775 8.814
BachMammaryData 7.682 0.895 9.680
GiladiHSCData 5.408 2.736 8.338
LunSpikeInData 6.624 0.732 7.950
NestorowaHSCData 4.813 0.642 5.757
ZilionisLungData 4.153 0.922 5.281
* checking for unstated dependencies in ‘tests’ ... OK
* checking tests ...
Running ‘testthat.R’
OK
* checking for unstated dependencies in vignettes ... OK
* checking package vignettes ... OK
* checking re-building of vignette outputs ... OK
* checking PDF version of manual ... OK
* DONE
Status: 1 NOTE
See
‘/home/biocbuild/bbs-3.22-data-experiment/meat/scRNAseq.Rcheck/00check.log’
for details.
scRNAseq.Rcheck/00install.out
############################################################################## ############################################################################## ### ### Running command: ### ### /home/biocbuild/bbs-3.22-bioc/R/bin/R CMD INSTALL scRNAseq ### ############################################################################## ############################################################################## * installing to library ‘/home/biocbuild/bbs-3.22-bioc/R/site-library’ * installing *source* package ‘scRNAseq’ ... ** this is package ‘scRNAseq’ version ‘2.23.1’ ** using staged installation ** R ** inst ** byte-compile and prepare package for lazy loading ** help *** installing help indices ** building package indices ** installing vignettes ** testing if installed package can be loaded from temporary location ** testing if installed package can be loaded from final location ** testing if installed package keeps a record of temporary installation path * DONE (scRNAseq)
scRNAseq.Rcheck/tests/testthat.Rout
R version 4.5.1 Patched (2025-08-23 r88802) -- "Great Square Root"
Copyright (C) 2025 The R Foundation for Statistical Computing
Platform: x86_64-pc-linux-gnu
R is free software and comes with ABSOLUTELY NO WARRANTY.
You are welcome to redistribute it under certain conditions.
Type 'license()' or 'licence()' for distribution details.
R is a collaborative project with many contributors.
Type 'contributors()' for more information and
'citation()' on how to cite R or R packages in publications.
Type 'demo()' for some demos, 'help()' for on-line help, or
'help.start()' for an HTML browser interface to help.
Type 'q()' to quit R.
> library(testthat)
> library(scRNAseq)
Loading required package: SingleCellExperiment
Loading required package: SummarizedExperiment
Loading required package: MatrixGenerics
Loading required package: matrixStats
Attaching package: 'MatrixGenerics'
The following objects are masked from 'package:matrixStats':
colAlls, colAnyNAs, colAnys, colAvgsPerRowSet, colCollapse,
colCounts, colCummaxs, colCummins, colCumprods, colCumsums,
colDiffs, colIQRDiffs, colIQRs, colLogSumExps, colMadDiffs,
colMads, colMaxs, colMeans2, colMedians, colMins, colOrderStats,
colProds, colQuantiles, colRanges, colRanks, colSdDiffs, colSds,
colSums2, colTabulates, colVarDiffs, colVars, colWeightedMads,
colWeightedMeans, colWeightedMedians, colWeightedSds,
colWeightedVars, rowAlls, rowAnyNAs, rowAnys, rowAvgsPerColSet,
rowCollapse, rowCounts, rowCummaxs, rowCummins, rowCumprods,
rowCumsums, rowDiffs, rowIQRDiffs, rowIQRs, rowLogSumExps,
rowMadDiffs, rowMads, rowMaxs, rowMeans2, rowMedians, rowMins,
rowOrderStats, rowProds, rowQuantiles, rowRanges, rowRanks,
rowSdDiffs, rowSds, rowSums2, rowTabulates, rowVarDiffs, rowVars,
rowWeightedMads, rowWeightedMeans, rowWeightedMedians,
rowWeightedSds, rowWeightedVars
Loading required package: GenomicRanges
Loading required package: stats4
Loading required package: BiocGenerics
Loading required package: generics
Attaching package: 'generics'
The following objects are masked from 'package:base':
as.difftime, as.factor, as.ordered, intersect, is.element, setdiff,
setequal, union
Attaching package: 'BiocGenerics'
The following objects are masked from 'package:stats':
IQR, mad, sd, var, xtabs
The following objects are masked from 'package:base':
Filter, Find, Map, Position, Reduce, anyDuplicated, aperm, append,
as.data.frame, basename, cbind, colnames, dirname, do.call,
duplicated, eval, evalq, get, grep, grepl, is.unsorted, lapply,
mapply, match, mget, order, paste, pmax, pmax.int, pmin, pmin.int,
rank, rbind, rownames, sapply, saveRDS, table, tapply, unique,
unsplit, which.max, which.min
Loading required package: S4Vectors
Attaching package: 'S4Vectors'
The following object is masked from 'package:utils':
findMatches
The following objects are masked from 'package:base':
I, expand.grid, unname
Loading required package: IRanges
Loading required package: Seqinfo
Loading required package: Biobase
Welcome to Bioconductor
Vignettes contain introductory material; view with
'browseVignettes()'. To cite Bioconductor, see
'citation("Biobase")', and for packages 'citation("pkgname")'.
Attaching package: 'Biobase'
The following object is masked from 'package:MatrixGenerics':
rowMedians
The following objects are masked from 'package:matrixStats':
anyMissing, rowMedians
> test_check("scRNAseq")
[ FAIL 0 | WARN 35 | SKIP 1 | PASS 186 ]
══ Skipped tests (1) ═══════════════════════════════════════════════════════════
• is.null(gh_token) is TRUE (1): 'test-uploadDirectory.R:59:5'
[ FAIL 0 | WARN 35 | SKIP 1 | PASS 186 ]
Warning message:
call dbDisconnect() when finished working with a connection
>
> proc.time()
user system elapsed
301.257 31.410 358.541
scRNAseq.Rcheck/scRNAseq-Ex.timings
| name | user | system | elapsed | |
| AztekinTailData | 8.007 | 0.775 | 8.814 | |
| BachMammaryData | 7.682 | 0.895 | 9.680 | |
| BacherTCellData | 18.929 | 5.129 | 24.212 | |
| BaronPancreasData | 1.016 | 0.135 | 1.162 | |
| BhaduriOrganoidData | 25.455 | 9.285 | 35.768 | |
| BuettnerESCData | 3.368 | 0.322 | 4.084 | |
| BunisHSPCData | 1.087 | 0.487 | 1.609 | |
| CampbellBrainData | 1.911 | 1.128 | 3.070 | |
| ChenBrainData | 0.988 | 0.431 | 1.440 | |
| DarmanisBrainData | 0.269 | 0.065 | 0.340 | |
| ERCCSpikeInConcentrations | 0.021 | 0.004 | 0.024 | |
| ErnstSpermatogenesisData | 11.076 | 4.298 | 15.795 | |
| FletcherOlfactoryData | 0.908 | 0.238 | 1.155 | |
| GiladiHSCData | 5.408 | 2.736 | 8.338 | |
| GrunHSCData | 0.275 | 0.065 | 0.343 | |
| GrunPancreasData | 0.734 | 0.406 | 1.147 | |
| HeOrganAtlasData | 12.749 | 7.031 | 19.934 | |
| HermannSpermatogenesisData | 0.815 | 0.274 | 1.099 | |
| HuCortexData | 0.523 | 0.191 | 0.798 | |
| JessaBrainData | 12.291 | 4.891 | 18.510 | |
| KolodziejczykESCData | 3.441 | 0.380 | 4.069 | |
| KotliarovPBMCData | 2.742 | 0.857 | 3.657 | |
| LaMannoBrainData | 1.755 | 0.364 | 2.144 | |
| LawlorPancreasData | 0.818 | 0.089 | 0.935 | |
| LedergorMyelomaData | 1.470 | 0.270 | 1.811 | |
| LengESCData | 0.507 | 0.072 | 0.637 | |
| LunSpikeInData | 6.624 | 0.732 | 7.950 | |
| MacoskoRetinaData | 1.661 | 0.580 | 2.280 | |
| MairPBMCData | 0.649 | 0.140 | 0.798 | |
| MarquesBrainData | 0.715 | 0.096 | 0.823 | |
| MessmerESCData | 4.013 | 0.491 | 4.869 | |
| MuraroPancreasData | 0.941 | 0.205 | 1.156 | |
| NestorowaHSCData | 4.813 | 0.642 | 5.757 | |
| NowakowskiCortexData | 1.568 | 0.328 | 1.909 | |
| PaulHSCData | 3.152 | 0.588 | 3.755 | |
| PollenGliaData | 0.397 | 0.122 | 0.523 | |
| ReprocessedData | 2.338 | 0.298 | 2.759 | |
| RichardTCellData | 3.964 | 0.401 | 4.662 | |
| RomanovBrainData | 0.536 | 0.114 | 0.659 | |
| SegerstolpePancreasData | 1.244 | 0.365 | 1.624 | |
| ShekharRetinaData | 2.152 | 0.670 | 2.903 | |
| StoeckiusHashingData | 10.092 | 1.576 | 12.552 | |
| TasicBrainData | 1.960 | 0.384 | 2.421 | |
| UsoskinBrainData | 0.537 | 0.091 | 0.634 | |
| WuKidneyData | 0.396 | 0.047 | 0.450 | |
| XinPancreasData | 0.872 | 0.210 | 1.089 | |
| ZeiselBrainData | 1.178 | 0.184 | 1.376 | |
| ZeiselNervousData | 15.103 | 5.475 | 21.149 | |
| ZhaoImmuneLiverData | 6.929 | 2.923 | 9.959 | |
| ZhongPrefrontalData | 0.604 | 0.115 | 0.730 | |
| ZilionisLungData | 4.153 | 0.922 | 5.281 | |
| countErccMolecules | 0.033 | 0.002 | 0.034 | |
| fetchDataset | 0.660 | 0.123 | 0.782 | |
| listDatasets | 0.012 | 0.000 | 0.012 | |
| listPaths | 0.559 | 0.031 | 1.616 | |
| listVersions | 0.015 | 0.000 | 0.505 | |
| polishDataset | 0.128 | 0.020 | 0.149 | |
| saveDataset | 0.839 | 0.090 | 0.921 | |
| searchDatasets | 1.805 | 0.100 | 2.121 | |
| surveyDatasets | 0.929 | 0.020 | 0.949 | |