Back to Build/check report for BioC 3.23 experimental data
ABCDEFGHIJKLMNOPQR[S]TUVWXYZ

This page was generated on 2025-11-06 15:01 -0500 (Thu, 06 Nov 2025).

HostnameOSArch (*)R versionInstalled pkgs
nebbiolo1Linux (Ubuntu 24.04.3 LTS)x86_64R Under development (unstable) (2025-10-20 r88955) -- "Unsuffered Consequences" 4818
Click on any hostname to see more info about the system (e.g. compilers)      (*) as reported by 'uname -p', except on Windows and Mac OS X

Package 356/431HostnameOS / ArchINSTALLBUILDCHECK
scRNAseq 2.25.0  (landing page)
Aaron Lun
Snapshot Date: 2025-11-06 07:00 -0500 (Thu, 06 Nov 2025)
git_url: https://git.bioconductor.org/packages/scRNAseq
git_branch: devel
git_last_commit: 2fad4dd
git_last_commit_date: 2025-10-29 09:58:50 -0500 (Wed, 29 Oct 2025)
nebbiolo1Linux (Ubuntu 24.04.3 LTS) / x86_64  OK    OK    OK  YES


CHECK results for scRNAseq on nebbiolo1

To the developers/maintainers of the scRNAseq package:
- Use the following Renviron settings to reproduce errors and warnings.
- If 'R CMD check' started to fail recently on the Linux builder(s) over a missing dependency, add the missing dependency to 'Suggests:' in your DESCRIPTION file. See Renviron.bioc for more information.

raw results


Summary

Package: scRNAseq
Version: 2.25.0
Command: /home/biocbuild/bbs-3.23-bioc/R/bin/R CMD check --install=check:scRNAseq.install-out.txt --library=/home/biocbuild/bbs-3.23-bioc/R/site-library --timings scRNAseq_2.25.0.tar.gz
StartedAt: 2025-11-06 12:58:27 -0500 (Thu, 06 Nov 2025)
EndedAt: 2025-11-06 13:14:12 -0500 (Thu, 06 Nov 2025)
EllapsedTime: 945.0 seconds
RetCode: 0
Status:   OK  
CheckDir: scRNAseq.Rcheck
Warnings: 0

Command output

##############################################################################
##############################################################################
###
### Running command:
###
###   /home/biocbuild/bbs-3.23-bioc/R/bin/R CMD check --install=check:scRNAseq.install-out.txt --library=/home/biocbuild/bbs-3.23-bioc/R/site-library --timings scRNAseq_2.25.0.tar.gz
###
##############################################################################
##############################################################################


* using log directory ‘/home/biocbuild/bbs-3.23-data-experiment/meat/scRNAseq.Rcheck’
* using R Under development (unstable) (2025-10-20 r88955)
* using platform: x86_64-pc-linux-gnu
* R was compiled by
    gcc (Ubuntu 13.3.0-6ubuntu2~24.04) 13.3.0
    GNU Fortran (Ubuntu 13.3.0-6ubuntu2~24.04) 13.3.0
* running under: Ubuntu 24.04.3 LTS
* using session charset: UTF-8
* checking for file ‘scRNAseq/DESCRIPTION’ ... OK
* this is package ‘scRNAseq’ version ‘2.25.0’
* package encoding: UTF-8
* checking package namespace information ... OK
* checking package dependencies ... OK
* checking if this is a source package ... OK
* checking if there is a namespace ... OK
* checking for hidden files and directories ... NOTE
Found the following hidden files and directories:
  .BBSoptions
These were most likely included in error. See section ‘Package
structure’ in the ‘Writing R Extensions’ manual.
* checking for portable file names ... OK
* checking for sufficient/correct file permissions ... OK
* checking whether package ‘scRNAseq’ can be installed ... OK
* checking installed package size ... OK
* checking package directory ... OK
* checking ‘build’ directory ... OK
* checking DESCRIPTION meta-information ... OK
* checking top-level files ... OK
* checking for left-over files ... OK
* checking index information ... OK
* checking package subdirectories ... OK
* checking code files for non-ASCII characters ... OK
* checking R files for syntax errors ... OK
* checking whether the package can be loaded ... OK
* checking whether the package can be loaded with stated dependencies ... OK
* checking whether the package can be unloaded cleanly ... OK
* checking whether the namespace can be loaded with stated dependencies ... OK
* checking whether the namespace can be unloaded cleanly ... OK
* checking loading without being on the library search path ... OK
* checking dependencies in R code ... OK
* checking S3 generic/method consistency ... OK
* checking replacement functions ... OK
* checking foreign function calls ... OK
* checking R code for possible problems ... OK
* checking Rd files ... OK
* checking Rd metadata ... OK
* checking Rd cross-references ... OK
* checking for missing documentation entries ... OK
* checking for code/documentation mismatches ... OK
* checking Rd \usage sections ... OK
* checking Rd contents ... OK
* checking for unstated dependencies in examples ... OK
* checking files in ‘vignettes’ ... OK
* checking examples ... OK
Examples with CPU (user + system) or elapsed time > 5s
                           user system elapsed
BhaduriOrganoidData      24.094 10.213  34.610
BacherTCellData          17.477  6.090  24.597
HeOrganAtlasData         12.516  7.740  20.875
ZeiselNervousData        14.466  5.715  21.780
ErnstSpermatogenesisData 10.313  4.389  16.134
JessaBrainData            9.817  4.596  15.495
StoeckiusHashingData      8.515  1.681  10.964
ZhaoImmuneLiverData       6.606  3.130  10.449
BachMammaryData           6.968  1.311   9.529
GiladiHSCData             5.065  2.569   8.173
LunSpikeInData            6.059  1.363   7.981
AztekinTailData           6.407  0.662   7.282
KolodziejczykESCData      4.430  1.233   6.004
NestorowaHSCData          4.285  1.077   5.843
ZilionisLungData          4.090  1.172   5.682
MessmerESCData            4.083  0.814   5.146
* checking for unstated dependencies in ‘tests’ ... OK
* checking tests ...
  Running ‘testthat.R’
 OK
* checking for unstated dependencies in vignettes ... OK
* checking package vignettes ... OK
* checking re-building of vignette outputs ... OK
* checking PDF version of manual ... OK
* DONE

Status: 1 NOTE
See
  ‘/home/biocbuild/bbs-3.23-data-experiment/meat/scRNAseq.Rcheck/00check.log’
for details.


Installation output

scRNAseq.Rcheck/00install.out

##############################################################################
##############################################################################
###
### Running command:
###
###   /home/biocbuild/bbs-3.23-bioc/R/bin/R CMD INSTALL scRNAseq
###
##############################################################################
##############################################################################


* installing to library ‘/home/biocbuild/bbs-3.23-bioc/R/site-library’
* installing *source* package ‘scRNAseq’ ...
** this is package ‘scRNAseq’ version ‘2.25.0’
** using staged installation
** R
** inst
** byte-compile and prepare package for lazy loading
** help
*** installing help indices
** building package indices
** installing vignettes
** testing if installed package can be loaded from temporary location
** testing if installed package can be loaded from final location
** testing if installed package keeps a record of temporary installation path
* DONE (scRNAseq)

Tests output

scRNAseq.Rcheck/tests/testthat.Rout


R Under development (unstable) (2025-10-20 r88955) -- "Unsuffered Consequences"
Copyright (C) 2025 The R Foundation for Statistical Computing
Platform: x86_64-pc-linux-gnu

R is free software and comes with ABSOLUTELY NO WARRANTY.
You are welcome to redistribute it under certain conditions.
Type 'license()' or 'licence()' for distribution details.

R is a collaborative project with many contributors.
Type 'contributors()' for more information and
'citation()' on how to cite R or R packages in publications.

Type 'demo()' for some demos, 'help()' for on-line help, or
'help.start()' for an HTML browser interface to help.
Type 'q()' to quit R.

> library(testthat)
> library(scRNAseq)
Loading required package: SingleCellExperiment
Loading required package: SummarizedExperiment
Loading required package: MatrixGenerics
Loading required package: matrixStats

Attaching package: 'MatrixGenerics'

The following objects are masked from 'package:matrixStats':

    colAlls, colAnyNAs, colAnys, colAvgsPerRowSet, colCollapse,
    colCounts, colCummaxs, colCummins, colCumprods, colCumsums,
    colDiffs, colIQRDiffs, colIQRs, colLogSumExps, colMadDiffs,
    colMads, colMaxs, colMeans2, colMedians, colMins, colOrderStats,
    colProds, colQuantiles, colRanges, colRanks, colSdDiffs, colSds,
    colSums2, colTabulates, colVarDiffs, colVars, colWeightedMads,
    colWeightedMeans, colWeightedMedians, colWeightedSds,
    colWeightedVars, rowAlls, rowAnyNAs, rowAnys, rowAvgsPerColSet,
    rowCollapse, rowCounts, rowCummaxs, rowCummins, rowCumprods,
    rowCumsums, rowDiffs, rowIQRDiffs, rowIQRs, rowLogSumExps,
    rowMadDiffs, rowMads, rowMaxs, rowMeans2, rowMedians, rowMins,
    rowOrderStats, rowProds, rowQuantiles, rowRanges, rowRanks,
    rowSdDiffs, rowSds, rowSums2, rowTabulates, rowVarDiffs, rowVars,
    rowWeightedMads, rowWeightedMeans, rowWeightedMedians,
    rowWeightedSds, rowWeightedVars

Loading required package: GenomicRanges
Loading required package: stats4
Loading required package: BiocGenerics
Loading required package: generics

Attaching package: 'generics'

The following objects are masked from 'package:base':

    as.difftime, as.factor, as.ordered, intersect, is.element, setdiff,
    setequal, union


Attaching package: 'BiocGenerics'

The following objects are masked from 'package:stats':

    IQR, mad, sd, var, xtabs

The following objects are masked from 'package:base':

    Filter, Find, Map, Position, Reduce, anyDuplicated, aperm, append,
    as.data.frame, basename, cbind, colnames, dirname, do.call,
    duplicated, eval, evalq, get, grep, grepl, is.unsorted, lapply,
    mapply, match, mget, order, paste, pmax, pmax.int, pmin, pmin.int,
    rank, rbind, rownames, sapply, saveRDS, table, tapply, unique,
    unsplit, which.max, which.min

Loading required package: S4Vectors

Attaching package: 'S4Vectors'

The following object is masked from 'package:utils':

    findMatches

The following objects are masked from 'package:base':

    I, expand.grid, unname

Loading required package: IRanges
Loading required package: Seqinfo
Loading required package: Biobase
Welcome to Bioconductor

    Vignettes contain introductory material; view with
    'browseVignettes()'. To cite Bioconductor, see
    'citation("Biobase")', and for packages 'citation("pkgname")'.


Attaching package: 'Biobase'

The following object is masked from 'package:MatrixGenerics':

    rowMedians

The following objects are masked from 'package:matrixStats':

    anyMissing, rowMedians

> test_check("scRNAseq")
[ FAIL 0 | WARN 35 | SKIP 1 | PASS 186 ]

══ Skipped tests (1) ═══════════════════════════════════════════════════════════
• is.null(gh_token) is TRUE (1): 'test-uploadDirectory.R:59:5'

[ FAIL 0 | WARN 35 | SKIP 1 | PASS 186 ]
Warning message:
call dbDisconnect() when finished working with a connection 
> 
> proc.time()
   user  system elapsed 
285.956  59.866 367.719 

Example timings

scRNAseq.Rcheck/scRNAseq-Ex.timings

nameusersystemelapsed
AztekinTailData6.4070.6627.282
BachMammaryData6.9681.3119.529
BacherTCellData17.477 6.09024.597
BaronPancreasData1.0090.1651.210
BhaduriOrganoidData24.09410.21334.610
BuettnerESCData3.0250.7204.097
BunisHSPCData1.0180.4391.579
CampbellBrainData1.8101.1673.236
ChenBrainData0.9630.3991.548
DarmanisBrainData0.2480.0420.295
ERCCSpikeInConcentrations0.0180.0010.020
ErnstSpermatogenesisData10.313 4.38916.134
FletcherOlfactoryData0.8240.3351.172
GiladiHSCData5.0652.5698.173
GrunHSCData0.2340.0510.291
GrunPancreasData0.6200.3741.005
HeOrganAtlasData12.516 7.74020.875
HermannSpermatogenesisData0.7860.3011.116
HuCortexData0.5040.2160.773
JessaBrainData 9.817 4.59615.495
KolodziejczykESCData4.4301.2336.004
KotliarovPBMCData2.3770.5853.247
LaMannoBrainData1.5780.4012.027
LawlorPancreasData0.8410.1200.964
LedergorMyelomaData1.3930.3511.948
LengESCData0.5000.0620.565
LunSpikeInData6.0591.3637.981
MacoskoRetinaData1.7250.5432.508
MairPBMCData0.4870.0900.585
MarquesBrainData0.8050.2071.088
MessmerESCData4.0830.8145.146
MuraroPancreasData0.9200.2231.165
NestorowaHSCData4.2851.0775.843
NowakowskiCortexData1.5560.3101.890
PaulHSCData2.9050.5023.474
PollenGliaData0.2240.0250.252
ReprocessedData2.0060.3222.336
RichardTCellData3.0620.6194.027
RomanovBrainData0.5130.1170.648
SegerstolpePancreasData1.3270.3751.780
ShekharRetinaData2.0740.7012.991
StoeckiusHashingData 8.515 1.68110.964
TasicBrainData1.9050.4002.308
UsoskinBrainData0.8720.0750.960
WuKidneyData0.3520.0700.440
XinPancreasData0.8220.2301.070
ZeiselBrainData1.0410.2761.340
ZeiselNervousData14.466 5.71521.780
ZhaoImmuneLiverData 6.606 3.13010.449
ZhongPrefrontalData0.6020.1370.809
ZilionisLungData4.0901.1725.682
countErccMolecules0.0360.0020.038
fetchDataset0.4410.0450.486
listDatasets0.1670.1160.283
listPaths0.4890.0211.444
listVersions0.0110.0000.396
polishDataset0.1130.0090.122
saveDataset0.7980.0430.738
searchDatasets1.6460.0871.945
surveyDatasets0.9080.0660.974