| Back to Build/check report for BioC 3.22 experimental data |
|
This page was generated on 2025-10-21 15:41 -0400 (Tue, 21 Oct 2025).
| Hostname | OS | Arch (*) | R version | Installed pkgs |
|---|---|---|---|---|
| nebbiolo2 | Linux (Ubuntu 24.04.3 LTS) | x86_64 | 4.5.1 Patched (2025-08-23 r88802) -- "Great Square Root" | 4888 |
| Click on any hostname to see more info about the system (e.g. compilers) (*) as reported by 'uname -p', except on Windows and Mac OS X | ||||
| Package 244/435 | Hostname | OS / Arch | INSTALL | BUILD | CHECK | ||||||||
| methylclockData 1.17.0 (landing page) Dolors Pelegri-Siso
| nebbiolo2 | Linux (Ubuntu 24.04.3 LTS) / x86_64 | OK | OK | OK | ||||||||
|
To the developers/maintainers of the methylclockData package: - Use the following Renviron settings to reproduce errors and warnings. - If 'R CMD check' started to fail recently on the Linux builder(s) over a missing dependency, add the missing dependency to 'Suggests:' in your DESCRIPTION file. See Renviron.bioc for more information. |
| Package: methylclockData |
| Version: 1.17.0 |
| Command: /home/biocbuild/bbs-3.22-bioc/R/bin/R CMD check --install=check:methylclockData.install-out.txt --library=/home/biocbuild/bbs-3.22-bioc/R/site-library --timings methylclockData_1.17.0.tar.gz |
| StartedAt: 2025-10-21 12:41:49 -0400 (Tue, 21 Oct 2025) |
| EndedAt: 2025-10-21 12:47:04 -0400 (Tue, 21 Oct 2025) |
| EllapsedTime: 315.0 seconds |
| RetCode: 0 |
| Status: OK |
| CheckDir: methylclockData.Rcheck |
| Warnings: 0 |
##############################################################################
##############################################################################
###
### Running command:
###
### /home/biocbuild/bbs-3.22-bioc/R/bin/R CMD check --install=check:methylclockData.install-out.txt --library=/home/biocbuild/bbs-3.22-bioc/R/site-library --timings methylclockData_1.17.0.tar.gz
###
##############################################################################
##############################################################################
* using log directory ‘/home/biocbuild/bbs-3.22-data-experiment/meat/methylclockData.Rcheck’
* using R version 4.5.1 Patched (2025-08-23 r88802)
* using platform: x86_64-pc-linux-gnu
* R was compiled by
gcc (Ubuntu 13.3.0-6ubuntu2~24.04) 13.3.0
GNU Fortran (Ubuntu 13.3.0-6ubuntu2~24.04) 13.3.0
* running under: Ubuntu 24.04.3 LTS
* using session charset: UTF-8
* checking for file ‘methylclockData/DESCRIPTION’ ... OK
* this is package ‘methylclockData’ version ‘1.17.0’
* package encoding: UTF-8
* checking package namespace information ... OK
* checking package dependencies ... OK
* checking if this is a source package ... OK
* checking if there is a namespace ... OK
* checking for hidden files and directories ... OK
* checking for portable file names ... OK
* checking for sufficient/correct file permissions ... OK
* checking whether package ‘methylclockData’ can be installed ... OK
* checking installed package size ... OK
* checking package directory ... OK
* checking ‘build’ directory ... OK
* checking DESCRIPTION meta-information ... NOTE
Malformed Description field: should contain one or more complete sentences.
License stub is invalid DCF.
* checking top-level files ... OK
* checking for left-over files ... OK
* checking index information ... OK
* checking package subdirectories ... OK
* checking code files for non-ASCII characters ... OK
* checking R files for syntax errors ... OK
* checking whether the package can be loaded ... OK
* checking whether the package can be loaded with stated dependencies ... OK
* checking whether the package can be unloaded cleanly ... OK
* checking whether the namespace can be loaded with stated dependencies ... OK
* checking whether the namespace can be unloaded cleanly ... OK
* checking loading without being on the library search path ... OK
* checking dependencies in R code ... OK
* checking S3 generic/method consistency ... OK
* checking replacement functions ... OK
* checking foreign function calls ... OK
* checking R code for possible problems ... OK
* checking Rd files ... OK
* checking Rd metadata ... OK
* checking Rd cross-references ... OK
* checking for missing documentation entries ... OK
* checking for code/documentation mismatches ... OK
* checking Rd \usage sections ... OK
* checking Rd contents ... OK
* checking for unstated dependencies in examples ... OK
* checking files in ‘vignettes’ ... OK
* checking examples ... OK
* checking for unstated dependencies in vignettes ... OK
* checking package vignettes ... OK
* checking re-building of vignette outputs ... OK
* checking PDF version of manual ... OK
* DONE
Status: 1 NOTE
See
‘/home/biocbuild/bbs-3.22-data-experiment/meat/methylclockData.Rcheck/00check.log’
for details.
methylclockData.Rcheck/00install.out
############################################################################## ############################################################################## ### ### Running command: ### ### /home/biocbuild/bbs-3.22-bioc/R/bin/R CMD INSTALL methylclockData ### ############################################################################## ############################################################################## * installing to library ‘/home/biocbuild/bbs-3.22-bioc/R/site-library’ * installing *source* package ‘methylclockData’ ... ** this is package ‘methylclockData’ version ‘1.17.0’ ** using staged installation ** R ** inst ** byte-compile and prepare package for lazy loading Warning: replacing previous import ‘utils::findMatches’ by ‘S4Vectors::findMatches’ when loading ‘ExperimentHubData’ No methods found in package ‘rtracklayer’ for request: ‘trackName<-’ when loading ‘AnnotationHubData’ ** help *** installing help indices ** building package indices ** installing vignettes ** testing if installed package can be loaded from temporary location Warning: replacing previous import ‘utils::findMatches’ by ‘S4Vectors::findMatches’ when loading ‘ExperimentHubData’ No methods found in package ‘rtracklayer’ for request: ‘trackName<-’ when loading ‘AnnotationHubData’ ** testing if installed package can be loaded from final location Warning: replacing previous import ‘utils::findMatches’ by ‘S4Vectors::findMatches’ when loading ‘ExperimentHubData’ No methods found in package ‘rtracklayer’ for request: ‘trackName<-’ when loading ‘AnnotationHubData’ ** testing if installed package keeps a record of temporary installation path * DONE (methylclockData)
methylclockData.Rcheck/methylclockData-Ex.timings
| name | user | system | elapsed | |
| get_MethylationDataExample | 1.824 | 0.126 | 2.297 | |
| get_TestDataset | 1.259 | 0.059 | 1.562 | |
| get_coefBLUP | 1.897 | 0.105 | 2.242 | |
| get_coefBohlin | 1.910 | 0.184 | 2.330 | |
| get_coefEN | 1.225 | 0.093 | 1.624 | |
| get_coefEPIC | 1.201 | 0.093 | 1.616 | |
| get_coefHannum | 1.199 | 0.076 | 1.515 | |
| get_coefHorvath | 1.227 | 0.046 | 1.509 | |
| get_coefKnightGA | 1.180 | 0.046 | 1.467 | |
| get_coefLeeGA | 1.226 | 0.054 | 1.520 | |
| get_coefLevine | 1.166 | 0.040 | 1.444 | |
| get_coefMayneGA | 1.313 | 0.046 | 1.603 | |
| get_coefPedBE | 1.184 | 0.069 | 1.507 | |
| get_coefSkin | 1.303 | 0.055 | 1.623 | |
| get_coefTL | 1.160 | 0.043 | 1.459 | |
| get_coefWu | 1.283 | 0.085 | 1.696 | |
| get_cpgs_bn | 1.222 | 0.101 | 1.566 | |
| get_probeAnnotation21kdatMethUsed | 1.279 | 0.064 | 1.715 | |
| get_references | 1.330 | 0.066 | 1.683 | |