| Back to Build/check report for BioC 3.22 experimental data |
|
This page was generated on 2025-10-21 15:41 -0400 (Tue, 21 Oct 2025).
| Hostname | OS | Arch (*) | R version | Installed pkgs |
|---|---|---|---|---|
| nebbiolo2 | Linux (Ubuntu 24.04.3 LTS) | x86_64 | 4.5.1 Patched (2025-08-23 r88802) -- "Great Square Root" | 4888 |
| Click on any hostname to see more info about the system (e.g. compilers) (*) as reported by 'uname -p', except on Windows and Mac OS X | ||||
| Package 224/435 | Hostname | OS / Arch | INSTALL | BUILD | CHECK | ||||||||
| lungExpression 0.47.0 (landing page) Robert Scharpf
| nebbiolo2 | Linux (Ubuntu 24.04.3 LTS) / x86_64 | OK | OK | OK | ||||||||
|
To the developers/maintainers of the lungExpression package: - Use the following Renviron settings to reproduce errors and warnings. - If 'R CMD check' started to fail recently on the Linux builder(s) over a missing dependency, add the missing dependency to 'Suggests:' in your DESCRIPTION file. See Renviron.bioc for more information. |
| Package: lungExpression |
| Version: 0.47.0 |
| Command: /home/biocbuild/bbs-3.22-bioc/R/bin/R CMD check --install=check:lungExpression.install-out.txt --library=/home/biocbuild/bbs-3.22-bioc/R/site-library --timings lungExpression_0.47.0.tar.gz |
| StartedAt: 2025-10-21 12:39:50 -0400 (Tue, 21 Oct 2025) |
| EndedAt: 2025-10-21 12:40:11 -0400 (Tue, 21 Oct 2025) |
| EllapsedTime: 20.6 seconds |
| RetCode: 0 |
| Status: OK |
| CheckDir: lungExpression.Rcheck |
| Warnings: 0 |
##############################################################################
##############################################################################
###
### Running command:
###
### /home/biocbuild/bbs-3.22-bioc/R/bin/R CMD check --install=check:lungExpression.install-out.txt --library=/home/biocbuild/bbs-3.22-bioc/R/site-library --timings lungExpression_0.47.0.tar.gz
###
##############################################################################
##############################################################################
* using log directory ‘/home/biocbuild/bbs-3.22-data-experiment/meat/lungExpression.Rcheck’
* using R version 4.5.1 Patched (2025-08-23 r88802)
* using platform: x86_64-pc-linux-gnu
* R was compiled by
gcc (Ubuntu 13.3.0-6ubuntu2~24.04) 13.3.0
GNU Fortran (Ubuntu 13.3.0-6ubuntu2~24.04) 13.3.0
* running under: Ubuntu 24.04.3 LTS
* using session charset: UTF-8
* checking for file ‘lungExpression/DESCRIPTION’ ... OK
* this is package ‘lungExpression’ version ‘0.47.0’
* checking package namespace information ... OK
* checking package dependencies ... OK
* checking if this is a source package ... OK
* checking if there is a namespace ... OK
* checking for hidden files and directories ... OK
* checking for portable file names ... OK
* checking for sufficient/correct file permissions ... OK
* checking whether package ‘lungExpression’ can be installed ... OK
* checking installed package size ... INFO
installed size is 5.8Mb
sub-directories of 1Mb or more:
data 5.7Mb
* checking package directory ... OK
* checking DESCRIPTION meta-information ... NOTE
Malformed Description field: should contain one or more complete sentences.
* checking top-level files ... OK
* checking for left-over files ... OK
* checking index information ... OK
* checking package subdirectories ... OK
* checking whether the package can be loaded ... OK
* checking whether the package can be loaded with stated dependencies ... OK
* checking whether the package can be unloaded cleanly ... OK
* checking whether the namespace can be loaded with stated dependencies ... OK
* checking whether the namespace can be unloaded cleanly ... OK
* checking loading without being on the library search path ... OK
* checking Rd files ... NOTE
prepare_Rd: harvard.Rd:10-11: Dropping empty section \format
prepare_Rd: harvard.Rd:17-18: Dropping empty section \source
prepare_Rd: michigan.Rd:10-11: Dropping empty section \format
prepare_Rd: michigan.Rd:17-18: Dropping empty section \source
prepare_Rd: stanford.Rd:9-10: Dropping empty section \format
prepare_Rd: stanford.Rd:16-18: Dropping empty section \source
* checking Rd metadata ... OK
* checking Rd cross-references ... OK
* checking for missing documentation entries ... OK
* checking for code/documentation mismatches ... OK
* checking Rd \usage sections ... OK
* checking Rd contents ... OK
* checking for unstated dependencies in examples ... OK
* checking contents of ‘data’ directory ... OK
* checking data for non-ASCII characters ... OK
* checking data for ASCII and uncompressed saves ... OK
* checking examples ... OK
* checking PDF version of manual ... OK
* DONE
Status: 2 NOTEs
See
‘/home/biocbuild/bbs-3.22-data-experiment/meat/lungExpression.Rcheck/00check.log’
for details.
lungExpression.Rcheck/00install.out
############################################################################## ############################################################################## ### ### Running command: ### ### /home/biocbuild/bbs-3.22-bioc/R/bin/R CMD INSTALL lungExpression ### ############################################################################## ############################################################################## * installing to library ‘/home/biocbuild/bbs-3.22-bioc/R/site-library’ * installing *source* package ‘lungExpression’ ... ** this is package ‘lungExpression’ version ‘0.47.0’ ** using staged installation ** data ** help *** installing help indices ** building package indices ** testing if installed package can be loaded from temporary location ** testing if installed package can be loaded from final location ** testing if installed package keeps a record of temporary installation path * DONE (lungExpression)
lungExpression.Rcheck/lungExpression-Ex.timings
| name | user | system | elapsed | |
| harvard | 0.046 | 0.002 | 0.048 | |
| michigan | 0.022 | 0.000 | 0.022 | |
| stanford | 0.012 | 0.003 | 0.015 | |