Back to Build/check report for BioC 3.22 experimental data
ABCDEF[G]HIJKLMNOPQRSTUVWXYZ

This page was generated on 2025-10-21 15:41 -0400 (Tue, 21 Oct 2025).

HostnameOSArch (*)R versionInstalled pkgs
nebbiolo2Linux (Ubuntu 24.04.3 LTS)x86_644.5.1 Patched (2025-08-23 r88802) -- "Great Square Root" 4888
Click on any hostname to see more info about the system (e.g. compilers)      (*) as reported by 'uname -p', except on Windows and Mac OS X

Package 150/435HostnameOS / ArchINSTALLBUILDCHECK
geneLenDataBase 1.45.0  (landing page)
Federico Marini
Snapshot Date: 2025-10-21 07:30 -0400 (Tue, 21 Oct 2025)
git_url: https://git.bioconductor.org/packages/geneLenDataBase
git_branch: devel
git_last_commit: 109b234
git_last_commit_date: 2025-04-15 09:16:59 -0400 (Tue, 15 Apr 2025)
nebbiolo2Linux (Ubuntu 24.04.3 LTS) / x86_64  OK    OK    OK  UNNEEDED, same version is already published


CHECK results for geneLenDataBase on nebbiolo2

To the developers/maintainers of the geneLenDataBase package:
- Use the following Renviron settings to reproduce errors and warnings.
- If 'R CMD check' started to fail recently on the Linux builder(s) over a missing dependency, add the missing dependency to 'Suggests:' in your DESCRIPTION file. See Renviron.bioc for more information.

raw results


Summary

Package: geneLenDataBase
Version: 1.45.0
Command: /home/biocbuild/bbs-3.22-bioc/R/bin/R CMD check --install=check:geneLenDataBase.install-out.txt --library=/home/biocbuild/bbs-3.22-bioc/R/site-library --timings geneLenDataBase_1.45.0.tar.gz
StartedAt: 2025-10-21 12:27:16 -0400 (Tue, 21 Oct 2025)
EndedAt: 2025-10-21 12:36:21 -0400 (Tue, 21 Oct 2025)
EllapsedTime: 545.7 seconds
RetCode: 0
Status:   OK  
CheckDir: geneLenDataBase.Rcheck
Warnings: 0

Command output

##############################################################################
##############################################################################
###
### Running command:
###
###   /home/biocbuild/bbs-3.22-bioc/R/bin/R CMD check --install=check:geneLenDataBase.install-out.txt --library=/home/biocbuild/bbs-3.22-bioc/R/site-library --timings geneLenDataBase_1.45.0.tar.gz
###
##############################################################################
##############################################################################


* using log directory ‘/home/biocbuild/bbs-3.22-data-experiment/meat/geneLenDataBase.Rcheck’
* using R version 4.5.1 Patched (2025-08-23 r88802)
* using platform: x86_64-pc-linux-gnu
* R was compiled by
    gcc (Ubuntu 13.3.0-6ubuntu2~24.04) 13.3.0
    GNU Fortran (Ubuntu 13.3.0-6ubuntu2~24.04) 13.3.0
* running under: Ubuntu 24.04.3 LTS
* using session charset: UTF-8
* checking for file ‘geneLenDataBase/DESCRIPTION’ ... OK
* this is package ‘geneLenDataBase’ version ‘1.45.0’
* package encoding: UTF-8
* checking package namespace information ... OK
* checking package dependencies ... OK
* checking if this is a source package ... OK
* checking if there is a namespace ... OK
* checking for hidden files and directories ... OK
* checking for portable file names ... OK
* checking for sufficient/correct file permissions ... OK
* checking whether package ‘geneLenDataBase’ can be installed ... OK
* checking installed package size ... INFO
  installed size is 100.3Mb
  sub-directories of 1Mb or more:
    data  99.7Mb
* checking package directory ... OK
* checking DESCRIPTION meta-information ... OK
* checking top-level files ... OK
* checking for left-over files ... OK
* checking index information ... OK
* checking package subdirectories ... OK
* checking code files for non-ASCII characters ... OK
* checking R files for syntax errors ... OK
* checking whether the package can be loaded ... OK
* checking whether the package can be loaded with stated dependencies ... OK
* checking whether the package can be unloaded cleanly ... OK
* checking whether the namespace can be loaded with stated dependencies ... OK
* checking whether the namespace can be unloaded cleanly ... OK
* checking loading without being on the library search path ... OK
* checking dependencies in R code ... NOTE
Unexported object imported by a ':::' call: ‘txdbmaker:::.UCSC_TXNAME2GENEID_MAPDEFS’
  See the note in ?`:::` about the use of this operator.
* checking S3 generic/method consistency ... OK
* checking replacement functions ... OK
* checking foreign function calls ... OK
* checking R code for possible problems ... OK
* checking Rd files ... OK
* checking Rd metadata ... OK
* checking Rd cross-references ... OK
* checking for missing documentation entries ... OK
* checking for code/documentation mismatches ... OK
* checking Rd \usage sections ... OK
* checking Rd contents ... OK
* checking for unstated dependencies in examples ... OK
* checking contents of ‘data’ directory ... OK
* checking data for non-ASCII characters ... OK
* checking data for ASCII and uncompressed saves ... OK
* checking examples ... OK
Examples with CPU (user + system) or elapsed time > 5s
                  user system elapsed
supportedGeneIDs 3.753   0.79   6.786
* checking PDF version of manual ... OK
* DONE

Status: 1 NOTE
See
  ‘/home/biocbuild/bbs-3.22-data-experiment/meat/geneLenDataBase.Rcheck/00check.log’
for details.


Installation output

geneLenDataBase.Rcheck/00install.out

##############################################################################
##############################################################################
###
### Running command:
###
###   /home/biocbuild/bbs-3.22-bioc/R/bin/R CMD INSTALL geneLenDataBase
###
##############################################################################
##############################################################################


* installing to library ‘/home/biocbuild/bbs-3.22-bioc/R/site-library’
* installing *source* package ‘geneLenDataBase’ ...
** this is package ‘geneLenDataBase’ version ‘1.45.0’
** using staged installation
** R
** data
** byte-compile and prepare package for lazy loading
** help
*** installing help indices
** building package indices
** testing if installed package can be loaded from temporary location
** testing if installed package can be loaded from final location
** testing if installed package keeps a record of temporary installation path
* DONE (geneLenDataBase)

Tests output


Example timings

geneLenDataBase.Rcheck/geneLenDataBase-Ex.timings

nameusersystemelapsed
anoCar1.ensGene.LENGTH0.0700.0100.081
anoCar1.genscan.LENGTH0.0450.0040.048
anoCar1.xenoRefGene.LENGTH0.8150.0080.824
anoGam1.ensGene.LENGTH0.060.000.06
anoGam1.geneid.LENGTH0.0430.0000.044
anoGam1.genscan.LENGTH0.0400.0000.042
apiMel1.genscan.LENGTH0.0400.0010.039
apiMel2.ensGene.LENGTH0.0890.0010.091
apiMel2.geneid.LENGTH0.1220.0040.128
apiMel2.genscan.LENGTH0.0310.0000.032
aplCal1.xenoRefGene.LENGTH0.4290.0040.435
bosTau2.geneSymbol.LENGTH0.0400.0010.040
bosTau2.geneid.LENGTH0.2480.0040.253
bosTau2.genscan.LENGTH0.0840.0040.087
bosTau2.refGene.LENGTH0.0400.0020.041
bosTau2.sgpGene.LENGTH0.1010.0020.103
bosTau3.ensGene.LENGTH0.1080.0000.108
bosTau3.geneSymbol.LENGTH0.0370.0000.037
bosTau3.geneid.LENGTH0.1600.0070.165
bosTau3.genscan.LENGTH0.0670.0000.066
bosTau3.refGene.LENGTH0.0310.0010.032
bosTau3.sgpGene.LENGTH0.0870.0000.087
bosTau4.ensGene.LENGTH0.0930.0000.094
bosTau4.geneSymbol.LENGTH0.0320.0000.031
bosTau4.genscan.LENGTH0.0640.0010.065
bosTau4.nscanGene.LENGTH0.0280.0010.028
bosTau4.refGene.LENGTH0.0290.0000.030
braFlo1.xenoRefGene.LENGTH0.3830.0000.385
caeJap1.xenoRefGene.LENGTH0.3450.0080.353
caePb1.xenoRefGene.LENGTH0.4360.0020.439
caePb2.xenoRefGene.LENGTH0.4170.0010.418
caeRem2.xenoRefGene.LENGTH0.3710.0010.373
caeRem3.xenoRefGene.LENGTH0.3310.0020.333
calJac1.genscan.LENGTH0.0850.0020.088
calJac1.nscanGene.LENGTH0.1060.0020.108
calJac1.xenoRefGene.LENGTH0.7610.0040.766
canFam1.ensGene.LENGTH0.1010.0020.103
canFam1.geneSymbol.LENGTH0.0050.0000.006
canFam1.genscan.LENGTH0.0620.0010.062
canFam1.nscanGene.LENGTH0.0630.0000.063
canFam1.refGene.LENGTH0.0040.0000.005
canFam1.xenoRefGene.LENGTH0.5800.0030.583
canFam2.ensGene.LENGTH0.0990.0010.099
canFam2.geneSymbol.LENGTH0.0050.0000.005
canFam2.genscan.LENGTH0.0550.0000.056
canFam2.nscanGene.LENGTH0.0590.0000.059
canFam2.refGene.LENGTH0.0040.0000.005
canFam2.xenoRefGene.LENGTH0.5430.0020.545
cavPor3.ensGene.LENGTH0.2960.0020.298
cavPor3.genscan.LENGTH0.0900.0010.091
cavPor3.nscanGene.LENGTH0.0610.0010.061
cavPor3.xenoRefGene.LENGTH0.5430.0000.544
cb1.xenoRefGene.LENGTH0.3630.0000.364
cb3.xenoRefGene.LENGTH0.310.000.31
ce2.geneSymbol.LENGTH0.0640.0000.064
ce2.geneid.LENGTH0.0540.0000.053
ce2.refGene.LENGTH0.0600.0000.061
ce4.geneSymbol.LENGTH0.0640.0000.066
ce4.refGene.LENGTH0.0590.0000.059
ce4.xenoRefGene.LENGTH0.0830.0000.083
ce6.ensGene.LENGTH0.0840.0000.085
ce6.geneSymbol.LENGTH0.0640.0000.065
ce6.refGene.LENGTH0.0610.0000.061
ce6.xenoRefGene.LENGTH0.0800.0000.079
ci1.geneSymbol.LENGTH0.0040.0000.005
ci1.refGene.LENGTH0.0040.0000.004
ci1.xenoRefGene.LENGTH0.1650.0000.164
ci2.ensGene.LENGTH0.0610.0000.061
ci2.geneSymbol.LENGTH0.0040.0010.005
ci2.refGene.LENGTH0.0040.0000.004
ci2.xenoRefGene.LENGTH1.0270.0871.115
danRer3.ensGene.LENGTH0.0890.0010.091
danRer3.geneSymbol.LENGTH0.0500.0010.051
danRer3.refGene.LENGTH0.0450.0000.045
danRer4.ensGene.LENGTH0.1050.0010.105
danRer4.geneSymbol.LENGTH0.0480.0010.049
danRer4.genscan.LENGTH0.0540.0010.055
danRer4.nscanGene.LENGTH0.0790.0000.079
danRer4.refGene.LENGTH0.0460.0000.046
danRer5.ensGene.LENGTH0.1060.0000.107
danRer5.geneSymbol.LENGTH0.0470.0000.046
danRer5.refGene.LENGTH0.0420.0010.042
danRer5.vegaGene.LENGTH0.0440.0010.045
danRer5.vegaPseudoGene.LENGTH0.0020.0000.003
danRer6.ensGene.LENGTH0.1010.0000.102
danRer6.geneSymbol.LENGTH0.0470.0000.047
danRer6.refGene.LENGTH0.0420.0020.043
danRer6.xenoRefGene.LENGTH0.4640.0030.466
dm1.geneSymbol.LENGTH0.0600.0020.062
dm1.genscan.LENGTH0.0230.0000.023
dm1.refGene.LENGTH0.0560.0000.057
dm2.geneSymbol.LENGTH0.0620.0000.062
dm2.geneid.LENGTH0.0330.0000.034
dm2.genscan.LENGTH0.0220.0000.023
dm2.nscanGene.LENGTH0.0490.0000.049
dm2.refGene.LENGTH0.0560.0000.056
dm3.geneSymbol.LENGTH0.0680.0000.068
dm3.nscanPasaGene.LENGTH0.050.000.05
dm3.refGene.LENGTH0.0640.0010.065
downloadLengthFromUCSC000
dp2.genscan.LENGTH0.0290.0010.031
dp2.xenoRefGene.LENGTH0.1890.0000.189
dp3.geneid.LENGTH0.0360.0000.037
dp3.genscan.LENGTH0.0240.0000.023
dp3.xenoRefGene.LENGTH0.1060.0000.106
droAna1.geneid.LENGTH0.0640.0010.066
droAna1.genscan.LENGTH0.0210.0000.022
droAna1.xenoRefGene.LENGTH0.2110.0000.212
droAna2.genscan.LENGTH0.0470.0000.048
droAna2.xenoRefGene.LENGTH0.2670.0000.268
droEre1.genscan.LENGTH0.0280.0000.028
droEre1.xenoRefGene.LENGTH0.2530.0010.255
droGri1.genscan.LENGTH0.0370.0000.038
droGri1.xenoRefGene.LENGTH0.2870.0070.293
droMoj1.geneid.LENGTH0.1220.0000.121
droMoj1.genscan.LENGTH0.0530.0010.053
droMoj1.xenoRefGene.LENGTH0.2080.0020.208
droMoj2.genscan.LENGTH0.0350.0000.035
droMoj2.xenoRefGene.LENGTH0.2630.0000.263
droPer1.genscan.LENGTH0.0360.0020.038
droPer1.xenoRefGene.LENGTH0.2710.0020.275
droSec1.genscan.LENGTH0.0280.0000.027
droSec1.xenoRefGene.LENGTH0.2540.0020.254
droSim1.geneid.LENGTH0.0320.0010.033
droSim1.genscan.LENGTH0.0220.0010.023
droSim1.xenoRefGene.LENGTH0.3470.0050.354
droVir1.geneid.LENGTH0.0950.0010.097
droVir1.genscan.LENGTH0.0390.0000.039
droVir1.xenoRefGene.LENGTH0.2250.0010.225
droVir2.genscan.LENGTH0.0330.0000.033
droVir2.xenoRefGene.LENGTH0.250.000.25
droYak1.geneid.LENGTH0.0400.0020.041
droYak1.genscan.LENGTH0.0260.0010.027
droYak1.xenoRefGene.LENGTH0.2000.0010.201
droYak2.genscan.LENGTH0.0240.0010.025
droYak2.xenoRefGene.LENGTH0.2450.0000.245
equCab1.geneSymbol.LENGTH0.0050.0000.005
equCab1.geneid.LENGTH0.0820.0000.083
equCab1.nscanGene.LENGTH0.0390.0000.039
equCab1.refGene.LENGTH0.0040.0000.004
equCab1.sgpGene.LENGTH0.0650.0000.065
equCab2.ensGene.LENGTH0.0950.0000.095
equCab2.geneSymbol.LENGTH0.0060.0020.006
equCab2.nscanGene.LENGTH0.0470.0010.047
equCab2.refGene.LENGTH0.0050.0000.006
equCab2.xenoRefGene.LENGTH0.5570.0110.568
felCat3.ensGene.LENGTH0.0950.0010.097
felCat3.geneSymbol.LENGTH0.0040.0000.004
felCat3.geneid.LENGTH0.5220.0040.526
felCat3.genscan.LENGTH0.1180.0000.120
felCat3.nscanGene.LENGTH0.2760.0030.279
felCat3.refGene.LENGTH0.0030.0010.004
felCat3.sgpGene.LENGTH0.1650.0000.165
felCat3.xenoRefGene.LENGTH1.2910.0041.295
fr1.ensGene.LENGTH0.0840.0010.084
fr1.genscan.LENGTH0.0610.0000.061
fr2.ensGene.LENGTH0.6400.0070.647
galGal2.ensGene.LENGTH0.0510.0010.052
galGal2.geneSymbol.LENGTH0.0140.0010.015
galGal2.geneid.LENGTH0.0350.0000.035
galGal2.genscan.LENGTH0.0490.0000.049
galGal2.refGene.LENGTH0.0150.0000.016
galGal2.sgpGene.LENGTH0.0420.0000.042
galGal3.ensGene.LENGTH0.0670.0010.068
galGal3.geneSymbol.LENGTH0.0150.0000.015
galGal3.genscan.LENGTH0.0450.0010.046
galGal3.nscanGene.LENGTH0.0650.0000.065
galGal3.refGene.LENGTH0.0140.0000.014
galGal3.xenoRefGene.LENGTH0.4540.0000.454
gasAcu1.ensGene.LENGTH0.0820.0010.083
gasAcu1.nscanGene.LENGTH0.0820.0000.082
hg16.acembly.LENGTH0.3300.0010.331
hg16.ensGene.LENGTH0.0680.0000.068
hg16.exoniphy.LENGTH0.2170.0000.217
hg16.geneSymbol.LENGTH0.0990.0000.099
hg16.geneid.LENGTH0.0460.0010.047
hg16.genscan.LENGTH0.0570.0010.058
hg16.knownGene.LENGTH0.1160.0010.117
hg16.refGene.LENGTH0.0970.0000.097
hg16.sgpGene.LENGTH0.0550.0000.055
hg17.acembly.LENGTH0.3960.0000.397
hg17.acescan.LENGTH0.010.000.01
hg17.ccdsGene.LENGTH0.0220.0000.022
hg17.ensGene.LENGTH0.0990.0000.099
hg17.exoniphy.LENGTH0.3610.0000.361
hg17.geneSymbol.LENGTH0.0980.0000.098
hg17.geneid.LENGTH0.0730.0000.073
hg17.genscan.LENGTH0.0540.0000.054
hg17.knownGene.LENGTH0.1000.0010.101
hg17.refGene.LENGTH0.0900.0010.091
hg17.sgpGene.LENGTH0.0700.0000.071
hg17.vegaGene.LENGTH0.0390.0010.040
hg17.vegaPseudoGene.LENGTH0.0170.0000.017
hg17.xenoRefGene.LENGTH0.4360.0020.438
hg18.acembly.LENGTH0.4440.0010.445
hg18.acescan.LENGTH0.0090.0000.009
hg18.ccdsGene.LENGTH0.0320.0000.032
hg18.ensGene.LENGTH0.1890.0000.189
hg18.exoniphy.LENGTH0.4330.0000.433
hg18.geneSymbol.LENGTH0.1030.0000.102
hg18.geneid.LENGTH0.0740.0000.074
hg18.genscan.LENGTH0.0600.0000.059
hg18.knownGene.LENGTH0.1470.0000.147
hg18.knownGeneOld3.LENGTH0.0680.0010.069
hg18.refGene.LENGTH0.0950.0000.095
hg18.sgpGene.LENGTH0.0770.0000.076
hg18.sibGene.LENGTH0.7330.0010.734
hg18.xenoRefGene.LENGTH0.3300.0010.331
hg19.ccdsGene.LENGTH0.0390.0000.039
hg19.ensGene.LENGTH0.2820.0020.284
hg19.exoniphy.LENGTH0.4250.0030.428
hg19.geneSymbol.LENGTH0.0960.0010.098
hg19.knownGene.LENGTH0.1660.0000.166
hg19.nscanGene.LENGTH0.1470.0000.146
hg19.refGene.LENGTH0.0940.0000.094
hg19.xenoRefGene.LENGTH0.3440.0020.347
loxAfr3.xenoRefGene.LENGTH0.7750.0040.779
mm7.ensGene.LENGTH0.1090.0000.110
mm7.geneSymbol.LENGTH0.0890.0000.089
mm7.geneid.LENGTH0.0830.0000.082
mm7.genscan.LENGTH0.0650.0010.065
mm7.knownGene.LENGTH0.0920.0010.094
mm7.refGene.LENGTH0.0830.0000.083
mm7.sgpGene.LENGTH0.0740.0010.075
mm7.xenoRefGene.LENGTH0.2980.0040.301
mm8.ccdsGene.LENGTH0.0220.0000.022
mm8.ensGene.LENGTH0.0770.0000.077
mm8.geneSymbol.LENGTH0.0840.0020.087
mm8.geneid.LENGTH0.0760.0010.077
mm8.genscan.LENGTH0.0620.0000.063
mm8.knownGene.LENGTH0.0940.0000.094
mm8.nscanGene.LENGTH0.0630.0000.064
mm8.refGene.LENGTH0.3490.0010.350
mm8.sgpGene.LENGTH0.0770.0020.079
mm8.sibGene.LENGTH0.2520.0000.253
mm8.xenoRefGene.LENGTH0.3590.0020.361
mm9.acembly.LENGTH0.3150.0010.316
mm9.ccdsGene.LENGTH0.0290.0010.030
mm9.ensGene.LENGTH0.1530.0000.153
mm9.exoniphy.LENGTH0.4240.0000.424
mm9.geneSymbol.LENGTH0.0880.0000.088
mm9.geneid.LENGTH0.0870.0010.087
mm9.genscan.LENGTH0.0660.0000.066
mm9.knownGene.LENGTH0.1070.0010.107
mm9.nscanGene.LENGTH0.0610.0010.062
mm9.refGene.LENGTH0.0880.0000.088
mm9.sgpGene.LENGTH0.0860.0010.087
mm9.xenoRefGene.LENGTH0.7710.0020.773
monDom1.genscan.LENGTH0.0610.0030.064
monDom4.ensGene.LENGTH0.0710.0000.071
monDom4.geneSymbol.LENGTH0.0030.0000.003
monDom4.genscan.LENGTH0.0530.0000.053
monDom4.nscanGene.LENGTH0.0530.0000.053
monDom4.refGene.LENGTH0.0020.0010.003
monDom4.xenoRefGene.LENGTH0.3400.0010.340
monDom5.ensGene.LENGTH0.1120.0010.113
monDom5.geneSymbol.LENGTH0.0040.0000.004
monDom5.genscan.LENGTH0.0530.0010.054
monDom5.nscanGene.LENGTH0.1140.0010.115
monDom5.refGene.LENGTH0.0030.0000.004
monDom5.xenoRefGene.LENGTH0.5570.0030.560
ornAna1.ensGene.LENGTH0.0920.0010.093
ornAna1.geneSymbol.LENGTH0.0020.0000.002
ornAna1.refGene.LENGTH0.0010.0010.002
ornAna1.xenoRefGene.LENGTH0.5870.0020.589
oryLat2.ensGene.LENGTH1.2000.1211.321
oryLat2.geneSymbol.LENGTH0.0040.0000.004
oryLat2.refGene.LENGTH0.0020.0010.003
oryLat2.xenoRefGene.LENGTH0.4610.0040.465
panTro1.ensGene.LENGTH0.0940.0010.096
panTro1.geneid.LENGTH0.0450.0000.045
panTro1.genscan.LENGTH0.0560.0000.055
panTro1.xenoRefGene.LENGTH0.1060.0010.107
panTro2.ensGene.LENGTH0.1040.0000.103
panTro2.geneSymbol.LENGTH0.0950.0000.095
panTro2.genscan.LENGTH0.0560.0000.056
panTro2.nscanGene.LENGTH0.060.000.06
panTro2.refGene.LENGTH0.0980.0000.098
panTro2.xenoRefGene.LENGTH0.4630.0010.464
petMar1.xenoRefGene.LENGTH0.2500.0000.251
ponAbe2.ensGene.LENGTH0.0780.0010.079
ponAbe2.geneSymbol.LENGTH0.0110.0010.012
ponAbe2.genscan.LENGTH0.0600.0000.061
ponAbe2.nscanGene.LENGTH0.0560.0000.057
ponAbe2.refGene.LENGTH0.0100.0000.011
ponAbe2.xenoRefGene.LENGTH0.6180.0040.622
priPac1.xenoRefGene.LENGTH0.3570.0020.359
rheMac2.ensGene.LENGTH0.1240.0000.124
rheMac2.geneSymbol.LENGTH0.0050.0000.005
rheMac2.geneid.LENGTH0.0660.0010.067
rheMac2.nscanGene.LENGTH0.0550.0010.057
rheMac2.refGene.LENGTH0.0040.0000.005
rheMac2.sgpGene.LENGTH0.0640.0010.065
rheMac2.xenoRefGene.LENGTH0.4410.0010.442
rn3.ensGene.LENGTH0.0950.0000.095
rn3.geneSymbol.LENGTH0.0500.0010.051
rn3.geneid.LENGTH0.0490.0000.049
rn3.genscan.LENGTH0.0570.0020.059
rn3.knownGene.LENGTH0.0210.0010.022
rn3.nscanGene.LENGTH0.0540.0020.056
rn3.refGene.LENGTH0.0470.0020.048
rn3.sgpGene.LENGTH0.0550.0000.055
rn3.xenoRefGene.LENGTH0.5110.0030.514
rn4.ensGene.LENGTH0.1210.0000.121
rn4.geneSymbol.LENGTH0.0490.0020.051
rn4.geneid.LENGTH0.0770.0030.079
rn4.genscan.LENGTH0.0560.0020.058
rn4.knownGene.LENGTH0.0220.0010.023
rn4.nscanGene.LENGTH0.0460.0020.048
rn4.refGene.LENGTH0.0440.0010.045
rn4.sgpGene.LENGTH0.0740.0000.074
rn4.xenoRefGene.LENGTH0.2870.0020.289
sacCer1.ensGene.LENGTH0.0170.0000.018
sacCer2.ensGene.LENGTH0.0150.0000.016
strPur1.geneSymbol.LENGTH0.0040.0000.004
strPur1.genscan.LENGTH0.0620.0000.061
strPur1.refGene.LENGTH0.0030.0000.004
strPur1.xenoRefGene.LENGTH0.4270.0010.428
strPur2.geneSymbol.LENGTH0.0040.0000.004
strPur2.genscan.LENGTH0.0990.0010.100
strPur2.refGene.LENGTH0.0030.0010.003
strPur2.xenoRefGene.LENGTH0.6420.0030.645
supportedGeneIDs3.7530.7906.786
supportedGenomes0.2290.0620.981
taeGut1.ensGene.LENGTH0.0690.0080.077
taeGut1.geneSymbol.LENGTH0.0020.0000.003
taeGut1.genscan.LENGTH0.0290.0040.033
taeGut1.nscanGene.LENGTH0.0260.0000.027
taeGut1.refGene.LENGTH0.0030.0000.003
taeGut1.xenoRefGene.LENGTH0.5260.0160.542
tetNig1.ensGene.LENGTH0.0880.0050.093
tetNig1.geneid.LENGTH0.0660.0030.069
tetNig1.genscan.LENGTH0.0510.0000.052
tetNig1.nscanGene.LENGTH0.0640.0060.070
tetNig2.ensGene.LENGTH0.0720.0000.072
unfactor0.0030.0010.004
xenTro1.genscan.LENGTH0.0870.0020.089
xenTro2.ensGene.LENGTH0.0950.0010.096
xenTro2.geneSymbol.LENGTH0.0300.0010.031
xenTro2.genscan.LENGTH0.0730.0010.074
xenTro2.refGene.LENGTH0.0270.0020.028