Back to Build/check report for BioC 3.21 experimental data
ABCDEF[G]HIJKLMNOPQRSTUVWXYZ

This page was generated on 2025-02-18 15:01 -0500 (Tue, 18 Feb 2025).

HostnameOSArch (*)R versionInstalled pkgs
nebbiolo1Linux (Ubuntu 24.04.1 LTS)x86_64R Under development (unstable) (2025-01-20 r87609) -- "Unsuffered Consequences" 4720
Click on any hostname to see more info about the system (e.g. compilers)      (*) as reported by 'uname -p', except on Windows and Mac OS X

Package 147/430HostnameOS / ArchINSTALLBUILDCHECK
geneLenDataBase 1.43.0  (landing page)
Federico Marini
Snapshot Date: 2025-02-18 07:30 -0500 (Tue, 18 Feb 2025)
git_url: https://git.bioconductor.org/packages/geneLenDataBase
git_branch: devel
git_last_commit: 9a7cf99
git_last_commit_date: 2024-10-29 09:27:50 -0500 (Tue, 29 Oct 2024)
nebbiolo1Linux (Ubuntu 24.04.1 LTS) / x86_64  OK    OK    OK  UNNEEDED, same version is already published


CHECK results for geneLenDataBase on nebbiolo1

To the developers/maintainers of the geneLenDataBase package:
- Use the following Renviron settings to reproduce errors and warnings.
- If 'R CMD check' started to fail recently on the Linux builder(s) over a missing dependency, add the missing dependency to 'Suggests:' in your DESCRIPTION file. See Renviron.bioc for more information.

raw results


Summary

Package: geneLenDataBase
Version: 1.43.0
Command: /home/biocbuild/bbs-3.21-bioc/R/bin/R CMD check --install=check:geneLenDataBase.install-out.txt --library=/home/biocbuild/bbs-3.21-bioc/R/site-library --timings geneLenDataBase_1.43.0.tar.gz
StartedAt: 2025-02-18 12:07:46 -0500 (Tue, 18 Feb 2025)
EndedAt: 2025-02-18 12:16:53 -0500 (Tue, 18 Feb 2025)
EllapsedTime: 546.7 seconds
RetCode: 0
Status:   OK  
CheckDir: geneLenDataBase.Rcheck
Warnings: 0

Command output

##############################################################################
##############################################################################
###
### Running command:
###
###   /home/biocbuild/bbs-3.21-bioc/R/bin/R CMD check --install=check:geneLenDataBase.install-out.txt --library=/home/biocbuild/bbs-3.21-bioc/R/site-library --timings geneLenDataBase_1.43.0.tar.gz
###
##############################################################################
##############################################################################


* using log directory ‘/home/biocbuild/bbs-3.21-data-experiment/meat/geneLenDataBase.Rcheck’
* using R Under development (unstable) (2025-01-20 r87609)
* using platform: x86_64-pc-linux-gnu
* R was compiled by
    gcc (Ubuntu 13.3.0-6ubuntu2~24.04) 13.3.0
    GNU Fortran (Ubuntu 13.3.0-6ubuntu2~24.04) 13.3.0
* running under: Ubuntu 24.04.2 LTS
* using session charset: UTF-8
* checking for file ‘geneLenDataBase/DESCRIPTION’ ... OK
* this is package ‘geneLenDataBase’ version ‘1.43.0’
* package encoding: UTF-8
* checking package namespace information ... OK
* checking package dependencies ... OK
* checking if this is a source package ... OK
* checking if there is a namespace ... OK
* checking for hidden files and directories ... OK
* checking for portable file names ... OK
* checking for sufficient/correct file permissions ... OK
* checking whether package ‘geneLenDataBase’ can be installed ... OK
* checking installed package size ... INFO
  installed size is 100.0Mb
  sub-directories of 1Mb or more:
    data  99.5Mb
* checking package directory ... OK
* checking DESCRIPTION meta-information ... OK
* checking top-level files ... OK
* checking for left-over files ... OK
* checking index information ... OK
* checking package subdirectories ... OK
* checking code files for non-ASCII characters ... OK
* checking R files for syntax errors ... OK
* checking whether the package can be loaded ... OK
* checking whether the package can be loaded with stated dependencies ... OK
* checking whether the package can be unloaded cleanly ... OK
* checking whether the namespace can be loaded with stated dependencies ... OK
* checking whether the namespace can be unloaded cleanly ... OK
* checking loading without being on the library search path ... OK
* checking dependencies in R code ... NOTE
Unexported object imported by a ':::' call: ‘txdbmaker:::.UCSC_TXNAME2GENEID_MAPDEFS’
  See the note in ?`:::` about the use of this operator.
* checking S3 generic/method consistency ... OK
* checking replacement functions ... OK
* checking foreign function calls ... OK
* checking R code for possible problems ... OK
* checking Rd files ... OK
* checking Rd metadata ... OK
* checking Rd cross-references ... OK
* checking for missing documentation entries ... OK
* checking for code/documentation mismatches ... OK
* checking Rd \usage sections ... OK
* checking Rd contents ... OK
* checking for unstated dependencies in examples ... OK
* checking contents of ‘data’ directory ... OK
* checking data for non-ASCII characters ... OK
* checking data for ASCII and uncompressed saves ... OK
* checking examples ... OK
Examples with CPU (user + system) or elapsed time > 5s
                  user system elapsed
supportedGeneIDs 3.026  0.417   5.384
* checking PDF version of manual ... OK
* DONE

Status: 1 NOTE
See
  ‘/home/biocbuild/bbs-3.21-data-experiment/meat/geneLenDataBase.Rcheck/00check.log’
for details.


Installation output

geneLenDataBase.Rcheck/00install.out

##############################################################################
##############################################################################
###
### Running command:
###
###   /home/biocbuild/bbs-3.21-bioc/R/bin/R CMD INSTALL geneLenDataBase
###
##############################################################################
##############################################################################


* installing to library ‘/home/biocbuild/bbs-3.21-bioc/R/site-library’
* installing *source* package ‘geneLenDataBase’ ...
** this is package ‘geneLenDataBase’ version ‘1.43.0’
** using staged installation
** R
** data
** byte-compile and prepare package for lazy loading
** help
*** installing help indices
** building package indices
** testing if installed package can be loaded from temporary location
** testing if installed package can be loaded from final location
** testing if installed package keeps a record of temporary installation path
* DONE (geneLenDataBase)

Tests output


Example timings

geneLenDataBase.Rcheck/geneLenDataBase-Ex.timings

nameusersystemelapsed
anoCar1.ensGene.LENGTH0.0690.0120.082
anoCar1.genscan.LENGTH0.0480.0000.049
anoCar1.xenoRefGene.LENGTH1.6590.0441.705
anoGam1.ensGene.LENGTH0.0650.0010.067
anoGam1.geneid.LENGTH0.0430.0030.047
anoGam1.genscan.LENGTH0.0400.0030.043
apiMel1.genscan.LENGTH0.0370.0010.037
apiMel2.ensGene.LENGTH0.0880.0040.093
apiMel2.geneid.LENGTH0.0490.0020.050
apiMel2.genscan.LENGTH0.0350.0000.036
aplCal1.xenoRefGene.LENGTH0.4900.0020.491
bosTau2.geneSymbol.LENGTH0.0460.0000.046
bosTau2.geneid.LENGTH0.3010.0130.315
bosTau2.genscan.LENGTH0.0850.0010.087
bosTau2.refGene.LENGTH0.0420.0000.042
bosTau2.sgpGene.LENGTH0.1060.0000.107
bosTau3.ensGene.LENGTH0.1090.0000.110
bosTau3.geneSymbol.LENGTH0.0400.0070.048
bosTau3.geneid.LENGTH0.1260.0070.133
bosTau3.genscan.LENGTH0.0730.0040.078
bosTau3.refGene.LENGTH0.0320.0020.034
bosTau3.sgpGene.LENGTH0.0910.0010.093
bosTau4.ensGene.LENGTH0.1030.0020.105
bosTau4.geneSymbol.LENGTH0.0360.0000.037
bosTau4.genscan.LENGTH0.0710.0000.071
bosTau4.nscanGene.LENGTH0.0310.0000.032
bosTau4.refGene.LENGTH0.0330.0000.033
braFlo1.xenoRefGene.LENGTH0.4270.0040.432
caeJap1.xenoRefGene.LENGTH0.4490.0060.457
caePb1.xenoRefGene.LENGTH0.4370.0090.447
caePb2.xenoRefGene.LENGTH0.4400.0040.443
caeRem2.xenoRefGene.LENGTH0.3900.0020.393
caeRem3.xenoRefGene.LENGTH0.3780.0020.381
calJac1.genscan.LENGTH0.0820.0040.085
calJac1.nscanGene.LENGTH0.1030.0020.107
calJac1.xenoRefGene.LENGTH0.6800.0030.684
canFam1.ensGene.LENGTH0.1090.0030.112
canFam1.geneSymbol.LENGTH0.0060.0000.006
canFam1.genscan.LENGTH0.0610.0030.064
canFam1.nscanGene.LENGTH0.0630.0010.064
canFam1.refGene.LENGTH0.0050.0000.005
canFam1.xenoRefGene.LENGTH0.6250.0030.629
canFam2.ensGene.LENGTH0.0910.0040.095
canFam2.geneSymbol.LENGTH0.0060.0000.006
canFam2.genscan.LENGTH0.0530.0030.056
canFam2.nscanGene.LENGTH0.0620.0000.062
canFam2.refGene.LENGTH0.0050.0000.005
canFam2.xenoRefGene.LENGTH0.6650.0070.671
cavPor3.ensGene.LENGTH0.0850.0010.086
cavPor3.genscan.LENGTH0.0970.0020.099
cavPor3.nscanGene.LENGTH0.0660.0020.068
cavPor3.xenoRefGene.LENGTH0.6200.0090.628
cb1.xenoRefGene.LENGTH0.4350.0020.436
cb3.xenoRefGene.LENGTH0.3880.0010.389
ce2.geneSymbol.LENGTH0.0720.0080.079
ce2.geneid.LENGTH0.0600.0020.063
ce2.refGene.LENGTH0.0650.0060.071
ce4.geneSymbol.LENGTH0.0720.0000.071
ce4.refGene.LENGTH0.0620.0020.064
ce4.xenoRefGene.LENGTH0.0900.0000.089
ce6.ensGene.LENGTH0.1010.0020.102
ce6.geneSymbol.LENGTH0.0730.0010.073
ce6.refGene.LENGTH0.0660.0010.067
ce6.xenoRefGene.LENGTH0.0840.0020.087
ci1.geneSymbol.LENGTH0.0030.0020.006
ci1.refGene.LENGTH0.0040.0010.005
ci1.xenoRefGene.LENGTH0.1940.0010.194
ci2.ensGene.LENGTH0.1990.0070.206
ci2.geneSymbol.LENGTH0.0050.0000.005
ci2.refGene.LENGTH0.0040.0010.004
ci2.xenoRefGene.LENGTH0.2870.0000.286
danRer3.ensGene.LENGTH0.1010.0000.101
danRer3.geneSymbol.LENGTH0.0540.0000.055
danRer3.refGene.LENGTH0.0470.0010.048
danRer4.ensGene.LENGTH0.1140.0000.113
danRer4.geneSymbol.LENGTH0.0500.0010.052
danRer4.genscan.LENGTH0.0610.0010.062
danRer4.nscanGene.LENGTH0.090.000.09
danRer4.refGene.LENGTH0.0490.0000.049
danRer5.ensGene.LENGTH0.1140.0010.115
danRer5.geneSymbol.LENGTH0.0490.0000.048
danRer5.refGene.LENGTH0.0450.0000.045
danRer5.vegaGene.LENGTH0.0480.0010.049
danRer5.vegaPseudoGene.LENGTH0.0010.0010.003
danRer6.ensGene.LENGTH0.1170.0020.119
danRer6.geneSymbol.LENGTH0.0510.0010.052
danRer6.refGene.LENGTH0.0460.0020.048
danRer6.xenoRefGene.LENGTH0.5290.0000.528
dm1.geneSymbol.LENGTH0.0640.0010.065
dm1.genscan.LENGTH0.0250.0000.025
dm1.refGene.LENGTH0.0590.0010.061
dm2.geneSymbol.LENGTH0.0640.0000.064
dm2.geneid.LENGTH0.0400.0000.039
dm2.genscan.LENGTH0.0260.0000.025
dm2.nscanGene.LENGTH0.0520.0000.051
dm2.refGene.LENGTH0.0570.0020.059
dm3.geneSymbol.LENGTH0.0710.0020.072
dm3.nscanPasaGene.LENGTH0.0550.0000.054
dm3.refGene.LENGTH0.0670.0010.069
downloadLengthFromUCSC0.0000.0000.001
dp2.genscan.LENGTH0.0320.0010.034
dp2.xenoRefGene.LENGTH0.2050.0010.207
dp3.geneid.LENGTH0.0400.0010.042
dp3.genscan.LENGTH0.0270.0000.027
dp3.xenoRefGene.LENGTH0.1130.0010.115
droAna1.geneid.LENGTH0.0730.0010.074
droAna1.genscan.LENGTH0.0220.0000.022
droAna1.xenoRefGene.LENGTH0.2090.0020.212
droAna2.genscan.LENGTH0.0490.0020.052
droAna2.xenoRefGene.LENGTH0.3050.0040.309
droEre1.genscan.LENGTH0.0300.0020.033
droEre1.xenoRefGene.LENGTH0.3840.0100.394
droGri1.genscan.LENGTH0.0390.0010.040
droGri1.xenoRefGene.LENGTH0.2710.0000.270
droMoj1.geneid.LENGTH0.2280.0040.232
droMoj1.genscan.LENGTH0.0560.0010.057
droMoj1.xenoRefGene.LENGTH0.2260.0020.228
droMoj2.genscan.LENGTH0.0340.0020.037
droMoj2.xenoRefGene.LENGTH0.2990.0020.301
droPer1.genscan.LENGTH0.0400.0000.039
droPer1.xenoRefGene.LENGTH0.2940.0010.295
droSec1.genscan.LENGTH0.0290.0000.030
droSec1.xenoRefGene.LENGTH0.2730.0030.277
droSim1.geneid.LENGTH0.0370.0000.037
droSim1.genscan.LENGTH0.0250.0000.024
droSim1.xenoRefGene.LENGTH0.2390.0010.240
droVir1.geneid.LENGTH0.1810.0010.181
droVir1.genscan.LENGTH0.0420.0020.045
droVir1.xenoRefGene.LENGTH0.2550.0030.258
droVir2.genscan.LENGTH0.0370.0000.036
droVir2.xenoRefGene.LENGTH0.2690.0010.269
droYak1.geneid.LENGTH0.0450.0000.044
droYak1.genscan.LENGTH0.0280.0020.031
droYak1.xenoRefGene.LENGTH0.2310.0010.232
droYak2.genscan.LENGTH0.0240.0030.028
droYak2.xenoRefGene.LENGTH0.2750.0020.277
equCab1.geneSymbol.LENGTH0.0050.0000.006
equCab1.geneid.LENGTH0.0830.0030.086
equCab1.nscanGene.LENGTH0.0370.0010.039
equCab1.refGene.LENGTH0.0050.0000.005
equCab1.sgpGene.LENGTH0.0670.0000.068
equCab2.ensGene.LENGTH0.0940.0020.097
equCab2.geneSymbol.LENGTH0.0070.0000.006
equCab2.nscanGene.LENGTH0.0520.0010.052
equCab2.refGene.LENGTH0.0070.0000.006
equCab2.xenoRefGene.LENGTH0.8200.0050.824
felCat3.ensGene.LENGTH0.1010.0020.103
felCat3.geneSymbol.LENGTH0.0020.0010.004
felCat3.geneid.LENGTH0.4890.0090.498
felCat3.genscan.LENGTH0.1160.0050.122
felCat3.nscanGene.LENGTH0.0940.0020.095
felCat3.refGene.LENGTH0.0030.0010.004
felCat3.sgpGene.LENGTH1.1110.1411.253
felCat3.xenoRefGene.LENGTH1.0700.0071.077
fr1.ensGene.LENGTH0.0690.0020.070
fr1.genscan.LENGTH0.0540.0000.054
fr2.ensGene.LENGTH0.1340.0060.139
galGal2.ensGene.LENGTH0.0540.0060.061
galGal2.geneSymbol.LENGTH0.0160.0010.017
galGal2.geneid.LENGTH0.0390.0000.039
galGal2.genscan.LENGTH0.0470.0030.050
galGal2.refGene.LENGTH0.0140.0010.015
galGal2.sgpGene.LENGTH0.0430.0000.043
galGal3.ensGene.LENGTH0.0720.0020.074
galGal3.geneSymbol.LENGTH0.0150.0000.016
galGal3.genscan.LENGTH0.0440.0010.046
galGal3.nscanGene.LENGTH0.0680.0010.069
galGal3.refGene.LENGTH0.0120.0010.014
galGal3.xenoRefGene.LENGTH0.4780.0040.482
gasAcu1.ensGene.LENGTH0.0860.0040.090
gasAcu1.nscanGene.LENGTH0.0850.0050.091
hg16.acembly.LENGTH0.3580.0020.360
hg16.ensGene.LENGTH0.0700.0020.072
hg16.exoniphy.LENGTH0.2440.0060.250
hg16.geneSymbol.LENGTH0.1080.0010.108
hg16.geneid.LENGTH0.0490.0010.050
hg16.genscan.LENGTH0.0630.0020.065
hg16.knownGene.LENGTH0.1190.0030.123
hg16.refGene.LENGTH0.0990.0020.102
hg16.sgpGene.LENGTH0.0550.0010.056
hg17.acembly.LENGTH0.4410.0130.454
hg17.acescan.LENGTH0.0090.0020.011
hg17.ccdsGene.LENGTH0.0240.0000.024
hg17.ensGene.LENGTH0.1090.0030.111
hg17.exoniphy.LENGTH0.3760.0040.380
hg17.geneSymbol.LENGTH0.1020.0030.105
hg17.geneid.LENGTH0.0710.0030.074
hg17.genscan.LENGTH0.0550.0010.057
hg17.knownGene.LENGTH0.1050.0020.107
hg17.refGene.LENGTH0.0980.0000.099
hg17.sgpGene.LENGTH0.0680.0020.070
hg17.vegaGene.LENGTH0.0430.0000.043
hg17.vegaPseudoGene.LENGTH0.0170.0020.019
hg17.xenoRefGene.LENGTH0.2140.0030.217
hg18.acembly.LENGTH1.3610.0081.369
hg18.acescan.LENGTH0.0070.0030.010
hg18.ccdsGene.LENGTH0.0310.0000.031
hg18.ensGene.LENGTH0.1660.0000.166
hg18.exoniphy.LENGTH0.4020.0010.403
hg18.geneSymbol.LENGTH0.0940.0000.094
hg18.geneid.LENGTH0.0670.0020.069
hg18.genscan.LENGTH0.0570.0000.058
hg18.knownGene.LENGTH0.1390.0010.140
hg18.knownGeneOld3.LENGTH0.0630.0000.063
hg18.refGene.LENGTH0.0850.0020.086
hg18.sgpGene.LENGTH0.0670.0010.068
hg18.sibGene.LENGTH0.3140.0030.317
hg18.xenoRefGene.LENGTH0.3350.0010.335
hg19.ccdsGene.LENGTH0.0380.0010.039
hg19.ensGene.LENGTH0.2820.0010.283
hg19.exoniphy.LENGTH0.3960.0050.401
hg19.geneSymbol.LENGTH0.0940.0000.095
hg19.knownGene.LENGTH0.1670.0020.169
hg19.nscanGene.LENGTH0.1490.0000.149
hg19.refGene.LENGTH0.0970.0010.098
hg19.xenoRefGene.LENGTH0.3260.0010.327
loxAfr3.xenoRefGene.LENGTH0.7050.0020.707
mm7.ensGene.LENGTH0.1090.0010.110
mm7.geneSymbol.LENGTH0.0810.0010.082
mm7.geneid.LENGTH0.0730.0000.073
mm7.genscan.LENGTH0.0660.0000.066
mm7.knownGene.LENGTH0.0950.0000.095
mm7.refGene.LENGTH0.0800.0000.081
mm7.sgpGene.LENGTH0.0780.0000.079
mm7.xenoRefGene.LENGTH0.5360.0030.540
mm8.ccdsGene.LENGTH0.0220.0000.022
mm8.ensGene.LENGTH0.0740.0000.074
mm8.geneSymbol.LENGTH0.0840.0020.086
mm8.geneid.LENGTH0.0780.0000.079
mm8.genscan.LENGTH0.0580.0010.059
mm8.knownGene.LENGTH0.0890.0010.090
mm8.nscanGene.LENGTH0.0610.0020.063
mm8.refGene.LENGTH0.0800.0000.081
mm8.sgpGene.LENGTH0.0640.0030.067
mm8.sibGene.LENGTH0.4600.0070.467
mm8.xenoRefGene.LENGTH0.3400.0000.341
mm9.acembly.LENGTH0.2880.0010.290
mm9.ccdsGene.LENGTH0.0270.0020.029
mm9.ensGene.LENGTH0.1430.0010.144
mm9.exoniphy.LENGTH0.4140.0000.414
mm9.geneSymbol.LENGTH0.0850.0010.086
mm9.geneid.LENGTH0.2000.0040.204
mm9.genscan.LENGTH0.0600.0010.061
mm9.knownGene.LENGTH0.10.00.1
mm9.nscanGene.LENGTH0.0570.0010.058
mm9.refGene.LENGTH0.0790.0010.080
mm9.sgpGene.LENGTH0.080.000.08
mm9.xenoRefGene.LENGTH0.3440.0020.347
monDom1.genscan.LENGTH0.0590.0010.060
monDom4.ensGene.LENGTH0.070.000.07
monDom4.geneSymbol.LENGTH0.0020.0010.004
monDom4.genscan.LENGTH0.0500.0010.051
monDom4.nscanGene.LENGTH0.0510.0000.051
monDom4.refGene.LENGTH0.0030.0000.003
monDom4.xenoRefGene.LENGTH0.3320.0010.333
monDom5.ensGene.LENGTH0.1060.0010.107
monDom5.geneSymbol.LENGTH0.0030.0010.004
monDom5.genscan.LENGTH0.0520.0010.053
monDom5.nscanGene.LENGTH0.1030.0000.104
monDom5.refGene.LENGTH0.0040.0000.004
monDom5.xenoRefGene.LENGTH0.5590.0080.567
ornAna1.ensGene.LENGTH0.0870.0010.088
ornAna1.geneSymbol.LENGTH0.0030.0000.003
ornAna1.refGene.LENGTH0.0010.0020.002
ornAna1.xenoRefGene.LENGTH0.9960.0071.003
oryLat2.ensGene.LENGTH0.0760.0010.077
oryLat2.geneSymbol.LENGTH0.0030.0010.004
oryLat2.refGene.LENGTH0.0030.0010.004
oryLat2.xenoRefGene.LENGTH0.4570.0030.460
panTro1.ensGene.LENGTH0.0990.0000.099
panTro1.geneid.LENGTH0.0430.0030.046
panTro1.genscan.LENGTH0.0580.0010.060
panTro1.xenoRefGene.LENGTH0.1060.0010.108
panTro2.ensGene.LENGTH0.1090.0010.110
panTro2.geneSymbol.LENGTH0.0970.0000.097
panTro2.genscan.LENGTH0.0590.0010.060
panTro2.nscanGene.LENGTH0.0610.0000.061
panTro2.refGene.LENGTH0.0970.0010.098
panTro2.xenoRefGene.LENGTH0.4770.0030.480
petMar1.xenoRefGene.LENGTH0.2560.0000.257
ponAbe2.ensGene.LENGTH0.0810.0010.082
ponAbe2.geneSymbol.LENGTH0.0110.0010.012
ponAbe2.genscan.LENGTH0.060.000.06
ponAbe2.nscanGene.LENGTH0.0590.0000.059
ponAbe2.refGene.LENGTH0.0100.0010.011
ponAbe2.xenoRefGene.LENGTH0.5840.0080.592
priPac1.xenoRefGene.LENGTH0.3280.0050.333
rheMac2.ensGene.LENGTH0.1240.0010.124
rheMac2.geneSymbol.LENGTH0.0040.0020.005
rheMac2.geneid.LENGTH0.0680.0030.071
rheMac2.nscanGene.LENGTH0.0600.0010.062
rheMac2.refGene.LENGTH0.0050.0000.005
rheMac2.sgpGene.LENGTH0.0700.0010.072
rheMac2.xenoRefGene.LENGTH0.6030.0070.610
rn3.ensGene.LENGTH0.0920.0020.094
rn3.geneSymbol.LENGTH0.0490.0010.050
rn3.geneid.LENGTH0.0500.0000.051
rn3.genscan.LENGTH0.0620.0010.063
rn3.knownGene.LENGTH0.0220.0010.023
rn3.nscanGene.LENGTH0.0590.0000.059
rn3.refGene.LENGTH0.0480.0010.050
rn3.sgpGene.LENGTH0.0560.0010.057
rn3.xenoRefGene.LENGTH0.5250.0000.525
rn4.ensGene.LENGTH0.1210.0000.121
rn4.geneSymbol.LENGTH0.0480.0010.049
rn4.geneid.LENGTH0.0830.0010.084
rn4.genscan.LENGTH0.0570.0020.059
rn4.knownGene.LENGTH0.0220.0020.024
rn4.nscanGene.LENGTH0.0500.0010.051
rn4.refGene.LENGTH0.0470.0010.048
rn4.sgpGene.LENGTH0.0800.0010.081
rn4.xenoRefGene.LENGTH0.3090.0020.312
sacCer1.ensGene.LENGTH0.0170.0010.018
sacCer2.ensGene.LENGTH0.0160.0000.016
strPur1.geneSymbol.LENGTH0.0040.0000.004
strPur1.genscan.LENGTH0.0600.0010.061
strPur1.refGene.LENGTH0.0030.0010.005
strPur1.xenoRefGene.LENGTH0.6600.0020.662
strPur2.geneSymbol.LENGTH0.0030.0010.004
strPur2.genscan.LENGTH0.1130.0230.136
strPur2.refGene.LENGTH0.0040.0000.004
strPur2.xenoRefGene.LENGTH0.5960.0050.601
supportedGeneIDs3.0260.4175.384
supportedGenomes0.2510.0230.954
taeGut1.ensGene.LENGTH0.0560.0030.059
taeGut1.geneSymbol.LENGTH0.0020.0010.002
taeGut1.genscan.LENGTH0.0280.0020.030
taeGut1.nscanGene.LENGTH0.0210.0020.024
taeGut1.refGene.LENGTH0.0020.0010.002
taeGut1.xenoRefGene.LENGTH0.3840.0040.388
tetNig1.ensGene.LENGTH0.0780.0010.079
tetNig1.geneid.LENGTH0.0550.0030.058
tetNig1.genscan.LENGTH0.0450.0010.045
tetNig1.nscanGene.LENGTH0.0610.0020.063
tetNig2.ensGene.LENGTH0.0620.0040.067
unfactor0.0050.0010.006
xenTro1.genscan.LENGTH0.0730.0030.076
xenTro2.ensGene.LENGTH0.0800.0030.083
xenTro2.geneSymbol.LENGTH0.0280.0010.029
xenTro2.genscan.LENGTH0.0650.0010.065
xenTro2.refGene.LENGTH0.0270.0000.027