Back to Build/check report for BioC 3.21 experimental data
AB[C]DEFGHIJKLMNOPQRSTUVWXYZ

This page was generated on 2025-02-18 15:01 -0500 (Tue, 18 Feb 2025).

HostnameOSArch (*)R versionInstalled pkgs
nebbiolo1Linux (Ubuntu 24.04.1 LTS)x86_64R Under development (unstable) (2025-01-20 r87609) -- "Unsuffered Consequences" 4720
Click on any hostname to see more info about the system (e.g. compilers)      (*) as reported by 'uname -p', except on Windows and Mac OS X

Package 85/430HostnameOS / ArchINSTALLBUILDCHECK
curatedPCaData 1.3.0  (landing page)
Teemu Daniel Laajala
Snapshot Date: 2025-02-18 07:30 -0500 (Tue, 18 Feb 2025)
git_url: https://git.bioconductor.org/packages/curatedPCaData
git_branch: devel
git_last_commit: 0f0d29a
git_last_commit_date: 2024-10-29 09:55:11 -0500 (Tue, 29 Oct 2024)
nebbiolo1Linux (Ubuntu 24.04.1 LTS) / x86_64  OK    OK    OK  UNNEEDED, same version is already published


CHECK results for curatedPCaData on nebbiolo1

To the developers/maintainers of the curatedPCaData package:
- Use the following Renviron settings to reproduce errors and warnings.
- If 'R CMD check' started to fail recently on the Linux builder(s) over a missing dependency, add the missing dependency to 'Suggests:' in your DESCRIPTION file. See Renviron.bioc for more information.

raw results


Summary

Package: curatedPCaData
Version: 1.3.0
Command: /home/biocbuild/bbs-3.21-bioc/R/bin/R CMD check --install=check:curatedPCaData.install-out.txt --library=/home/biocbuild/bbs-3.21-bioc/R/site-library --timings curatedPCaData_1.3.0.tar.gz
StartedAt: 2025-02-18 11:55:44 -0500 (Tue, 18 Feb 2025)
EndedAt: 2025-02-18 12:20:10 -0500 (Tue, 18 Feb 2025)
EllapsedTime: 1465.5 seconds
RetCode: 0
Status:   OK  
CheckDir: curatedPCaData.Rcheck
Warnings: 0

Command output

##############################################################################
##############################################################################
###
### Running command:
###
###   /home/biocbuild/bbs-3.21-bioc/R/bin/R CMD check --install=check:curatedPCaData.install-out.txt --library=/home/biocbuild/bbs-3.21-bioc/R/site-library --timings curatedPCaData_1.3.0.tar.gz
###
##############################################################################
##############################################################################


* using log directory ‘/home/biocbuild/bbs-3.21-data-experiment/meat/curatedPCaData.Rcheck’
* using R Under development (unstable) (2025-01-20 r87609)
* using platform: x86_64-pc-linux-gnu
* R was compiled by
    gcc (Ubuntu 13.3.0-6ubuntu2~24.04) 13.3.0
    GNU Fortran (Ubuntu 13.3.0-6ubuntu2~24.04) 13.3.0
* running under: Ubuntu 24.04.2 LTS
* using session charset: UTF-8
* checking for file ‘curatedPCaData/DESCRIPTION’ ... OK
* this is package ‘curatedPCaData’ version ‘1.3.0’
* package encoding: UTF-8
* checking package namespace information ... OK
* checking package dependencies ... OK
* checking if this is a source package ... OK
* checking if there is a namespace ... OK
* checking for hidden files and directories ... OK
* checking for portable file names ... OK
* checking for sufficient/correct file permissions ... OK
* checking whether package ‘curatedPCaData’ can be installed ... OK
* checking installed package size ... OK
* checking package directory ... OK
* checking ‘build’ directory ... OK
* checking DESCRIPTION meta-information ... OK
* checking top-level files ... OK
* checking for left-over files ... OK
* checking index information ... OK
* checking package subdirectories ... OK
* checking code files for non-ASCII characters ... OK
* checking R files for syntax errors ... OK
* checking whether the package can be loaded ... OK
* checking whether the package can be loaded with stated dependencies ... OK
* checking whether the package can be unloaded cleanly ... OK
* checking whether the namespace can be loaded with stated dependencies ... OK
* checking whether the namespace can be unloaded cleanly ... OK
* checking loading without being on the library search path ... OK
* checking dependencies in R code ... OK
* checking S3 generic/method consistency ... OK
* checking replacement functions ... OK
* checking foreign function calls ... OK
* checking R code for possible problems ... OK
* checking Rd files ... OK
* checking Rd metadata ... OK
* checking Rd cross-references ... NOTE
Found the following Rd file(s) with Rd \link{} targets missing package
anchors:
  getPCa.Rd: MultiAssayExperiment-class
Please provide package anchors for all Rd \link{} targets not in the
package itself and the base packages.
* checking for missing documentation entries ... OK
* checking for code/documentation mismatches ... OK
* checking Rd \usage sections ... OK
* checking Rd contents ... OK
* checking for unstated dependencies in examples ... OK
* checking contents of ‘data’ directory ... OK
* checking data for non-ASCII characters ... OK
* checking data for ASCII and uncompressed saves ... OK
* checking R/sysdata.rda ... OK
* checking files in ‘vignettes’ ... OK
* checking examples ... OK
Examples with CPU (user + system) or elapsed time > 5s
                                   user system elapsed
getPCaSummaryStudies            202.892 16.575 238.662
getPCaSummarySamples             27.925  3.293  33.529
getPCaSummaryTable               27.353  1.898  31.710
getPCaSummarySurv                26.695  1.369  30.316
curatedPCaDatasets_taylor        16.442  2.997  20.819
curatedPCaDatasets_abida         17.239  1.343  19.885
getPCa                           14.551  2.015  17.645
curatedPCaDatasets_tcga          14.556  1.943  17.602
curatedPCaDatasets_weiner        12.574  2.350  15.854
curatedPCaDatasets_ren           13.605  1.258  15.872
curatedPCaDatasets_sun           12.342  1.712  14.998
curatedPCaDatasets_barbieri      12.812  1.009  14.941
curatedPCaDatasets_kunderfranco  11.934  1.264  14.172
curatedPCaDatasets_kim           11.884  1.274  15.051
curatedPCaDatasets_friedrich     11.630  1.381  14.883
curatedPCaDatasets_wang          11.129  1.539  13.756
curatedPCaDatasets_icgcca        11.372  1.210  13.532
curatedPCaDatasets_igc           11.445  0.938  13.318
curatedPCaDatasets_wallace       10.904  1.397  13.230
curatedPCaDatasets_chandran      10.636  0.986  15.007
curatedPCaDatasets_true           9.598  0.937  11.392
curatedPCaDatasets_barwick        8.023  0.680   9.516
curatedPCaDatasets_baca           4.583  0.412   5.475
curatedPCaDatasets_hieronymus     4.011  0.950   5.389
* checking for unstated dependencies in ‘tests’ ... OK
* checking tests ...
  Running ‘native_tests.R’
 OK
* checking for unstated dependencies in vignettes ... OK
* checking package vignettes ... OK
* checking re-building of vignette outputs ... OK
* checking PDF version of manual ... OK
* DONE

Status: 1 NOTE
See
  ‘/home/biocbuild/bbs-3.21-data-experiment/meat/curatedPCaData.Rcheck/00check.log’
for details.


Installation output

curatedPCaData.Rcheck/00install.out

##############################################################################
##############################################################################
###
### Running command:
###
###   /home/biocbuild/bbs-3.21-bioc/R/bin/R CMD INSTALL curatedPCaData
###
##############################################################################
##############################################################################


* installing to library ‘/home/biocbuild/bbs-3.21-bioc/R/site-library’
* installing *source* package ‘curatedPCaData’ ...
** this is package ‘curatedPCaData’ version ‘1.3.0’
** using staged installation
** R
** data
** inst
** byte-compile and prepare package for lazy loading
** help
*** installing help indices
*** copying figures
** building package indices
** installing vignettes
** testing if installed package can be loaded from temporary location
** testing if installed package can be loaded from final location
** testing if installed package keeps a record of temporary installation path
* DONE (curatedPCaData)

Tests output

curatedPCaData.Rcheck/tests/native_tests.Rout


R Under development (unstable) (2025-01-20 r87609) -- "Unsuffered Consequences"
Copyright (C) 2025 The R Foundation for Statistical Computing
Platform: x86_64-pc-linux-gnu

R is free software and comes with ABSOLUTELY NO WARRANTY.
You are welcome to redistribute it under certain conditions.
Type 'license()' or 'licence()' for distribution details.

R is a collaborative project with many contributors.
Type 'contributors()' for more information and
'citation()' on how to cite R or R packages in publications.

Type 'demo()' for some demos, 'help()' for on-line help, or
'help.start()' for an HTML browser interface to help.
Type 'q()' to quit R.

> ###
> #
> # Native 'R CMD check' tests run on the 'curatedPCaData'-package
> # Any exceptions will count as a failure for 'R CMD check' run (notably, does 
> # not require 'RUnit' or 'testthat' packages for testing)
> #
> ###
> 
> ##
> # Testing of getPCa main functionality
> ##
> 
> # Test retrieval of TCGA with all assays
> # Get default fetching of a MAE object based on short id
> methods::is(curatedPCaData::getPCa("tcga"), "MultiAssayExperiment")
see ?curatedPCaData and browseVignettes('curatedPCaData') for documentation
loading from cache
see ?curatedPCaData and browseVignettes('curatedPCaData') for documentation
loading from cache
see ?curatedPCaData and browseVignettes('curatedPCaData') for documentation
loading from cache
see ?curatedPCaData and browseVignettes('curatedPCaData') for documentation
loading from cache
see ?curatedPCaData and browseVignettes('curatedPCaData') for documentation
loading from cache
see ?curatedPCaData and browseVignettes('curatedPCaData') for documentation
loading from cache
see ?curatedPCaData and browseVignettes('curatedPCaData') for documentation
loading from cache
see ?curatedPCaData and browseVignettes('curatedPCaData') for documentation
loading from cache
see ?curatedPCaData and browseVignettes('curatedPCaData') for documentation
loading from cache
see ?curatedPCaData and browseVignettes('curatedPCaData') for documentation
loading from cache
see ?curatedPCaData and browseVignettes('curatedPCaData') for documentation
loading from cache
see ?curatedPCaData and browseVignettes('curatedPCaData') for documentation
loading from cache
Constructing the MultiAssayExperiment object from retrieved 
        components.
[1] TRUE
> 
> # Test retrieval of Taylor with a pre-specified subset of assays
> # Get fetching of an assay subset
> methods::is(curatedPCaData::getPCa("taylor", assays = c("gex.rma", "cibersort", 
+     "scores")), "MultiAssayExperiment")
see ?curatedPCaData and browseVignettes('curatedPCaData') for documentation
loading from cache
see ?curatedPCaData and browseVignettes('curatedPCaData') for documentation
loading from cache
see ?curatedPCaData and browseVignettes('curatedPCaData') for documentation
loading from cache
see ?curatedPCaData and browseVignettes('curatedPCaData') for documentation
loading from cache
see ?curatedPCaData and browseVignettes('curatedPCaData') for documentation
loading from cache
Constructing the MultiAssayExperiment object from retrieved 
        components.
harmonizing input:
  removing 1350 sampleMap rows not in names(experiments)
  removing 68 colData rownames not in sampleMap 'primary'
[1] TRUE
> 
> # Test a data fetch that should result in an error
> # Test that an error is produced correctly for a study that does not exist
> methods::is(try({curatedPCaData::getPCa("studyname_misspelled", assays = 
+     c("foo", "bar"))}, silent=TRUE), "try-error")
[1] TRUE
> 
> # Test fetching of an assay that does not exist
> # Test that an error is produced correctly for assays that do not exist
> methods::is(try({curatedPCaData::getPCa("tcga", assays = "typo")}, 
+     silent=TRUE), "try-error")
[1] TRUE
> 
> # Test sample subtype subsetting during getPCa
> # Get only primary samples from TCGA
> all(curatedPCaData::getPCa("tcga", sampletypes = "primary")$sample_type == 
+     "primary")
see ?curatedPCaData and browseVignettes('curatedPCaData') for documentation
loading from cache
see ?curatedPCaData and browseVignettes('curatedPCaData') for documentation
loading from cache
see ?curatedPCaData and browseVignettes('curatedPCaData') for documentation
loading from cache
see ?curatedPCaData and browseVignettes('curatedPCaData') for documentation
loading from cache
see ?curatedPCaData and browseVignettes('curatedPCaData') for documentation
loading from cache
see ?curatedPCaData and browseVignettes('curatedPCaData') for documentation
loading from cache
see ?curatedPCaData and browseVignettes('curatedPCaData') for documentation
loading from cache
see ?curatedPCaData and browseVignettes('curatedPCaData') for documentation
loading from cache
see ?curatedPCaData and browseVignettes('curatedPCaData') for documentation
loading from cache
see ?curatedPCaData and browseVignettes('curatedPCaData') for documentation
loading from cache
see ?curatedPCaData and browseVignettes('curatedPCaData') for documentation
loading from cache
see ?curatedPCaData and browseVignettes('curatedPCaData') for documentation
loading from cache
Constructing the MultiAssayExperiment object from retrieved 
        components.
[1] TRUE
> # Test omitting metastatic samples from Chandran et al.
> all(curatedPCaData::getPCa("chandran", sampletypes = c("primary", "normal")
+     )$sample_type %in% c("primary", "normal"))
see ?curatedPCaData and browseVignettes('curatedPCaData') for documentation
loading from cache
see ?curatedPCaData and browseVignettes('curatedPCaData') for documentation
loading from cache
see ?curatedPCaData and browseVignettes('curatedPCaData') for documentation
loading from cache
see ?curatedPCaData and browseVignettes('curatedPCaData') for documentation
loading from cache
see ?curatedPCaData and browseVignettes('curatedPCaData') for documentation
loading from cache
see ?curatedPCaData and browseVignettes('curatedPCaData') for documentation
loading from cache
see ?curatedPCaData and browseVignettes('curatedPCaData') for documentation
loading from cache
see ?curatedPCaData and browseVignettes('curatedPCaData') for documentation
loading from cache
see ?curatedPCaData and browseVignettes('curatedPCaData') for documentation
loading from cache
see ?curatedPCaData and browseVignettes('curatedPCaData') for documentation
loading from cache
Constructing the MultiAssayExperiment object from retrieved 
        components.
[1] TRUE
> 
> ##
> # Testing of supporting summary functions etc
> ##
> 
> # Test fetching of study short ids and that the 19 studies originally available 
> # in Laajala et al. 2013 are retrieved correctly
> # Tested function: curatedPCaData::getPCaStudies
> studies <- curatedPCaData::getPCaStudies()
> all(c("abida", "baca", "barbieri", "barwick", "chandran", "friedrich", 
+     "hieronymus", "icgcca", "igc", "kim", "kunderfranco", "ren", "sun", 
+     "taylor", "tcga", "true", "wallace", "wang", "weiner") %in% studies)
[1] TRUE
> 
> # Fetch MAE objects for further use
> maes <- lapply(studies, FUN=\(id) { curatedPCaData::getPCa(id) })
see ?curatedPCaData and browseVignettes('curatedPCaData') for documentation
loading from cache
see ?curatedPCaData and browseVignettes('curatedPCaData') for documentation
loading from cache
see ?curatedPCaData and browseVignettes('curatedPCaData') for documentation
loading from cache
see ?curatedPCaData and browseVignettes('curatedPCaData') for documentation
loading from cache
see ?curatedPCaData and browseVignettes('curatedPCaData') for documentation
loading from cache
see ?curatedPCaData and browseVignettes('curatedPCaData') for documentation
loading from cache
see ?curatedPCaData and browseVignettes('curatedPCaData') for documentation
loading from cache
see ?curatedPCaData and browseVignettes('curatedPCaData') for documentation
loading from cache
see ?curatedPCaData and browseVignettes('curatedPCaData') for documentation
loading from cache
see ?curatedPCaData and browseVignettes('curatedPCaData') for documentation
loading from cache
see ?curatedPCaData and browseVignettes('curatedPCaData') for documentation
loading from cache
see ?curatedPCaData and browseVignettes('curatedPCaData') for documentation
loading from cache
Constructing the MultiAssayExperiment object from retrieved 
        components.
see ?curatedPCaData and browseVignettes('curatedPCaData') for documentation
loading from cache
see ?curatedPCaData and browseVignettes('curatedPCaData') for documentation
loading from cache
see ?curatedPCaData and browseVignettes('curatedPCaData') for documentation
loading from cache
see ?curatedPCaData and browseVignettes('curatedPCaData') for documentation
loading from cache
Constructing the MultiAssayExperiment object from retrieved 
        components.
see ?curatedPCaData and browseVignettes('curatedPCaData') for documentation
loading from cache
see ?curatedPCaData and browseVignettes('curatedPCaData') for documentation
loading from cache
see ?curatedPCaData and browseVignettes('curatedPCaData') for documentation
loading from cache
see ?curatedPCaData and browseVignettes('curatedPCaData') for documentation
loading from cache
see ?curatedPCaData and browseVignettes('curatedPCaData') for documentation
loading from cache
see ?curatedPCaData and browseVignettes('curatedPCaData') for documentation
loading from cache
see ?curatedPCaData and browseVignettes('curatedPCaData') for documentation
loading from cache
see ?curatedPCaData and browseVignettes('curatedPCaData') for documentation
loading from cache
see ?curatedPCaData and browseVignettes('curatedPCaData') for documentation
loading from cache
see ?curatedPCaData and browseVignettes('curatedPCaData') for documentation
loading from cache
see ?curatedPCaData and browseVignettes('curatedPCaData') for documentation
loading from cache
see ?curatedPCaData and browseVignettes('curatedPCaData') for documentation
loading from cache
Constructing the MultiAssayExperiment object from retrieved 
        components.
see ?curatedPCaData and browseVignettes('curatedPCaData') for documentation
loading from cache
see ?curatedPCaData and browseVignettes('curatedPCaData') for documentation
loading from cache
see ?curatedPCaData and browseVignettes('curatedPCaData') for documentation
loading from cache
see ?curatedPCaData and browseVignettes('curatedPCaData') for documentation
loading from cache
see ?curatedPCaData and browseVignettes('curatedPCaData') for documentation
loading from cache
see ?curatedPCaData and browseVignettes('curatedPCaData') for documentation
loading from cache
see ?curatedPCaData and browseVignettes('curatedPCaData') for documentation
loading from cache
see ?curatedPCaData and browseVignettes('curatedPCaData') for documentation
loading from cache
Constructing the MultiAssayExperiment object from retrieved 
        components.
see ?curatedPCaData and browseVignettes('curatedPCaData') for documentation
loading from cache
see ?curatedPCaData and browseVignettes('curatedPCaData') for documentation
loading from cache
see ?curatedPCaData and browseVignettes('curatedPCaData') for documentation
loading from cache
see ?curatedPCaData and browseVignettes('curatedPCaData') for documentation
loading from cache
see ?curatedPCaData and browseVignettes('curatedPCaData') for documentation
loading from cache
see ?curatedPCaData and browseVignettes('curatedPCaData') for documentation
loading from cache
see ?curatedPCaData and browseVignettes('curatedPCaData') for documentation
loading from cache
see ?curatedPCaData and browseVignettes('curatedPCaData') for documentation
loading from cache
see ?curatedPCaData and browseVignettes('curatedPCaData') for documentation
loading from cache
see ?curatedPCaData and browseVignettes('curatedPCaData') for documentation
loading from cache
Constructing the MultiAssayExperiment object from retrieved 
        components.
see ?curatedPCaData and browseVignettes('curatedPCaData') for documentation
loading from cache
see ?curatedPCaData and browseVignettes('curatedPCaData') for documentation
loading from cache
see ?curatedPCaData and browseVignettes('curatedPCaData') for documentation
loading from cache
see ?curatedPCaData and browseVignettes('curatedPCaData') for documentation
loading from cache
see ?curatedPCaData and browseVignettes('curatedPCaData') for documentation
loading from cache
see ?curatedPCaData and browseVignettes('curatedPCaData') for documentation
loading from cache
see ?curatedPCaData and browseVignettes('curatedPCaData') for documentation
loading from cache
see ?curatedPCaData and browseVignettes('curatedPCaData') for documentation
loading from cache
see ?curatedPCaData and browseVignettes('curatedPCaData') for documentation
loading from cache
see ?curatedPCaData and browseVignettes('curatedPCaData') for documentation
loading from cache
Constructing the MultiAssayExperiment object from retrieved 
        components.
see ?curatedPCaData and browseVignettes('curatedPCaData') for documentation
loading from cache
see ?curatedPCaData and browseVignettes('curatedPCaData') for documentation
loading from cache
see ?curatedPCaData and browseVignettes('curatedPCaData') for documentation
loading from cache
Constructing the MultiAssayExperiment object from retrieved 
        components.
see ?curatedPCaData and browseVignettes('curatedPCaData') for documentation
loading from cache
see ?curatedPCaData and browseVignettes('curatedPCaData') for documentation
loading from cache
see ?curatedPCaData and browseVignettes('curatedPCaData') for documentation
loading from cache
see ?curatedPCaData and browseVignettes('curatedPCaData') for documentation
loading from cache
see ?curatedPCaData and browseVignettes('curatedPCaData') for documentation
loading from cache
see ?curatedPCaData and browseVignettes('curatedPCaData') for documentation
loading from cache
see ?curatedPCaData and browseVignettes('curatedPCaData') for documentation
loading from cache
see ?curatedPCaData and browseVignettes('curatedPCaData') for documentation
loading from cache
see ?curatedPCaData and browseVignettes('curatedPCaData') for documentation
loading from cache
see ?curatedPCaData and browseVignettes('curatedPCaData') for documentation
loading from cache
Constructing the MultiAssayExperiment object from retrieved 
        components.
see ?curatedPCaData and browseVignettes('curatedPCaData') for documentation
loading from cache
see ?curatedPCaData and browseVignettes('curatedPCaData') for documentation
loading from cache
see ?curatedPCaData and browseVignettes('curatedPCaData') for documentation
loading from cache
see ?curatedPCaData and browseVignettes('curatedPCaData') for documentation
loading from cache
see ?curatedPCaData and browseVignettes('curatedPCaData') for documentation
loading from cache
see ?curatedPCaData and browseVignettes('curatedPCaData') for documentation
loading from cache
see ?curatedPCaData and browseVignettes('curatedPCaData') for documentation
loading from cache
see ?curatedPCaData and browseVignettes('curatedPCaData') for documentation
loading from cache
see ?curatedPCaData and browseVignettes('curatedPCaData') for documentation
loading from cache
see ?curatedPCaData and browseVignettes('curatedPCaData') for documentation
loading from cache
Constructing the MultiAssayExperiment object from retrieved 
        components.
see ?curatedPCaData and browseVignettes('curatedPCaData') for documentation
loading from cache
see ?curatedPCaData and browseVignettes('curatedPCaData') for documentation
loading from cache
see ?curatedPCaData and browseVignettes('curatedPCaData') for documentation
loading from cache
see ?curatedPCaData and browseVignettes('curatedPCaData') for documentation
loading from cache
see ?curatedPCaData and browseVignettes('curatedPCaData') for documentation
loading from cache
see ?curatedPCaData and browseVignettes('curatedPCaData') for documentation
loading from cache
see ?curatedPCaData and browseVignettes('curatedPCaData') for documentation
loading from cache
see ?curatedPCaData and browseVignettes('curatedPCaData') for documentation
loading from cache
see ?curatedPCaData and browseVignettes('curatedPCaData') for documentation
loading from cache
see ?curatedPCaData and browseVignettes('curatedPCaData') for documentation
loading from cache
Constructing the MultiAssayExperiment object from retrieved 
        components.
see ?curatedPCaData and browseVignettes('curatedPCaData') for documentation
loading from cache
see ?curatedPCaData and browseVignettes('curatedPCaData') for documentation
loading from cache
see ?curatedPCaData and browseVignettes('curatedPCaData') for documentation
loading from cache
see ?curatedPCaData and browseVignettes('curatedPCaData') for documentation
loading from cache
see ?curatedPCaData and browseVignettes('curatedPCaData') for documentation
loading from cache
see ?curatedPCaData and browseVignettes('curatedPCaData') for documentation
loading from cache
see ?curatedPCaData and browseVignettes('curatedPCaData') for documentation
loading from cache
see ?curatedPCaData and browseVignettes('curatedPCaData') for documentation
loading from cache
see ?curatedPCaData and browseVignettes('curatedPCaData') for documentation
loading from cache
see ?curatedPCaData and browseVignettes('curatedPCaData') for documentation
loading from cache
Constructing the MultiAssayExperiment object from retrieved 
        components.
see ?curatedPCaData and browseVignettes('curatedPCaData') for documentation
loading from cache
see ?curatedPCaData and browseVignettes('curatedPCaData') for documentation
loading from cache
see ?curatedPCaData and browseVignettes('curatedPCaData') for documentation
loading from cache
see ?curatedPCaData and browseVignettes('curatedPCaData') for documentation
loading from cache
see ?curatedPCaData and browseVignettes('curatedPCaData') for documentation
loading from cache
see ?curatedPCaData and browseVignettes('curatedPCaData') for documentation
loading from cache
see ?curatedPCaData and browseVignettes('curatedPCaData') for documentation
loading from cache
see ?curatedPCaData and browseVignettes('curatedPCaData') for documentation
loading from cache
see ?curatedPCaData and browseVignettes('curatedPCaData') for documentation
loading from cache
see ?curatedPCaData and browseVignettes('curatedPCaData') for documentation
loading from cache
see ?curatedPCaData and browseVignettes('curatedPCaData') for documentation
loading from cache
Constructing the MultiAssayExperiment object from retrieved 
        components.
see ?curatedPCaData and browseVignettes('curatedPCaData') for documentation
loading from cache
see ?curatedPCaData and browseVignettes('curatedPCaData') for documentation
loading from cache
see ?curatedPCaData and browseVignettes('curatedPCaData') for documentation
loading from cache
see ?curatedPCaData and browseVignettes('curatedPCaData') for documentation
loading from cache
see ?curatedPCaData and browseVignettes('curatedPCaData') for documentation
loading from cache
see ?curatedPCaData and browseVignettes('curatedPCaData') for documentation
loading from cache
see ?curatedPCaData and browseVignettes('curatedPCaData') for documentation
loading from cache
see ?curatedPCaData and browseVignettes('curatedPCaData') for documentation
loading from cache
see ?curatedPCaData and browseVignettes('curatedPCaData') for documentation
loading from cache
see ?curatedPCaData and browseVignettes('curatedPCaData') for documentation
loading from cache
Constructing the MultiAssayExperiment object from retrieved 
        components.
see ?curatedPCaData and browseVignettes('curatedPCaData') for documentation
loading from cache
see ?curatedPCaData and browseVignettes('curatedPCaData') for documentation
loading from cache
see ?curatedPCaData and browseVignettes('curatedPCaData') for documentation
loading from cache
see ?curatedPCaData and browseVignettes('curatedPCaData') for documentation
loading from cache
see ?curatedPCaData and browseVignettes('curatedPCaData') for documentation
loading from cache
see ?curatedPCaData and browseVignettes('curatedPCaData') for documentation
loading from cache
see ?curatedPCaData and browseVignettes('curatedPCaData') for documentation
loading from cache
see ?curatedPCaData and browseVignettes('curatedPCaData') for documentation
loading from cache
see ?curatedPCaData and browseVignettes('curatedPCaData') for documentation
loading from cache
see ?curatedPCaData and browseVignettes('curatedPCaData') for documentation
loading from cache
see ?curatedPCaData and browseVignettes('curatedPCaData') for documentation
loading from cache
see ?curatedPCaData and browseVignettes('curatedPCaData') for documentation
loading from cache
see ?curatedPCaData and browseVignettes('curatedPCaData') for documentation
loading from cache
Constructing the MultiAssayExperiment object from retrieved 
        components.
see ?curatedPCaData and browseVignettes('curatedPCaData') for documentation
loading from cache
see ?curatedPCaData and browseVignettes('curatedPCaData') for documentation
loading from cache
see ?curatedPCaData and browseVignettes('curatedPCaData') for documentation
loading from cache
see ?curatedPCaData and browseVignettes('curatedPCaData') for documentation
loading from cache
see ?curatedPCaData and browseVignettes('curatedPCaData') for documentation
loading from cache
see ?curatedPCaData and browseVignettes('curatedPCaData') for documentation
loading from cache
see ?curatedPCaData and browseVignettes('curatedPCaData') for documentation
loading from cache
see ?curatedPCaData and browseVignettes('curatedPCaData') for documentation
loading from cache
see ?curatedPCaData and browseVignettes('curatedPCaData') for documentation
loading from cache
see ?curatedPCaData and browseVignettes('curatedPCaData') for documentation
loading from cache
see ?curatedPCaData and browseVignettes('curatedPCaData') for documentation
loading from cache
see ?curatedPCaData and browseVignettes('curatedPCaData') for documentation
loading from cache
Constructing the MultiAssayExperiment object from retrieved 
        components.
see ?curatedPCaData and browseVignettes('curatedPCaData') for documentation
loading from cache
see ?curatedPCaData and browseVignettes('curatedPCaData') for documentation
loading from cache
see ?curatedPCaData and browseVignettes('curatedPCaData') for documentation
loading from cache
see ?curatedPCaData and browseVignettes('curatedPCaData') for documentation
loading from cache
see ?curatedPCaData and browseVignettes('curatedPCaData') for documentation
loading from cache
see ?curatedPCaData and browseVignettes('curatedPCaData') for documentation
loading from cache
see ?curatedPCaData and browseVignettes('curatedPCaData') for documentation
loading from cache
see ?curatedPCaData and browseVignettes('curatedPCaData') for documentation
loading from cache
see ?curatedPCaData and browseVignettes('curatedPCaData') for documentation
loading from cache
Constructing the MultiAssayExperiment object from retrieved 
        components.
see ?curatedPCaData and browseVignettes('curatedPCaData') for documentation
loading from cache
see ?curatedPCaData and browseVignettes('curatedPCaData') for documentation
loading from cache
see ?curatedPCaData and browseVignettes('curatedPCaData') for documentation
loading from cache
see ?curatedPCaData and browseVignettes('curatedPCaData') for documentation
loading from cache
see ?curatedPCaData and browseVignettes('curatedPCaData') for documentation
loading from cache
see ?curatedPCaData and browseVignettes('curatedPCaData') for documentation
loading from cache
see ?curatedPCaData and browseVignettes('curatedPCaData') for documentation
loading from cache
see ?curatedPCaData and browseVignettes('curatedPCaData') for documentation
loading from cache
see ?curatedPCaData and browseVignettes('curatedPCaData') for documentation
loading from cache
see ?curatedPCaData and browseVignettes('curatedPCaData') for documentation
loading from cache
Constructing the MultiAssayExperiment object from retrieved 
        components.
see ?curatedPCaData and browseVignettes('curatedPCaData') for documentation
loading from cache
see ?curatedPCaData and browseVignettes('curatedPCaData') for documentation
loading from cache
see ?curatedPCaData and browseVignettes('curatedPCaData') for documentation
loading from cache
see ?curatedPCaData and browseVignettes('curatedPCaData') for documentation
loading from cache
see ?curatedPCaData and browseVignettes('curatedPCaData') for documentation
loading from cache
see ?curatedPCaData and browseVignettes('curatedPCaData') for documentation
loading from cache
see ?curatedPCaData and browseVignettes('curatedPCaData') for documentation
loading from cache
see ?curatedPCaData and browseVignettes('curatedPCaData') for documentation
loading from cache
see ?curatedPCaData and browseVignettes('curatedPCaData') for documentation
loading from cache
see ?curatedPCaData and browseVignettes('curatedPCaData') for documentation
loading from cache
Constructing the MultiAssayExperiment object from retrieved 
        components.
see ?curatedPCaData and browseVignettes('curatedPCaData') for documentation
loading from cache
see ?curatedPCaData and browseVignettes('curatedPCaData') for documentation
loading from cache
see ?curatedPCaData and browseVignettes('curatedPCaData') for documentation
loading from cache
see ?curatedPCaData and browseVignettes('curatedPCaData') for documentation
loading from cache
see ?curatedPCaData and browseVignettes('curatedPCaData') for documentation
loading from cache
see ?curatedPCaData and browseVignettes('curatedPCaData') for documentation
loading from cache
see ?curatedPCaData and browseVignettes('curatedPCaData') for documentation
loading from cache
see ?curatedPCaData and browseVignettes('curatedPCaData') for documentation
loading from cache
see ?curatedPCaData and browseVignettes('curatedPCaData') for documentation
loading from cache
see ?curatedPCaData and browseVignettes('curatedPCaData') for documentation
loading from cache
Constructing the MultiAssayExperiment object from retrieved 
        components.
> names(maes) <- studies
> 
> # getPCaSummaryTable should summarize into a character matrix key instances and 
> # percentages for certain values for a given colData metadata variable
> # Tested function: curatedPCaData::getPCaSummaryTable
> inherits(curatedPCaData::getPCaSummaryTable(maes, var.name = "grade_group", 
+     vals=c("<=6", "3+4", "4+3", "7", ">=8")), "matrix")
[1] TRUE
> 
> # getPCaSummaryTable should summarize into a character matrix event counts and 
> # follow-up times for a Surv-like data
> # Tested function: curatedPCaData::getPCaSummarySurv
> inherits(curatedPCaData::getPCaSummarySurv(maes, event.name = 
+     "disease_specific_recurrence_status", 
+     time.name = "days_to_disease_specific_recurrence"), "matrix")
[1] TRUE
> 
> # getPCaSummarySamples should return a list of length 2; first element 
> # containing unique assay names and N counts in each study, and second element 
> # a matrix with GEX/CNA/MUT combinations for overlap
> # Tested function: curatedPCaData::getPCaSummarySamples
> inherits(curatedPCaData::getPCaSummarySamples(maes), "list")
[1] TRUE
> length(curatedPCaData::getPCaSummarySamples(maes)) == 2
[1] TRUE
> 
> # getPCaSummaryStudies should create a verbose character matrix depicting key 
> # characteristics for each study, such as sample counts, platforms, and special 
> # notes to be aware of
> # Tested function: curatedPCaData::getPCaSummaryStudies, 
> # curatedPCaData::getPCaStudies
> inherits(curatedPCaData::getPCaSummaryStudies(maes), "matrix")
[1] TRUE
> 
> 
> proc.time()
   user  system elapsed 
255.719  15.514 293.255 

Example timings

curatedPCaData.Rcheck/curatedPCaData-Ex.timings

nameusersystemelapsed
curatedPCaDatasets_abida17.239 1.34319.885
curatedPCaDatasets_baca4.5830.4125.475
curatedPCaDatasets_barbieri12.812 1.00914.941
curatedPCaDatasets_barwick8.0230.6809.516
curatedPCaDatasets_chandran10.636 0.98615.007
curatedPCaDatasets_friedrich11.630 1.38114.883
curatedPCaDatasets_hieronymus4.0110.9505.389
curatedPCaDatasets_icgcca11.372 1.21013.532
curatedPCaDatasets_igc11.445 0.93813.318
curatedPCaDatasets_kim11.884 1.27415.051
curatedPCaDatasets_kunderfranco11.934 1.26414.172
curatedPCaDatasets_ren13.605 1.25815.872
curatedPCaDatasets_sun12.342 1.71214.998
curatedPCaDatasets_taylor16.442 2.99720.819
curatedPCaDatasets_tcga14.556 1.94317.602
curatedPCaDatasets_true 9.598 0.93711.392
curatedPCaDatasets_wallace10.904 1.39713.230
curatedPCaDatasets_wang11.129 1.53913.756
curatedPCaDatasets_weiner12.574 2.35015.854
getPCa14.551 2.01517.645
getPCaStudies0.0050.0010.006
getPCaSummarySamples27.925 3.29333.529
getPCaSummaryStudies202.892 16.575238.662
getPCaSummarySurv26.695 1.36930.316
getPCaSummaryTable27.353 1.89831.710
template_prad0.0020.0030.006