| Back to Build/check report for BioC 3.22 experimental data |
|
This page was generated on 2025-10-23 15:41 -0400 (Thu, 23 Oct 2025).
| Hostname | OS | Arch (*) | R version | Installed pkgs |
|---|---|---|---|---|
| nebbiolo2 | Linux (Ubuntu 24.04.3 LTS) | x86_64 | 4.5.1 Patched (2025-08-23 r88802) -- "Great Square Root" | 4894 |
| Click on any hostname to see more info about the system (e.g. compilers) (*) as reported by 'uname -p', except on Windows and Mac OS X | ||||
| Package 57/435 | Hostname | OS / Arch | INSTALL | BUILD | CHECK | ||||||||
| chipenrich.data 2.33.0 (landing page) Kai Wang
| nebbiolo2 | Linux (Ubuntu 24.04.3 LTS) / x86_64 | OK | OK | WARNINGS | ||||||||
|
To the developers/maintainers of the chipenrich.data package: - Use the following Renviron settings to reproduce errors and warnings. - If 'R CMD check' started to fail recently on the Linux builder(s) over a missing dependency, add the missing dependency to 'Suggests:' in your DESCRIPTION file. See Renviron.bioc for more information. |
| Package: chipenrich.data |
| Version: 2.33.0 |
| Command: /home/biocbuild/bbs-3.22-bioc/R/bin/R CMD INSTALL chipenrich.data |
| StartedAt: 2025-10-23 11:02:06 -0400 (Thu, 23 Oct 2025) |
| EndedAt: 2025-10-23 11:04:02 -0400 (Thu, 23 Oct 2025) |
| EllapsedTime: 115.9 seconds |
| RetCode: 0 |
| Status: OK |
############################################################################## ############################################################################## ### ### Running command: ### ### /home/biocbuild/bbs-3.22-bioc/R/bin/R CMD INSTALL chipenrich.data ### ############################################################################## ############################################################################## * installing to library ‘/home/biocbuild/bbs-3.22-bioc/R/site-library’ * installing *source* package ‘chipenrich.data’ ... ** this is package ‘chipenrich.data’ version ‘2.33.0’ ** using staged installation ** R ** data *** moving datasets to lazyload DB Warning: objects ‘gene.enh.desc’, ‘gene.enh.desc’ are created by more than one data call ** inst ** byte-compile and prepare package for lazy loading ** help *** installing help indices ** building package indices ** installing vignettes ** testing if installed package can be loaded from temporary location ** testing if installed package can be loaded from final location ** testing if installed package keeps a record of temporary installation path * DONE (chipenrich.data)