| Back to Build/check report for BioC 3.22 experimental data |
|
This page was generated on 2025-10-23 15:41 -0400 (Thu, 23 Oct 2025).
| Hostname | OS | Arch (*) | R version | Installed pkgs |
|---|---|---|---|---|
| nebbiolo2 | Linux (Ubuntu 24.04.3 LTS) | x86_64 | 4.5.1 Patched (2025-08-23 r88802) -- "Great Square Root" | 4894 |
| Click on any hostname to see more info about the system (e.g. compilers) (*) as reported by 'uname -p', except on Windows and Mac OS X | ||||
| Package 41/435 | Hostname | OS / Arch | INSTALL | BUILD | CHECK | ||||||||
| brgedata 1.31.0 (landing page) Dolors Pelegri-Siso
| nebbiolo2 | Linux (Ubuntu 24.04.3 LTS) / x86_64 | OK | OK | WARNINGS | ||||||||
|
To the developers/maintainers of the brgedata package: - Use the following Renviron settings to reproduce errors and warnings. - If 'R CMD check' started to fail recently on the Linux builder(s) over a missing dependency, add the missing dependency to 'Suggests:' in your DESCRIPTION file. See Renviron.bioc for more information. |
| Package: brgedata |
| Version: 1.31.0 |
| Command: /home/biocbuild/bbs-3.22-bioc/R/bin/R CMD build --keep-empty-dirs --no-resave-data brgedata |
| StartedAt: 2025-10-23 11:07:46 -0400 (Thu, 23 Oct 2025) |
| EndedAt: 2025-10-23 11:11:47 -0400 (Thu, 23 Oct 2025) |
| EllapsedTime: 241.2 seconds |
| RetCode: 0 |
| Status: OK |
| PackageFile: brgedata_1.31.0.tar.gz |
| PackageFileSize: 297 MiB |
##############################################################################
##############################################################################
###
### Running command:
###
### /home/biocbuild/bbs-3.22-bioc/R/bin/R CMD build --keep-empty-dirs --no-resave-data brgedata
###
##############################################################################
##############################################################################
* checking for file ‘brgedata/DESCRIPTION’ ... OK
* preparing ‘brgedata’:
* checking DESCRIPTION meta-information ... OK
* installing the package to build vignettes
* creating vignettes ... OK
* checking for LF line-endings in source and make files and shell scripts
* checking for empty or unneeded directories
NB: this package now depends on R (>= 3.5.0)
WARNING: Added dependency on R >= 3.5.0 because serialized objects in
serialize/load version 3 cannot be read in older versions of R.
File(s) containing such objects:
‘brgedata/data/brge_expo.rda’ ‘brgedata/data/brge_gexp.rda’
* building ‘brgedata_1.31.0.tar.gz’