Back to Build/check report for BioC 3.23 experimental data
A[B]CDEFGHIJKLMNOPQRSTUVWXYZ

This page was generated on 2025-10-30 15:01 -0400 (Thu, 30 Oct 2025).

HostnameOSArch (*)R versionInstalled pkgs
nebbiolo1Linux (Ubuntu 24.04.3 LTS)x86_64R Under development (unstable) (2025-10-20 r88955) -- "Unsuffered Consequences" 4428
Click on any hostname to see more info about the system (e.g. compilers)      (*) as reported by 'uname -p', except on Windows and Mac OS X

Package 30/430HostnameOS / ArchINSTALLBUILDCHECK
blimaTestingData 1.31.0  (landing page)
Vojtech Kulvait
Snapshot Date: 2025-10-30 07:00 -0400 (Thu, 30 Oct 2025)
git_url: https://git.bioconductor.org/packages/blimaTestingData
git_branch: devel
git_last_commit: 2efea5a
git_last_commit_date: 2025-10-29 09:55:05 -0400 (Wed, 29 Oct 2025)
nebbiolo1Linux (Ubuntu 24.04.3 LTS) / x86_64  OK    OK    ERROR  


CHECK results for blimaTestingData on nebbiolo1

To the developers/maintainers of the blimaTestingData package:
- Use the following Renviron settings to reproduce errors and warnings.
- If 'R CMD check' started to fail recently on the Linux builder(s) over a missing dependency, add the missing dependency to 'Suggests:' in your DESCRIPTION file. See Renviron.bioc for more information.

raw results


Summary

Package: blimaTestingData
Version: 1.31.0
Command: /home/biocbuild/bbs-3.23-bioc/R/bin/R CMD check --install=check:blimaTestingData.install-out.txt --library=/home/biocbuild/bbs-3.23-bioc/R/site-library --timings blimaTestingData_1.31.0.tar.gz
StartedAt: 2025-10-30 11:57:48 -0400 (Thu, 30 Oct 2025)
EndedAt: 2025-10-30 11:57:57 -0400 (Thu, 30 Oct 2025)
EllapsedTime: 9.6 seconds
RetCode: 1
Status:   ERROR  
CheckDir: blimaTestingData.Rcheck
Warnings: NA

Command output

##############################################################################
##############################################################################
###
### Running command:
###
###   /home/biocbuild/bbs-3.23-bioc/R/bin/R CMD check --install=check:blimaTestingData.install-out.txt --library=/home/biocbuild/bbs-3.23-bioc/R/site-library --timings blimaTestingData_1.31.0.tar.gz
###
##############################################################################
##############################################################################


* using log directory ‘/home/biocbuild/bbs-3.23-data-experiment/meat/blimaTestingData.Rcheck’
* using R Under development (unstable) (2025-10-20 r88955)
* using platform: x86_64-pc-linux-gnu
* R was compiled by
    gcc (Ubuntu 13.3.0-6ubuntu2~24.04) 13.3.0
    GNU Fortran (Ubuntu 13.3.0-6ubuntu2~24.04) 13.3.0
* running under: Ubuntu 24.04.3 LTS
* using session charset: UTF-8
* checking for file ‘blimaTestingData/DESCRIPTION’ ... OK
* checking extension type ... Package
* this is package ‘blimaTestingData’ version ‘1.31.0’
* checking package namespace information ... OK
* checking package dependencies ... ERROR
Package suggested but not available: ‘illuminaHumanv4.db’

The suggested packages are required for a complete check.
Checking can be attempted without them by setting the environment
variable _R_CHECK_FORCE_SUGGESTS_ to a false value.

See section ‘The DESCRIPTION file’ in the ‘Writing R Extensions’
manual.
* DONE

Status: 1 ERROR
See
  ‘/home/biocbuild/bbs-3.23-data-experiment/meat/blimaTestingData.Rcheck/00check.log’
for details.


Installation output


Tests output


Example timings