| Back to Build/check report for BioC 3.22 experimental data |
|
This page was generated on 2025-10-23 15:41 -0400 (Thu, 23 Oct 2025).
| Hostname | OS | Arch (*) | R version | Installed pkgs |
|---|---|---|---|---|
| nebbiolo2 | Linux (Ubuntu 24.04.3 LTS) | x86_64 | 4.5.1 Patched (2025-08-23 r88802) -- "Great Square Root" | 4894 |
| Click on any hostname to see more info about the system (e.g. compilers) (*) as reported by 'uname -p', except on Windows and Mac OS X | ||||
| Package 3/435 | Hostname | OS / Arch | INSTALL | BUILD | CHECK | ||||||||
| affydata 1.57.0 (landing page) Robert D Shear
| nebbiolo2 | Linux (Ubuntu 24.04.3 LTS) / x86_64 | OK | OK | WARNINGS | ||||||||
|
To the developers/maintainers of the affydata package: - Use the following Renviron settings to reproduce errors and warnings. - If 'R CMD check' started to fail recently on the Linux builder(s) over a missing dependency, add the missing dependency to 'Suggests:' in your DESCRIPTION file. See Renviron.bioc for more information. |
| Package: affydata |
| Version: 1.57.0 |
| Command: /home/biocbuild/bbs-3.22-bioc/R/bin/R CMD INSTALL affydata |
| StartedAt: 2025-10-23 10:57:39 -0400 (Thu, 23 Oct 2025) |
| EndedAt: 2025-10-23 10:57:42 -0400 (Thu, 23 Oct 2025) |
| EllapsedTime: 2.9 seconds |
| RetCode: 0 |
| Status: OK |
##############################################################################
##############################################################################
###
### Running command:
###
### /home/biocbuild/bbs-3.22-bioc/R/bin/R CMD INSTALL affydata
###
##############################################################################
##############################################################################
* installing to library ‘/home/biocbuild/bbs-3.22-bioc/R/site-library’
* installing *source* package ‘affydata’ ...
** this is package ‘affydata’ version ‘1.57.0’
** using staged installation
** R
** data
** inst
** byte-compile and prepare package for lazy loading
** help
*** installing help indices
** building package indices
** installing vignettes
** testing if installed package can be loaded from temporary location
Package
[1,] "affydata"
LibPath
[1,] "/home/biocbuild/bbs-3.22-bioc/R/site-library/00LOCK-affydata/00new"
Item Title
[1,] "Dilution" "AffyBatch instance Dilution"
** testing if installed package can be loaded from final location
Package LibPath Item
[1,] "affydata" "/home/biocbuild/bbs-3.22-bioc/R/site-library" "Dilution"
Title
[1,] "AffyBatch instance Dilution"
** testing if installed package keeps a record of temporary installation path
* DONE (affydata)