| Back to Build/check report for BioC 3.22 experimental data |
|
This page was generated on 2025-10-21 15:41 -0400 (Tue, 21 Oct 2025).
| Hostname | OS | Arch (*) | R version | Installed pkgs |
|---|---|---|---|---|
| nebbiolo2 | Linux (Ubuntu 24.04.3 LTS) | x86_64 | 4.5.1 Patched (2025-08-23 r88802) -- "Great Square Root" | 4888 |
| Click on any hostname to see more info about the system (e.g. compilers) (*) as reported by 'uname -p', except on Windows and Mac OS X | ||||
| Package 427/435 | Hostname | OS / Arch | INSTALL | BUILD | CHECK | ||||||||
| WGSmapp 1.21.0 (landing page) Rujin Wang
| nebbiolo2 | Linux (Ubuntu 24.04.3 LTS) / x86_64 | OK | OK | WARNINGS | ||||||||
|
To the developers/maintainers of the WGSmapp package: - Use the following Renviron settings to reproduce errors and warnings. - If 'R CMD check' started to fail recently on the Linux builder(s) over a missing dependency, add the missing dependency to 'Suggests:' in your DESCRIPTION file. See Renviron.bioc for more information. |
| Package: WGSmapp |
| Version: 1.21.0 |
| Command: /home/biocbuild/bbs-3.22-bioc/R/bin/R CMD build --keep-empty-dirs --no-resave-data WGSmapp |
| StartedAt: 2025-10-21 11:49:19 -0400 (Tue, 21 Oct 2025) |
| EndedAt: 2025-10-21 11:49:38 -0400 (Tue, 21 Oct 2025) |
| EllapsedTime: 19.2 seconds |
| RetCode: 0 |
| Status: OK |
| PackageFile: WGSmapp_1.21.0.tar.gz |
| PackageFileSize: 195.7 MiB |
############################################################################## ############################################################################## ### ### Running command: ### ### /home/biocbuild/bbs-3.22-bioc/R/bin/R CMD build --keep-empty-dirs --no-resave-data WGSmapp ### ############################################################################## ############################################################################## * checking for file ‘WGSmapp/DESCRIPTION’ ... OK * preparing ‘WGSmapp’: * checking DESCRIPTION meta-information ... OK * checking for LF line-endings in source and make files and shell scripts * checking for empty or unneeded directories * building ‘WGSmapp_1.21.0.tar.gz’