| Back to Build/check report for BioC 3.22 experimental data |
|
This page was generated on 2025-10-21 15:41 -0400 (Tue, 21 Oct 2025).
| Hostname | OS | Arch (*) | R version | Installed pkgs |
|---|---|---|---|---|
| nebbiolo2 | Linux (Ubuntu 24.04.3 LTS) | x86_64 | 4.5.1 Patched (2025-08-23 r88802) -- "Great Square Root" | 4888 |
| Click on any hostname to see more info about the system (e.g. compilers) (*) as reported by 'uname -p', except on Windows and Mac OS X | ||||
| Package 268/435 | Hostname | OS / Arch | INSTALL | BUILD | CHECK | ||||||||
| MUGAExampleData 1.29.0 (landing page) Daniel Gatti
| nebbiolo2 | Linux (Ubuntu 24.04.3 LTS) / x86_64 | OK | OK | OK | ||||||||
|
To the developers/maintainers of the MUGAExampleData package: - Use the following Renviron settings to reproduce errors and warnings. - If 'R CMD check' started to fail recently on the Linux builder(s) over a missing dependency, add the missing dependency to 'Suggests:' in your DESCRIPTION file. See Renviron.bioc for more information. |
| Package: MUGAExampleData |
| Version: 1.29.0 |
| Command: /home/biocbuild/bbs-3.22-bioc/R/bin/R CMD check --install=check:MUGAExampleData.install-out.txt --library=/home/biocbuild/bbs-3.22-bioc/R/site-library --timings MUGAExampleData_1.29.0.tar.gz |
| StartedAt: 2025-10-21 12:47:09 -0400 (Tue, 21 Oct 2025) |
| EndedAt: 2025-10-21 12:47:48 -0400 (Tue, 21 Oct 2025) |
| EllapsedTime: 39.0 seconds |
| RetCode: 0 |
| Status: OK |
| CheckDir: MUGAExampleData.Rcheck |
| Warnings: 0 |
##############################################################################
##############################################################################
###
### Running command:
###
### /home/biocbuild/bbs-3.22-bioc/R/bin/R CMD check --install=check:MUGAExampleData.install-out.txt --library=/home/biocbuild/bbs-3.22-bioc/R/site-library --timings MUGAExampleData_1.29.0.tar.gz
###
##############################################################################
##############################################################################
* using log directory ‘/home/biocbuild/bbs-3.22-data-experiment/meat/MUGAExampleData.Rcheck’
* using R version 4.5.1 Patched (2025-08-23 r88802)
* using platform: x86_64-pc-linux-gnu
* R was compiled by
gcc (Ubuntu 13.3.0-6ubuntu2~24.04) 13.3.0
GNU Fortran (Ubuntu 13.3.0-6ubuntu2~24.04) 13.3.0
* running under: Ubuntu 24.04.3 LTS
* using session charset: UTF-8
* checking for file ‘MUGAExampleData/DESCRIPTION’ ... OK
* checking extension type ... Package
* this is package ‘MUGAExampleData’ version ‘1.29.0’
* checking package namespace information ... OK
* checking package dependencies ... OK
* checking if this is a source package ... OK
* checking if there is a namespace ... OK
* checking for hidden files and directories ... OK
* checking for portable file names ... OK
* checking for sufficient/correct file permissions ... OK
* checking whether package ‘MUGAExampleData’ can be installed ... OK
* checking installed package size ... INFO
installed size is 88.6Mb
sub-directories of 1Mb or more:
data 88.5Mb
* checking package directory ... OK
* checking ‘build’ directory ... OK
* checking DESCRIPTION meta-information ... NOTE
Malformed Title field: should not end in a period.
* checking top-level files ... OK
* checking for left-over files ... OK
* checking index information ... OK
* checking package subdirectories ... OK
* checking whether the package can be loaded ... OK
* checking whether the package can be loaded with stated dependencies ... OK
* checking whether the package can be unloaded cleanly ... OK
* checking whether the namespace can be loaded with stated dependencies ... OK
* checking whether the namespace can be unloaded cleanly ... OK
* checking loading without being on the library search path ... OK
* checking Rd files ... NOTE
checkRd: (-1) MUGAExampleData-package.Rd:6: Lost braces; missing escapes or markup?
6 | Example {M}ouse {U}niversal {G}enotyping {A}rray data for genome reconstruction and quantitative trait locus mapping.
| ^
checkRd: (-1) MUGAExampleData-package.Rd:6: Lost braces; missing escapes or markup?
6 | Example {M}ouse {U}niversal {G}enotyping {A}rray data for genome reconstruction and quantitative trait locus mapping.
| ^
checkRd: (-1) MUGAExampleData-package.Rd:6: Lost braces; missing escapes or markup?
6 | Example {M}ouse {U}niversal {G}enotyping {A}rray data for genome reconstruction and quantitative trait locus mapping.
| ^
checkRd: (-1) MUGAExampleData-package.Rd:6: Lost braces; missing escapes or markup?
6 | Example {M}ouse {U}niversal {G}enotyping {A}rray data for genome reconstruction and quantitative trait locus mapping.
| ^
* checking Rd metadata ... OK
* checking Rd cross-references ... OK
* checking for missing documentation entries ... OK
* checking for code/documentation mismatches ... OK
* checking Rd \usage sections ... OK
* checking Rd contents ... OK
* checking for unstated dependencies in examples ... OK
* checking contents of ‘data’ directory ... OK
* checking data for non-ASCII characters ... OK
* checking data for ASCII and uncompressed saves ... OK
* checking files in ‘vignettes’ ... OK
* checking examples ... OK
* checking for unstated dependencies in vignettes ... OK
* checking package vignettes ... OK
* checking re-building of vignette outputs ... OK
* checking PDF version of manual ... OK
* DONE
Status: 2 NOTEs
See
‘/home/biocbuild/bbs-3.22-data-experiment/meat/MUGAExampleData.Rcheck/00check.log’
for details.
MUGAExampleData.Rcheck/00install.out
############################################################################## ############################################################################## ### ### Running command: ### ### /home/biocbuild/bbs-3.22-bioc/R/bin/R CMD INSTALL MUGAExampleData ### ############################################################################## ############################################################################## * installing to library ‘/home/biocbuild/bbs-3.22-bioc/R/site-library’ * installing *source* package ‘MUGAExampleData’ ... ** this is package ‘MUGAExampleData’ version ‘1.29.0’ ** using staged installation ** data ** help *** installing help indices ** building package indices ** installing vignettes ** testing if installed package can be loaded from temporary location ** testing if installed package can be loaded from final location ** testing if installed package keeps a record of temporary installation path * DONE (MUGAExampleData)
MUGAExampleData.Rcheck/MUGAExampleData-Ex.timings
| name | user | system | elapsed | |
| FinalReport1 | 2.282 | 0.098 | 2.381 | |
| FinalReport2 | 1.129 | 0.018 | 1.148 | |
| MUGAExampleData-package | 2.850 | 0.034 | 2.884 | |
| Samples1 | 0.001 | 0.000 | 0.001 | |
| Samples2 | 0.001 | 0.000 | 0.001 | |
| call.rate.batch | 0.001 | 0.000 | 0.001 | |
| geno | 0.456 | 0.005 | 0.461 | |
| model.probs | 0.758 | 0.063 | 0.821 | |
| pheno | 0.005 | 0.000 | 0.005 | |
| x | 0.083 | 0.001 | 0.084 | |
| y | 0.079 | 0.003 | 0.082 | |