| Back to Build/check report for BioC 3.22 experimental data | 
 | 
This page was generated on 2025-10-23 15:41 -0400 (Thu, 23 Oct 2025).
| Hostname | OS | Arch (*) | R version | Installed pkgs | 
|---|---|---|---|---|
| nebbiolo2 | Linux (Ubuntu 24.04.3 LTS) | x86_64 | 4.5.1 Patched (2025-08-23 r88802) -- "Great Square Root" | 4894 | 
| Click on any hostname to see more info about the system (e.g. compilers) (*) as reported by 'uname -p', except on Windows and Mac OS X | ||||
| Package 114/435 | Hostname | OS / Arch | INSTALL | BUILD | CHECK | ||||||||
| EGSEAdata 1.37.0  (landing page) Monther Alhamdoosh 
 | nebbiolo2 | Linux (Ubuntu 24.04.3 LTS) / x86_64 | OK | OK | OK |  | |||||||
| To the developers/maintainers of the EGSEAdata package: - Use the following Renviron settings to reproduce errors and warnings. - If 'R CMD check' started to fail recently on the Linux builder(s) over a missing dependency, add the missing dependency to 'Suggests:' in your DESCRIPTION file. See Renviron.bioc for more information. | 
| Package: EGSEAdata | 
| Version: 1.37.0 | 
| Command: /home/biocbuild/bbs-3.22-bioc/R/bin/R CMD check --install=check:EGSEAdata.install-out.txt --library=/home/biocbuild/bbs-3.22-bioc/R/site-library --timings EGSEAdata_1.37.0.tar.gz | 
| StartedAt: 2025-10-23 12:18:10 -0400 (Thu, 23 Oct 2025) | 
| EndedAt: 2025-10-23 12:19:03 -0400 (Thu, 23 Oct 2025) | 
| EllapsedTime: 53.2 seconds | 
| RetCode: 0 | 
| Status: OK | 
| CheckDir: EGSEAdata.Rcheck | 
| Warnings: 0 | 
##############################################################################
##############################################################################
###
### Running command:
###
###   /home/biocbuild/bbs-3.22-bioc/R/bin/R CMD check --install=check:EGSEAdata.install-out.txt --library=/home/biocbuild/bbs-3.22-bioc/R/site-library --timings EGSEAdata_1.37.0.tar.gz
###
##############################################################################
##############################################################################
* using log directory ‘/home/biocbuild/bbs-3.22-data-experiment/meat/EGSEAdata.Rcheck’
* using R version 4.5.1 Patched (2025-08-23 r88802)
* using platform: x86_64-pc-linux-gnu
* R was compiled by
    gcc (Ubuntu 13.3.0-6ubuntu2~24.04) 13.3.0
    GNU Fortran (Ubuntu 13.3.0-6ubuntu2~24.04) 13.3.0
* running under: Ubuntu 24.04.3 LTS
* using session charset: UTF-8
* checking for file ‘EGSEAdata/DESCRIPTION’ ... OK
* this is package ‘EGSEAdata’ version ‘1.37.0’
* checking package namespace information ... OK
* checking package dependencies ... OK
* checking if this is a source package ... OK
* checking if there is a namespace ... OK
* checking for hidden files and directories ... OK
* checking for portable file names ... OK
* checking for sufficient/correct file permissions ... OK
* checking whether package ‘EGSEAdata’ can be installed ... OK
* checking installed package size ... INFO
  installed size is 66.8Mb
  sub-directories of 1Mb or more:
    data  66.7Mb
* checking package directory ... OK
* checking DESCRIPTION meta-information ... OK
* checking top-level files ... OK
* checking for left-over files ... OK
* checking index information ... OK
* checking package subdirectories ... OK
* checking code files for non-ASCII characters ... OK
* checking R files for syntax errors ... OK
* checking whether the package can be loaded ... OK
* checking whether the package can be loaded with stated dependencies ... OK
* checking whether the package can be unloaded cleanly ... OK
* checking whether the namespace can be loaded with stated dependencies ... OK
* checking whether the namespace can be unloaded cleanly ... OK
* checking loading without being on the library search path ... OK
* checking dependencies in R code ... OK
* checking S3 generic/method consistency ... OK
* checking replacement functions ... OK
* checking foreign function calls ... OK
* checking R code for possible problems ... NOTE
egseaData.info: no visible global function definition for ‘data’
egseaData.info: no visible binding for global variable ‘kegg.pathways’
egseaData.info: no visible binding for global variable ‘msigdb’
Undefined global functions or variables:
  data kegg.pathways msigdb
Consider adding
  importFrom("utils", "data")
to your NAMESPACE file.
* checking Rd files ... NOTE
checkRd: (-1) kegg.pathways.Rd:21-24: Lost braces
    21 |         for (species in species.all){ \cr 
       |                                     ^
* checking Rd metadata ... OK
* checking Rd cross-references ... OK
* checking for missing documentation entries ... OK
* checking for code/documentation mismatches ... OK
* checking Rd \usage sections ... OK
* checking Rd contents ... OK
* checking for unstated dependencies in examples ... OK
* checking contents of ‘data’ directory ... OK
* checking data for non-ASCII characters ... OK
* checking data for ASCII and uncompressed saves ... OK
* checking examples ... OK
* checking PDF version of manual ... OK
* DONE
Status: 2 NOTEs
See
  ‘/home/biocbuild/bbs-3.22-data-experiment/meat/EGSEAdata.Rcheck/00check.log’
for details.
EGSEAdata.Rcheck/00install.out
############################################################################## ############################################################################## ### ### Running command: ### ### /home/biocbuild/bbs-3.22-bioc/R/bin/R CMD INSTALL EGSEAdata ### ############################################################################## ############################################################################## * installing to library ‘/home/biocbuild/bbs-3.22-bioc/R/site-library’ * installing *source* package ‘EGSEAdata’ ... ** this is package ‘EGSEAdata’ version ‘1.37.0’ ** using staged installation ** R ** data ** byte-compile and prepare package for lazy loading ** help *** installing help indices ** building package indices ** testing if installed package can be loaded from temporary location ** testing if installed package can be loaded from final location ** testing if installed package keeps a record of temporary installation path * DONE (EGSEAdata)
EGSEAdata.Rcheck/EGSEAdata-Ex.timings
| name | user | system | elapsed | |
| egsea.data | 2.233 | 0.088 | 2.324 | |