| Back to Build/check report for BioC 3.22 experimental data |
|
This page was generated on 2025-10-23 15:41 -0400 (Thu, 23 Oct 2025).
| Hostname | OS | Arch (*) | R version | Installed pkgs |
|---|---|---|---|---|
| nebbiolo2 | Linux (Ubuntu 24.04.3 LTS) | x86_64 | 4.5.1 Patched (2025-08-23 r88802) -- "Great Square Root" | 4894 |
| Click on any hostname to see more info about the system (e.g. compilers) (*) as reported by 'uname -p', except on Windows and Mac OS X | ||||
| Package 100/435 | Hostname | OS / Arch | INSTALL | BUILD | CHECK | ||||||||
| DMRcatedata 2.27.0 (landing page) Tim Peters
| nebbiolo2 | Linux (Ubuntu 24.04.3 LTS) / x86_64 | OK | OK | OK | ||||||||
|
To the developers/maintainers of the DMRcatedata package: - Use the following Renviron settings to reproduce errors and warnings. - If 'R CMD check' started to fail recently on the Linux builder(s) over a missing dependency, add the missing dependency to 'Suggests:' in your DESCRIPTION file. See Renviron.bioc for more information. |
| Package: DMRcatedata |
| Version: 2.27.0 |
| Command: /home/biocbuild/bbs-3.22-bioc/R/bin/R CMD build --keep-empty-dirs --no-resave-data DMRcatedata |
| StartedAt: 2025-10-23 11:14:34 -0400 (Thu, 23 Oct 2025) |
| EndedAt: 2025-10-23 11:15:31 -0400 (Thu, 23 Oct 2025) |
| EllapsedTime: 56.9 seconds |
| RetCode: 0 |
| Status: OK |
| PackageFile: DMRcatedata_2.27.0.tar.gz |
| PackageFileSize: 120.3 KiB |
############################################################################## ############################################################################## ### ### Running command: ### ### /home/biocbuild/bbs-3.22-bioc/R/bin/R CMD build --keep-empty-dirs --no-resave-data DMRcatedata ### ############################################################################## ############################################################################## * checking for file ‘DMRcatedata/DESCRIPTION’ ... OK * preparing ‘DMRcatedata’: * checking DESCRIPTION meta-information ... OK * installing the package to build vignettes * creating vignettes ... OK * checking for LF line-endings in source and make files and shell scripts * checking for empty or unneeded directories Omitted ‘LazyData’ from DESCRIPTION * building ‘DMRcatedata_2.27.0.tar.gz’