Welcome to mirrors.dotsrc.org

All our mirrors of open source software are available via http, https, ftp and an onion service. More information about our mirrors including statistics and contact information is available on our mirror info pages.

For information about dotsrc.org and our other services please go to our website.

Index of /bioconductor/checkResults/devel/data-experiment-LATEST/

File Name  ↓ File Size  ↓ Date  ↓ 
Parent directory/--
ALL/-2025-05-01 19:42:02
ALLMLL/-2025-05-01 19:42:02
ARRmData/-2025-05-01 19:42:02
ASICSdata/-2025-05-01 19:42:02
Affyhgu133A2Expr/-2025-05-01 19:42:02
Affyhgu133Plus2Expr/-2025-05-01 19:42:02
Affyhgu133aExpr/-2025-05-01 19:42:02
AffymetrixDataTestFiles/-2025-05-01 19:42:02
Affymoe4302Expr/-2025-05-01 19:42:02
AmpAffyExample/-2025-05-01 19:42:02
AneuFinderData/-2025-05-01 19:42:02
AshkenazimSonChr21/-2025-05-01 19:42:02
AssessORFData/-2025-05-01 19:42:02
BeadArrayUseCases/-2025-05-01 19:42:02
BeadSorted.Saliva.EPIC/-2025-05-01 19:42:02
BioImageDbs/-2025-05-01 19:42:02
BioPlex/-2025-05-01 19:42:02
BloodCancerMultiOmics2017/-2025-05-01 19:42:02
CCl4/-2025-05-01 19:42:02
CLL/-2025-05-01 19:42:02
CLLmethylation/-2025-05-01 19:42:02
COHCAPanno/-2025-05-01 19:42:02
CONFESSdata/-2025-05-01 19:42:02
COPDSexualDimorphism.data/-2025-05-01 19:42:02
COSMIC.67/-2025-05-01 19:42:02
CRCL18/-2025-05-01 19:42:02
CardinalWorkflows/-2025-05-01 19:42:02
CellMapperData/-2025-05-01 19:42:02
ChAMPdata/-2025-05-01 19:42:02
ChIPXpressData/-2025-05-01 19:42:02
ChIPexoQualExample/-2025-05-01 19:42:02
ChimpHumanBrainData/-2025-05-01 19:42:02
CluMSIDdata/-2025-05-01 19:42:02
CoSIAdata/-2025-05-01 19:42:02
ConnectivityMap/-2025-05-01 19:42:02
CopyNeutralIMA/-2025-05-01 19:42:02
CopyhelpeR/-2025-05-01 19:42:02
CytoMethIC/-2025-05-01 19:42:02
DAPARdata/-2025-05-01 19:42:02
DExMAdata/-2025-05-01 19:42:02
DLBCL/-2025-05-01 19:42:02
DMRcatedata/-2025-05-01 19:42:02
DNAZooData/-2025-05-01 19:42:02
DeSousa2013/-2025-05-01 19:42:02
DonaPLLP2013/-2025-05-01 19:42:02
DropletTestFiles/-2025-05-01 19:42:02
DrugVsDiseasedata/-2025-05-01 19:42:02
DuoClustering2018/-2025-05-01 19:42:02
DvDdata/-2025-05-01 19:42:02
EGSEAdata/-2025-05-01 19:42:02
ELMER.data/-2025-05-01 19:42:02
EatonEtAlChIPseq/-2025-05-01 19:42:02
EpiMix.data/-2025-05-01 19:42:02
EpipwR.data/-2025-05-01 19:42:02
FANTOM3and4CAGE/-2025-05-01 19:42:02
FIs/-2025-05-01 19:42:02
FieldEffectCrc/-2025-05-01 19:42:02
Fletcher2013a/-2025-05-01 19:42:02
Fletcher2013b/-2025-05-01 19:42:02
FlowSorted.Blood.450k/-2025-05-01 19:42:02
FlowSorted.Blood.EPIC/-2025-05-01 19:42:02
FlowSorted.CordBlood.450k/-2025-05-01 19:42:02
FlowSorted.CordBloodCombined.450k/-2025-05-01 19:42:02
FlowSorted.CordBloodNorway.450k/-2025-05-01 19:42:02
FlowSorted.DLPFC.450k/-2025-05-01 19:42:02
GIGSEAdata/-2025-05-01 19:42:02
GSBenchMark/-2025-05-01 19:42:02
GSE103322/-2025-05-01 19:42:02
GSE13015/-2025-05-01 19:42:02
GSE159526/-2025-05-01 19:42:02
GSE62944/-2025-05-01 19:42:02
GSVAdata/-2025-05-01 19:42:02
GWASdata/-2025-05-01 19:42:02
GenomicDistributionsData/-2025-05-01 19:42:02
GeuvadisTranscriptExpr/-2025-05-01 19:42:02
HCAData/-2025-05-01 19:42:02
HCATonsilData/-2025-05-01 19:42:02
HD2013SGI/-2025-05-01 19:42:02
HDCytoData/-2025-05-01 19:42:02
HEEBOdata/-2025-05-01 19:42:02
HIVcDNAvantWout03/-2025-05-01 19:42:02
HMP16SData/-2025-05-01 19:42:02
HMP2Data/-2025-05-01 19:42:02
HSMMSingleCell/-2025-05-01 19:42:02
HarmanData/-2025-05-01 19:42:02
HarmonizedTCGAData/-2025-05-01 19:42:02
HelloRangesData/-2025-05-01 19:42:02
HiBED/-2025-05-01 19:42:02
HiCDataHumanIMR90/-2025-05-01 19:42:02
HiCDataLymphoblast/-2025-05-01 19:42:02
HiContactsData/-2025-05-01 19:42:02
HighlyReplicatedRNASeq/-2025-05-01 19:42:02
Hiiragi2013/-2025-05-01 19:42:02
HumanAffyData/-2025-05-01 19:42:02
IHWpaper/-2025-05-01 19:42:02
ITALICSData/-2025-05-01 19:42:02
Illumina450ProbeVariants.db/-2025-05-01 19:42:02
IlluminaDataTestFiles/-2025-05-01 19:42:02
Iyer517/-2025-05-01 19:42:02
JASPAR2014/-2025-05-01 19:42:02
JASPAR2016/-2025-05-01 19:42:02
JohnsonKinaseData/-2025-05-01 19:42:02
KEGGandMetacoreDzPathwaysGEO/-2025-05-01 19:42:02
KEGGdzPathwaysGEO/-2025-05-01 19:42:02
KOdata/-2025-05-01 19:42:02
LRcellTypeMarkers/-2025-05-01 19:42:02
LegATo/-2025-05-01 19:42:02
LiebermanAidenHiC2009/-2025-05-01 19:42:02
ListerEtAlBSseq/-2025-05-01 19:42:02
LungCancerACvsSCCGEO/-2025-05-01 19:42:02
LungCancerLines/-2025-05-01 19:42:02
M3DExampleData/-2025-05-01 19:42:02
MACSdata/-2025-05-01 19:42:02
MAQCsubset/-2025-05-01 19:42:02
MEDIPSData/-2025-05-01 19:42:02
MEEBOdata/-2025-05-01 19:42:02
MMDiffBamSubset/-2025-05-01 19:42:02
MOFAdata/-2025-05-01 19:42:02
MSMB/-2025-05-01 19:42:02
MUGAExampleData/-2025-05-01 19:42:02
MerfishData/-2025-05-01 19:42:02
MetaGxBreast/-2025-05-01 19:42:02
MetaGxOvarian/-2025-05-01 19:42:02
MetaGxPancreas/-2025-05-01 19:42:02
MetaScope/-2025-05-01 19:42:02
MethylAidData/-2025-05-01 19:42:02
MethylSeqData/-2025-05-01 19:42:02
MicrobiomeBenchmarkData/-2025-05-01 19:42:02
MouseAgingData/-2025-05-01 19:42:02
MouseGastrulationData/-2025-05-01 19:42:02
MouseThymusAgeing/-2025-05-01 19:42:02
NCIgraphData/-2025-05-01 19:42:02
NGScopyData/-2025-05-01 19:42:02
NanoporeRNASeq/-2025-05-01 19:42:02
NestLink/-2025-05-01 19:42:02
NetActivityData/-2025-05-01 19:42:02
Neve2006/-2025-05-01 19:42:02
NxtIRFdata/-2025-05-01 19:42:02
OMICsPCAdata/-2025-05-01 19:42:02
ObMiTi/-2025-05-01 19:42:02
OnassisJavaLibs/-2025-05-01 19:42:02
PCHiCdata/-2025-05-01 19:42:02
PREDAsampledata/-2025-05-01 19:42:02
PWMEnrich.Dmelanogaster.background/-2025-05-01 19:42:02
PWMEnrich.Hsapiens.background/-2025-05-01 19:42:02
PWMEnrich.Mmusculus.background/-2025-05-01 19:42:02
PasillaTranscriptExpr/-2025-05-01 19:42:02
PathNetData/-2025-05-01 19:42:02
PepsNMRData/-2025-05-01 19:42:02
PhyloProfileData/-2025-05-01 19:42:02
ProData/-2025-05-01 19:42:02
ProteinGymR/-2025-05-01 19:42:02
PtH2O2lipids/-2025-05-01 19:42:02
QDNAseq.hg19/-2025-05-01 19:42:02
QDNAseq.mm10/-2025-05-01 19:42:02
QUBICdata/-2025-05-01 19:42:02
RGMQLlib/-2025-05-01 19:42:02
RITANdata/-2025-05-01 19:42:02
RMassBankData/-2025-05-01 19:42:02
RNAmodR.Data/-2025-05-01 19:42:02
RNAseqData.HNRNPC.bam.chr14/-2025-05-01 19:42:02
RRBSdata/-2025-05-01 19:42:02
RTCGA.CNV/-2025-05-01 19:42:02
RTCGA.PANCAN12/-2025-05-01 19:42:03
RTCGA.RPPA/-2025-05-01 19:42:03
RTCGA.clinical/-2025-05-01 19:42:02
RTCGA.mRNA/-2025-05-01 19:42:03
RTCGA.methylation/-2025-05-01 19:42:02
RTCGA.miRNASeq/-2025-05-01 19:42:03
RTCGA.mutations/-2025-05-01 19:42:03
RTCGA.rnaseq/-2025-05-01 19:42:03
RUVnormalizeData/-2025-05-01 19:42:03
RcisTarget.hg19.motifDBs.cisbpOnly.500bp/-2025-05-01 19:42:02
ReactomeGSA.data/-2025-05-01 19:42:02
RegParallel/-2025-05-01 19:42:02
RforProteomics/-2025-05-01 19:42:02
RnBeads.hg19/-2025-05-01 19:42:02
RnBeads.hg38/-2025-05-01 19:42:02
RnBeads.mm10/-2025-05-01 19:42:02
RnBeads.mm9/-2025-05-01 19:42:02
RnBeads.rn5/-2025-05-01 19:42:02
RnaSeqSampleSizeData/-2025-05-01 19:42:02
SBGNview.data/-2025-05-01 19:42:03
SCLCBam/-2025-05-01 19:42:03
SFEData/-2025-05-01 19:42:03
SNAData/-2025-05-01 19:42:03
SNAGEEdata/-2025-05-01 19:42:03
SNPhoodData/-2025-05-01 19:42:03
STexampleData/-2025-05-01 19:42:03
SVM2CRMdata/-2025-05-01 19:42:03
SimBenchData/-2025-05-01 19:42:03
Single.mTEC.Transcriptomes/-2025-05-01 19:42:03
SingleCellMultiModal/-2025-05-01 19:42:03
SingleMoleculeFootprintingData/-2025-05-01 19:42:03
SomatiCAData/-2025-05-01 19:42:03
SomaticCancerAlterations/-2025-05-01 19:42:03
SpatialDatasets/-2025-05-01 19:42:03
SpikeIn/-2025-05-01 19:42:03
SpikeInSubset/-2025-05-01 19:42:03
SubcellularSpatialData/-2025-05-01 19:42:03
TBX20BamSubset/-2025-05-01 19:42:03
TCGAMethylation450k/-2025-05-01 19:42:03
TCGAWorkflowData/-2025-05-01 19:42:03
TCGAbiolinksGUI.data/-2025-05-01 19:42:03
TCGAcrcmRNA/-2025-05-01 19:42:03
TCGAcrcmiRNA/-2025-05-01 19:42:03
TENET.ExperimentHub/-2025-05-01 19:42:03
TENxBUSData/-2025-05-01 19:42:03
TENxBrainData/-2025-05-01 19:42:03
TENxPBMCData/-2025-05-01 19:42:03
TENxVisiumData/-2025-05-01 19:42:03
TENxXeniumData/-2025-05-01 19:42:03
TMExplorer/-2025-05-01 19:42:03
TabulaMurisData/-2025-05-01 19:42:03
TabulaMurisSenisData/-2025-05-01 19:42:03
TargetScoreData/-2025-05-01 19:42:03
TargetSearchData/-2025-05-01 19:42:03
TimerQuant/-2025-05-01 19:42:03
TransOmicsData/-2025-05-01 19:42:03
TumourMethData/-2025-05-01 19:42:03
VariantToolsData/-2025-05-01 19:42:03
VectraPolarisData/-2025-05-01 19:42:03
WES.1KG.WUGSC/-2025-05-01 19:42:03
WGSmapp/-2025-05-01 19:42:03
WeberDivechaLCdata/-2025-05-01 19:42:03
XhybCasneuf/-2025-05-01 19:42:03
adductData/-2025-05-01 19:42:01
affycompData/-2025-05-01 19:42:02
affydata/-2025-05-01 19:42:02
airway/-2025-05-01 19:42:02
antiProfilesData/-2025-05-01 19:42:02
aracne.networks/-2025-05-01 19:42:02
bcellViper/-2025-05-01 19:42:02
beadarrayExampleData/-2025-05-01 19:42:02
benchmarkfdrData2019/-2025-04-08 19:35:03
beta7/-2025-05-01 19:42:02
biotmleData/-2025-05-01 19:42:02
biscuiteerData/-2025-05-01 19:42:02
bladderbatch/-2025-05-01 19:42:02
blimaTestingData/-2025-05-01 19:42:02
bodymapRat/-2025-05-01 19:42:02
breakpointRdata/-2025-05-01 19:42:02
breastCancerMAINZ/-2025-05-01 19:42:02
breastCancerNKI/-2025-05-01 19:42:02
breastCancerTRANSBIG/-2025-05-01 19:42:02
breastCancerUNT/-2025-05-01 19:42:02
breastCancerUPP/-2025-05-01 19:42:02
breastCancerVDX/-2025-05-01 19:42:02
brgedata/-2025-05-01 19:42:02
bronchialIL13/-2025-05-01 19:42:02
bsseqData/-2025-05-01 19:42:02
bugphyzz/-2025-05-01 19:42:02
cMap2data/-2025-05-01 19:42:02
cancerdata/-2025-05-01 19:42:02
ccdata/-2025-05-01 19:42:02
celarefData/-2025-05-01 19:42:02
celldex/-2025-05-01 19:42:02
cfToolsData/-2025-05-01 19:42:02
chipenrich.data/-2025-05-01 19:42:02
chipseqDBData/-2025-05-01 19:42:02
chromstaRData/-2025-05-01 19:42:02
clustifyrdatahub/-2025-05-01 19:42:02
cnvGSAdata/-2025-05-01 19:42:02
colonCA/-2025-05-01 19:42:02
crisprScoreData/-2025-05-01 19:42:02
curatedAdipoArray/-2025-05-01 19:42:02
curatedAdipoChIP/-2025-05-01 19:42:02
curatedAdipoRNA/-2025-05-01 19:42:02
curatedBladderData/-2025-05-01 19:42:02
curatedBreastData/-2025-05-01 19:42:02
curatedCRCData/-2025-05-01 19:42:02
curatedMetagenomicData/-2025-05-01 19:42:02
curatedOvarianData/-2025-05-01 19:42:02
curatedPCaData/-2025-05-01 19:42:02
curatedTBData/-2025-05-01 19:42:02
curatedTCGAData/-2025-05-01 19:42:02
davidTiling/-2025-05-01 19:42:02
depmap/-2025-05-01 19:42:02
derfinderData/-2025-05-01 19:42:02
diffloopdata/-2025-05-01 19:42:02
diggitdata/-2025-05-01 19:42:02
dorothea/-2025-05-01 19:42:02
dressCheck/-2025-05-01 19:42:02
dyebiasexamples/-2025-05-01 19:42:02
easierData/-2025-05-01 19:42:02
ecoliLeucine/-2025-05-01 19:42:02
emtdata/-2025-05-01 19:42:02
eoPredData/-2025-05-01 19:42:02
epimutacionsData/-2025-05-01 19:42:02
estrogen/-2025-05-01 19:42:02
etec16s/-2025-05-01 19:42:02
ewceData/-2025-05-01 19:42:02
faahKO/-2025-05-01 19:42:02
fabiaData/-2025-05-01 19:42:02
ffpeExampleData/-2025-05-01 19:42:02
fibroEset/-2025-05-01 19:42:02
fission/-2025-05-01 19:42:02
flowPloidyData/-2025-05-01 19:42:02
flowWorkspaceData/-2025-05-01 19:42:02
fourDNData/-2025-05-01 19:42:02
frmaExampleData/-2025-05-01 19:42:02
furrowSeg/-2025-05-01 19:42:02
gDNAinRNAseqData/-2025-05-01 19:42:02
gDRtestData/-2025-05-01 19:42:02
gageData/-2025-05-01 19:42:02
gaschYHS/-2025-05-01 19:42:02
gcspikelite/-2025-05-01 19:42:02
geneLenDataBase/-2025-05-01 19:42:02
genomationData/-2025-05-01 19:42:02
golubEsets/-2025-05-01 19:42:02
gpaExample/-2025-05-01 19:42:02
grndata/-2025-05-01 19:42:02
h5vcData/-2025-05-01 19:42:02
hapmap100khind/-2025-05-01 19:42:02
hapmap100kxba/-2025-05-01 19:42:02
hapmap500knsp/-2025-05-01 19:42:02
hapmap500ksty/-2025-05-01 19:42:02
hapmapsnp5/-2025-05-01 19:42:02
hapmapsnp6/-2025-05-01 19:42:02
harbChIP/-2025-05-01 19:42:02
healthyControlsPresenceChecker/-2025-05-01 19:42:02
healthyFlowData/-2025-05-01 19:42:02
hgu133abarcodevecs/-2025-05-01 19:42:02
hgu133plus2CellScore/-2025-05-01 19:42:02
hgu133plus2barcodevecs/-2025-05-01 19:42:02
hgu2beta7/-2025-05-01 19:42:02
homosapienDEE2CellScore/-2025-05-01 19:42:02
humanHippocampus2024/-2025-05-01 19:42:02
humanStemCell/-2025-05-01 19:42:02
imcdatasets/-2025-05-01 19:42:02
kidpack/-2025-05-01 19:42:02
leeBamViews/-2025-05-01 19:42:02
leukemiasEset/-2025-05-01 19:42:02
lumiBarnes/-2025-05-01 19:42:02
lungExpression/-2025-05-01 19:42:02
lydata/-2025-05-01 19:42:02
mCSEAdata/-2025-05-01 19:42:02
macrophage/-2025-05-01 19:42:02
mammaPrintData/-2025-05-01 19:42:02
maqcExpression4plex/-2025-05-01 19:42:02
marinerData/-2025-05-01 19:42:02
mcsurvdata/-2025-05-01 19:42:02
metaMSdata/-2025-05-01 19:42:02
methylclockData/-2025-05-01 19:42:02
miRNATarget/-2025-05-01 19:42:02
miRcompData/-2025-05-01 19:42:02
microRNAome/-2025-05-01 19:42:02
microbiomeDataSets/-2025-05-01 19:42:02
minfiData/-2025-05-01 19:42:02
minfiDataEPIC/-2025-05-01 19:42:02
minionSummaryData/-2025-05-01 19:42:02
mosaicsExample/-2025-05-01 19:42:02
mouse4302barcodevecs/-2025-05-01 19:42:02
msPurityData/-2025-05-01 19:42:02
msd16s/-2025-05-01 19:42:02
msdata/-2025-05-01 19:42:02
msigdb/-2025-05-01 19:42:02
msqc1/-2025-05-01 19:42:02
mtbls2/-2025-05-01 19:42:02
muSpaData/-2025-05-01 19:42:02
muleaData/-2025-05-01 19:42:02
multiWGCNAdata/-2025-05-01 19:42:02
muscData/-2025-05-01 19:42:02
mvoutData/-2025-05-01 19:42:02
nanotubes/-2025-05-01 19:42:02
nullrangesData/-2025-05-01 19:42:02
oct4/-2025-05-01 19:42:02
octad.db/-2025-05-01 19:42:02
optimalFlowData/-2025-05-01 19:42:02
orthosData/-2025-05-01 19:42:02
pRolocdata/-2025-05-01 19:42:02
parathyroidSE/-2025-04-08 19:35:04
pasilla/-2025-05-01 19:42:02
pasillaBamSubset/-2025-05-01 19:42:02
pd.atdschip.tiling/-2025-05-01 19:42:02
pepDat/-2025-05-01 19:42:02
plotgardenerData/-2025-05-01 19:42:02
prebsdata/-2025-05-01 19:42:02
preciseTADhub/-2025-05-01 19:42:02
prostateCancerCamcap/-2025-05-01 19:42:02
prostateCancerGrasso/-2025-05-01 19:42:02
prostateCancerStockholm/-2025-05-01 19:42:02
prostateCancerTaylor/-2025-05-01 19:42:02
prostateCancerVarambally/-2025-05-01 19:42:02
ptairData/-2025-05-01 19:42:02
pumadata/-2025-05-01 19:42:02
qPLEXdata/-2025-05-01 19:42:02
rRDPData/-2025-05-01 19:42:02
raerdata/-2025-05-01 19:42:02
rcellminerData/-2025-05-01 19:42:02
rheumaticConditionWOLLBOLD/-2025-05-01 19:42:02
sampleClassifierData/-2025-05-01 19:42:03
scATAC.Explorer/-2025-05-01 19:42:03
scMultiome/-2025-05-01 19:42:03
scRNAseq/-2025-05-01 19:42:03
scTHI.data/-2025-05-01 19:42:03
scaeData/-2025-05-01 19:42:03
scanMiRData/-2025-05-01 19:42:03
scpdata/-2025-05-01 19:42:03
seq2pathway.data/-2025-05-01 19:42:03
seqc/-2025-05-01 19:42:03
serumStimulation/-2025-05-01 19:42:03
sesameData/-2025-05-01 19:42:03
seventyGeneData/-2025-05-01 19:42:03
shinyMethylData/-2025-05-01 19:42:03
signatureSearchData/-2025-05-01 19:42:03
simpIntLists/-2025-05-01 19:42:03
smokingMouse/-2025-05-01 19:42:03
spatialDmelxsim/-2025-05-01 19:42:03
spatialLIBD/-2025-05-01 19:42:03
spqnData/-2025-05-01 19:42:03
stemHypoxia/-2025-05-01 19:42:03
synapterdata/-2025-04-08 19:35:04
systemPipeRdata/-2025-05-01 19:42:03
tartare/-2025-05-01 19:42:03
timecoursedata/-2025-05-01 19:42:03
tinesath1cdf/-2025-05-01 19:42:03
tinesath1probe/-2025-05-01 19:42:03
tissueTreg/-2025-05-01 19:42:03
tofsimsData/-2025-05-01 19:42:03
topdownrdata/-2025-05-01 19:42:03
tuberculosis/-2025-05-01 19:42:03
tweeDEseqCountData/-2025-05-01 19:42:03
tximportData/-2025-05-01 19:42:03
vulcandata/-2025-05-01 19:42:03
xcoredata/-2025-05-01 19:42:03
yeastCC/-2025-05-01 19:42:03
yeastExpData/-2025-05-01 19:42:03
yeastGSData/-2025-05-01 19:42:03
yeastNagalakshmi/-2025-05-01 19:42:03
yeastRNASeq/-2025-05-01 19:42:03
zebrafishRNASeq/-2025-05-01 19:42:03
120px-Blue_Light_Icon.svg.png7.1 KiB2025-05-01 19:42:01
120px-Green_Light_Icon.svg.png7.1 KiB2025-05-01 19:42:01
120px-Red_Light_Icon.svg.png7.0 KiB2025-05-01 19:42:01
BUILD_STATUS_DB.txt46.9 KiB2025-05-01 19:42:01
DEVEL3b.png2.6 KiB2025-05-01 19:42:01
PROPAGATION_STATUS_DB.txt31.2 KiB2025-05-01 19:42:01
Renviron.bioc3.3 KiB2025-05-01 19:42:01
index.html594.7 KiB2025-05-01 19:42:03
meat-index.dcf46.1 KiB2025-05-01 19:42:01
nebbiolo2-NodeInfo.html7.0 KiB2025-05-01 19:42:01
nebbiolo2-R-instpkgs.html519.4 KiB2025-05-01 19:42:01
report.css11.0 KiB2025-05-01 19:42:01
report.js6.0 KiB2025-05-01 19:42:01
report.tgz1.1 MiB2025-05-01 19:42:05
skipped-index.dcf0 B2025-05-01 19:42:01