Back to Build/check report for BioC 3.21 annotations
ABCDEFGHIJKLMNOPQ[R]STUVWXYZ

This page was generated on 2025-02-05 08:30 -0500 (Wed, 05 Feb 2025).

HostnameOSArch (*)R versionInstalled pkgs
nebbiolo1Linux (Ubuntu 24.04.1 LTS)x86_64R Under development (unstable) (2025-01-20 r87609) -- "Unsuffered Consequences" 4717
Click on any hostname to see more info about the system (e.g. compilers)      (*) as reported by 'uname -p', except on Windows and Mac OS X

Package 39/47HostnameOS / ArchINSTALLBUILDCHECK
rat2302frmavecs 0.99.11  (landing page)
Sylvain Gubian
Snapshot Date: 2025-02-05 06:00 -0500 (Wed, 05 Feb 2025)
git_url: https://git.bioconductor.org/packages/rat2302frmavecs
git_branch: devel
git_last_commit: 68b05d4
git_last_commit_date: 2019-02-07 03:01:49 -0500 (Thu, 07 Feb 2019)
nebbiolo1Linux (Ubuntu 24.04.1 LTS) / x86_64  ERROR    ERROR  skipped


BUILD results for rat2302frmavecs on nebbiolo1

To the developers/maintainers of the rat2302frmavecs package:
- Use the following Renviron settings to reproduce errors and warnings.
- If 'R CMD check' started to fail recently on the Linux builder(s) over a missing dependency, add the missing dependency to 'Suggests:' in your DESCRIPTION file. See Renviron.bioc for more information.

raw results


Summary

Package: rat2302frmavecs
Version: 0.99.11
Command: /home/biocbuild/bbs-3.21-bioc/R/bin/R CMD build --keep-empty-dirs --no-resave-data rat2302frmavecs
StartedAt: 2025-02-05 06:32:15 -0500 (Wed, 05 Feb 2025)
EndedAt: 2025-02-05 06:32:16 -0500 (Wed, 05 Feb 2025)
EllapsedTime: 1.6 seconds
RetCode: 1
Status:   ERROR  
PackageFile: None
PackageFileSize: NA

Command output

##############################################################################
##############################################################################
###
### Running command:
###
###   /home/biocbuild/bbs-3.21-bioc/R/bin/R CMD build --keep-empty-dirs --no-resave-data rat2302frmavecs
###
##############################################################################
##############################################################################


* checking for file ‘rat2302frmavecs/DESCRIPTION’ ... OK
* preparing ‘rat2302frmavecs’:
* checking DESCRIPTION meta-information ... OK
* installing the package to build vignettes
      -----------------------------------
ERROR: dependency ‘frma’ is not available for package ‘rat2302frmavecs’
Perhaps try a variation of:
install.packages('frma')
* removing ‘/tmp/Rtmp8uls0c/Rinst257443296813cc/rat2302frmavecs’
      -----------------------------------
ERROR: package installation failed