This page was generated on 2025-10-22 06:45 -0400 (Wed, 22 Oct 2025).
| |
| See this page for all the Bioconductor builds and their schedule. |
| Hostname | OS | Arch (*) | R version | Installed pkgs |
|---|---|---|---|---|
| nebbiolo2 | Linux (Ubuntu 24.04.3 LTS) | x86_64 | 4.5.1 Patched (2025-08-23 r88802) -- "Great Square Root" | 4891 |
| Click on any hostname to see more info about the system (e.g. compilers) (*) as reported by 'uname -p', except on Windows and Mac OS X | ||||
A | |||||||||
| QUICK STATS | OS / Arch | INSTALL | BUILD | CHECK | |||||||||||||||||||||||||||||||
| nebbiolo2 | Linux (Ubuntu 24.04.3 LTS) / x86_64 |
|
|
| |||||||||||||||||||||||||||||||
|
| ||||||||||||||||||||||||||||||||||
| Package | Maintainer | INSTALL | BUILD | CHECK | |||||||||||||||||||||||||||||||
| 1/49 | AHCytoBands 0.99.1 (landing page) | Michael Lawrence | OK | OK | OK | ||||||||||||||||||||||||||||||
| 2/49 | AHEnsDbs 1.7.0 (landing page) | Johannes Rainer | OK | OK | OK | ||||||||||||||||||||||||||||||
| 3/49 | AHLRBaseDbs 1.8.0 (landing page) | Koki Tsuyuzaki | OK | OK | OK | ||||||||||||||||||||||||||||||
| 4/49 | AHMeSHDbs 1.8.0 (landing page) | Koki Tsuyuzaki | OK | OK | OK | ||||||||||||||||||||||||||||||
| 5/49 | AHPathbankDbs 0.99.5 (landing page) | Kozo Nishida | OK | OK | OK | ||||||||||||||||||||||||||||||
| 6/49 | AHPubMedDbs 1.8.0 (landing page) | Koki Tsuyuzaki | OK | OK | OK | ||||||||||||||||||||||||||||||
| 7/49 | AHWikipathwaysDbs 0.99.4 (landing page) | Kozo Nishida | OK | OK | OK | ||||||||||||||||||||||||||||||
| 8/49 | AlphaMissense.v2023.hg19 3.18.2 (landing page) | Robert Castelo | OK | OK | OK | ||||||||||||||||||||||||||||||
| 9/49 | AlphaMissense.v2023.hg38 3.18.2 (landing page) | Robert Castelo | OK | OK | OK | ||||||||||||||||||||||||||||||
| 10/49 | alternativeSplicingEvents.hg19 1.1.0 (landing page) | Nuno Agostinho | OK | OK | OK | ||||||||||||||||||||||||||||||
| 11/49 | alternativeSplicingEvents.hg38 1.1.0 (landing page) | Nuno Agostinho | OK | OK | OK | ||||||||||||||||||||||||||||||
|
| ||||||||||||||||||||||||||||||||||
| Package | Maintainer | INSTALL | BUILD | CHECK | |||||||||||||||||||||||||||||||
| 12/49 | BioMartGOGeneSets 0.99.11 (landing page) | Zuguang Gu | OK | OK | OK | ||||||||||||||||||||||||||||||
|
| ||||||||||||||||||||||||||||||||||
| Package | Maintainer | INSTALL | BUILD | CHECK | |||||||||||||||||||||||||||||||
| 13/49 | cadd.v1.6.hg19 3.18.1 (landing page) | Robert Castelo | OK | OK | OK | ||||||||||||||||||||||||||||||
| 14/49 | cadd.v1.6.hg38 3.18.1 (landing page) | Robert Castelo | OK | OK | OK | ||||||||||||||||||||||||||||||
| 15/49 | CENTREannotation 0.99.1 (landing page) | Sara Lopez Ruiz de Vargas | OK | OK | OK | ||||||||||||||||||||||||||||||
| 16/49 | chromhmmData 0.99.2 (landing page) | Mahmoud Ahmed | OK | OK | OK | ||||||||||||||||||||||||||||||
| 17/49 | CTCF 0.99.12 (landing page) | Mikhail Dozmorov | OK | OK | OK | ||||||||||||||||||||||||||||||
|
| ||||||||||||||||||||||||||||||||||
| Package | Maintainer | INSTALL | BUILD | CHECK | |||||||||||||||||||||||||||||||
| 18/49 | ENCODExplorerData 0.99.5 (landing page) | Eric Fournier | OK | OK | OK | ||||||||||||||||||||||||||||||
| 19/49 | EPICv2manifest 0.99.7 (landing page) | Tim Peters | OK | OK | OK | ||||||||||||||||||||||||||||||
| 20/49 | EpiTxDb.Hs.hg38 0.99.7 (landing page) | Felix G.M. Ernst | OK | OK | OK | ||||||||||||||||||||||||||||||
| 21/49 | EpiTxDb.Mm.mm10 0.99.6 (landing page) | Felix G.M. Ernst | OK | OK | OK | ||||||||||||||||||||||||||||||
| 22/49 | EpiTxDb.Sc.sacCer3 0.99.5 (landing page) | Felix G.M. Ernst | OK | OK | OK | ||||||||||||||||||||||||||||||
| 23/49 | EuPathDB 1.0.1 (landing page) | Keith Hughitt | OK | ERROR | skipped | ||||||||||||||||||||||||||||||
| 24/49 | excluderanges 0.99.10 (landing page) | Mikhail Dozmorov | OK | OK | OK | ||||||||||||||||||||||||||||||
|
| ||||||||||||||||||||||||||||||||||
| Package | Maintainer | INSTALL | BUILD | CHECK | |||||||||||||||||||||||||||||||
| 25/49 | geneplast.data 0.99.9 (landing page) | Leonardo Campos | OK | OK | OK | ||||||||||||||||||||||||||||||
| 26/49 | GeneSummary 0.99.6 (landing page) | Zuguang Gu | OK | OK | OK | ||||||||||||||||||||||||||||||
| 27/49 | GenomicState 0.99.17 (landing page) | Leonardo Collado-Torres | OK | OK | OK | ||||||||||||||||||||||||||||||
| 28/49 | gwascatData 0.99.6 (landing page) | Sara Stankiewicz | OK | OK | ERROR | ||||||||||||||||||||||||||||||
|
| ||||||||||||||||||||||||||||||||||
| Package | Maintainer | INSTALL | BUILD | CHECK | |||||||||||||||||||||||||||||||
| 29/49 | hpAnnot 1.1.1 (landing page) | Marta R. Hidalgo | OK | OK | OK | ||||||||||||||||||||||||||||||
| 30/49 | HPO.db 0.99.2 (landing page) | Erqiang Hu | ERROR | ERROR | skipped | ||||||||||||||||||||||||||||||
|
| ||||||||||||||||||||||||||||||||||
| Package | Maintainer | INSTALL | BUILD | CHECK | |||||||||||||||||||||||||||||||
| 31/49 | JASPAR2020 0.99.8 (landing page) | Damir Baranasic | OK | OK | ERROR | ||||||||||||||||||||||||||||||
| 32/49 | JASPAR2022 0.99.8 (landing page) | Damir Baranasic | OK | OK | OK | ||||||||||||||||||||||||||||||
| 33/49 | JASPAR2024 0.99.7 (landing page) | Damir Baranasic | OK | OK | OK | ||||||||||||||||||||||||||||||
|
| ||||||||||||||||||||||||||||||||||
| Package | Maintainer | INSTALL | BUILD | CHECK | |||||||||||||||||||||||||||||||
| 34/49 | metaboliteIDmapping 0.99.11 (landing page) | Sebastian Canzler | OK | OK | OK | ||||||||||||||||||||||||||||||
| 35/49 | MPO.db 0.99.8 (landing page) | Erqiang Hu | OK | OK | OK | ||||||||||||||||||||||||||||||
|
| ||||||||||||||||||||||||||||||||||
| Package | Maintainer | INSTALL | BUILD | CHECK | |||||||||||||||||||||||||||||||
| 36/49 | ontoProcData 0.99.9904 (landing page) | Sara Stankiewicz | OK | OK | ERROR | ||||||||||||||||||||||||||||||
| 37/49 | org.Hbacteriophora.eg.db 0.99.1 (landing page) | Kabilan S | OK | OK | OK | ||||||||||||||||||||||||||||||
| 38/49 | org.Mxanthus.db 1.0.27 (landing page) | Eduardo Illueca Fernández | OK | OK | WARNINGS | ||||||||||||||||||||||||||||||
|
| ||||||||||||||||||||||||||||||||||
| Package | Maintainer | INSTALL | BUILD | CHECK | |||||||||||||||||||||||||||||||
| 39/49 | PANTHER.db 1.0.12 (landing page) | Julius Muller | OK | OK | OK | ||||||||||||||||||||||||||||||
| 40/49 | phastCons30way.UCSC.hg38 3.13.1 (landing page) | Robert Castelo | OK | OK | OK | ||||||||||||||||||||||||||||||
|
| ||||||||||||||||||||||||||||||||||
| Package | Maintainer | INSTALL | BUILD | CHECK | |||||||||||||||||||||||||||||||
| 41/49 | rat2302frmavecs 0.99.11 (landing page) | Sylvain Gubian | OK | OK | OK | ||||||||||||||||||||||||||||||
| 42/49 | rGenomeTracksData 0.99.0 (landing page) | Omar Elashkar | OK | OK | OK | ||||||||||||||||||||||||||||||
|
| ||||||||||||||||||||||||||||||||||
| Package | Maintainer | INSTALL | BUILD | CHECK | |||||||||||||||||||||||||||||||
| 43/49 | scAnnotatR.models 0.99.10 (landing page) | Johannes Griss | OK | OK | OK | ||||||||||||||||||||||||||||||
| 44/49 | SomaScan.db 0.99.10 (landing page) | Amanda Hiser | OK | OK | OK | ||||||||||||||||||||||||||||||
| 45/49 | synaptome.data 0.99.6 (landing page) | Oksana Sorokina | OK | OK | OK | ||||||||||||||||||||||||||||||
| 46/49 | synaptome.db 0.99.17 (landing page) | Oksana Sorokina | OK | OK | WARNINGS | ||||||||||||||||||||||||||||||
|
| ||||||||||||||||||||||||||||||||||
| Package | Maintainer | INSTALL | BUILD | CHECK | |||||||||||||||||||||||||||||||
| 47/49 | TENET.AnnotationHub 1.0.0 (landing page) | Rhie Lab at the University of Southern California | OK | OK | OK | ||||||||||||||||||||||||||||||
|
| ||||||||||||||||||||||||||||||||||
| Package | Maintainer | INSTALL | BUILD | CHECK | |||||||||||||||||||||||||||||||
| 48/49 | UCSCRepeatMasker 3.17.3 (landing page) | Robert Castelo | OK | OK | ERROR | ||||||||||||||||||||||||||||||
| 49/49 | UniProtKeywords 0.99.7 (landing page) | Zuguang Gu | OK | OK | OK | ||||||||||||||||||||||||||||||