| Back to Build/check report for BioC 3.22 annotations |
|
This page was generated on 2025-10-22 06:45 -0400 (Wed, 22 Oct 2025).
| Hostname | OS | Arch (*) | R version | Installed pkgs |
|---|---|---|---|---|
| nebbiolo2 | Linux (Ubuntu 24.04.3 LTS) | x86_64 | 4.5.1 Patched (2025-08-23 r88802) -- "Great Square Root" | 4891 |
| Click on any hostname to see more info about the system (e.g. compilers) (*) as reported by 'uname -p', except on Windows and Mac OS X | ||||
| Package 25/49 | Hostname | OS / Arch | INSTALL | BUILD | CHECK | ||||||||
| geneplast.data 0.99.9 (landing page) Leonardo Campos
| nebbiolo2 | Linux (Ubuntu 24.04.3 LTS) / x86_64 | OK | OK | OK | ||||||||
|
To the developers/maintainers of the geneplast.data package: - Use the following Renviron settings to reproduce errors and warnings. - If 'R CMD check' started to fail recently on the Linux builder(s) over a missing dependency, add the missing dependency to 'Suggests:' in your DESCRIPTION file. See Renviron.bioc for more information. |
| Package: geneplast.data |
| Version: 0.99.9 |
| Command: /home/biocbuild/bbs-3.22-bioc/R/bin/R CMD check --install=check:geneplast.data.install-out.txt --library=/home/biocbuild/bbs-3.22-bioc/R/site-library --timings geneplast.data_0.99.9.tar.gz |
| StartedAt: 2025-10-22 06:00:22 -0400 (Wed, 22 Oct 2025) |
| EndedAt: 2025-10-22 06:01:49 -0400 (Wed, 22 Oct 2025) |
| EllapsedTime: 87.0 seconds |
| RetCode: 0 |
| Status: OK |
| CheckDir: geneplast.data.Rcheck |
| Warnings: 0 |
##############################################################################
##############################################################################
###
### Running command:
###
### /home/biocbuild/bbs-3.22-bioc/R/bin/R CMD check --install=check:geneplast.data.install-out.txt --library=/home/biocbuild/bbs-3.22-bioc/R/site-library --timings geneplast.data_0.99.9.tar.gz
###
##############################################################################
##############################################################################
* using log directory ‘/home/biocbuild/bbs-3.22-data-annotation/meat/geneplast.data.Rcheck’
* using R version 4.5.1 Patched (2025-08-23 r88802)
* using platform: x86_64-pc-linux-gnu
* R was compiled by
gcc (Ubuntu 13.3.0-6ubuntu2~24.04) 13.3.0
GNU Fortran (Ubuntu 13.3.0-6ubuntu2~24.04) 13.3.0
* running under: Ubuntu 24.04.3 LTS
* using session charset: UTF-8
* checking for file ‘geneplast.data/DESCRIPTION’ ... OK
* this is package ‘geneplast.data’ version ‘0.99.9’
* package encoding: UTF-8
* checking package namespace information ... OK
* checking package dependencies ... OK
* checking if this is a source package ... OK
* checking if there is a namespace ... OK
* checking for hidden files and directories ... OK
* checking for portable file names ... OK
* checking for sufficient/correct file permissions ... OK
* checking whether package ‘geneplast.data’ can be installed ... OK
* checking installed package size ... OK
* checking package directory ... OK
* checking ‘build’ directory ... OK
* checking DESCRIPTION meta-information ... NOTE
Package listed in more than one of Depends, Imports, Suggests, Enhances:
‘geneplast’
A package should be listed in only one of these fields.
* checking top-level files ... OK
* checking for left-over files ... OK
* checking index information ... OK
* checking package subdirectories ... OK
* checking code files for non-ASCII characters ... OK
* checking R files for syntax errors ... OK
* checking whether the package can be loaded ... OK
* checking whether the package can be loaded with stated dependencies ... OK
* checking whether the package can be unloaded cleanly ... OK
* checking whether the namespace can be loaded with stated dependencies ... OK
* checking whether the namespace can be unloaded cleanly ... OK
* checking loading without being on the library search path ... OK
* checking dependencies in R code ... NOTE
Namespace in Imports field not imported from: ‘geneplast’
All declared Imports should be used.
* checking S3 generic/method consistency ... OK
* checking replacement functions ... OK
* checking foreign function calls ... OK
* checking R code for possible problems ... NOTE
download_and_extract: no visible global function definition for ‘untar’
make.cogdata: no visible binding for global variable ‘protein_id’
make.phyloTree: no visible binding for global variable ‘new_taxid’
make.phyloTree: no visible binding for global variable ‘taxid’
make.phyloTree: no visible binding for global variable ‘type’
make.phyloTree: no visible binding for global variable ‘name’
make.phyloTree: no visible binding for global variable ‘ncbi_name’
make.phyloTree: no visible global function definition for ‘setNames’
make.phyloTree: no visible binding for global variable ‘from’
make.phyloTree: no visible binding for global variable ‘to’
Undefined global functions or variables:
from name ncbi_name new_taxid protein_id setNames taxid to type untar
Consider adding
importFrom("stats", "setNames")
importFrom("utils", "untar")
to your NAMESPACE file.
* checking Rd files ... OK
* checking Rd metadata ... OK
* checking Rd cross-references ... OK
* checking for missing documentation entries ... OK
* checking for code/documentation mismatches ... OK
* checking Rd \usage sections ... OK
* checking Rd contents ... OK
* checking for unstated dependencies in examples ... OK
* checking files in ‘vignettes’ ... NOTE
Files named as vignettes but with no recognized vignette engine:
‘vignettes/hybrid_tree.Rmd’
‘vignettes/mock_hybrid_tree.Rmd’
(Is a VignetteBuilder field missing?)
* checking examples ... NONE
* checking for unstated dependencies in vignettes ... OK
* checking package vignettes ... OK
* checking re-building of vignette outputs ... OK
* checking PDF version of manual ... OK
* DONE
Status: 4 NOTEs
See
‘/home/biocbuild/bbs-3.22-data-annotation/meat/geneplast.data.Rcheck/00check.log’
for details.
geneplast.data.Rcheck/00install.out
############################################################################## ############################################################################## ### ### Running command: ### ### /home/biocbuild/bbs-3.22-bioc/R/bin/R CMD INSTALL geneplast.data ### ############################################################################## ############################################################################## * installing to library ‘/home/biocbuild/bbs-3.22-bioc/R/site-library’ * installing *source* package ‘geneplast.data’ ... ** this is package ‘geneplast.data’ version ‘0.99.9’ ** using staged installation ** R ** inst ** byte-compile and prepare package for lazy loading ** help *** installing help indices ** building package indices ** installing vignettes ** testing if installed package can be loaded from temporary location ** testing if installed package can be loaded from final location ** testing if installed package keeps a record of temporary installation path * DONE (geneplast.data)